BEGIN:VCALENDAR
VERSION:2.0
PRODID:-//UFR Humanités et sciences sociales (HSS) - Université de Caen Normandie - ECPv6.15.18//NONSGML v1.0//EN
CALSCALE:GREGORIAN
METHOD:PUBLISH
X-WR-CALNAME:UFR Humanités et sciences sociales (HSS) - Université de Caen Normandie
X-ORIGINAL-URL:https://ufr-hss.unicaen.fr
X-WR-CALDESC:Évènements pour UFR Humanités et sciences sociales (HSS) - Université de Caen Normandie
REFRESH-INTERVAL;VALUE=DURATION:PT1H
X-Robots-Tag:noindex
X-PUBLISHED-TTL:PT1H
BEGIN:VTIMEZONE
TZID:Europe/Paris
BEGIN:DAYLIGHT
TZOFFSETFROM:+0100
TZOFFSETTO:+0200
TZNAME:CEST
DTSTART:20230326T010000
END:DAYLIGHT
BEGIN:STANDARD
TZOFFSETFROM:+0200
TZOFFSETTO:+0100
TZNAME:CET
DTSTART:20231029T010000
END:STANDARD
BEGIN:DAYLIGHT
TZOFFSETFROM:+0100
TZOFFSETTO:+0200
TZNAME:CEST
DTSTART:20240331T010000
END:DAYLIGHT
BEGIN:STANDARD
TZOFFSETFROM:+0200
TZOFFSETTO:+0100
TZNAME:CET
DTSTART:20241027T010000
END:STANDARD
BEGIN:DAYLIGHT
TZOFFSETFROM:+0100
TZOFFSETTO:+0200
TZNAME:CEST
DTSTART:20250330T010000
END:DAYLIGHT
BEGIN:STANDARD
TZOFFSETFROM:+0200
TZOFFSETTO:+0100
TZNAME:CET
DTSTART:20251026T010000
END:STANDARD
BEGIN:DAYLIGHT
TZOFFSETFROM:+0100
TZOFFSETTO:+0200
TZNAME:CEST
DTSTART:20260329T010000
END:DAYLIGHT
BEGIN:STANDARD
TZOFFSETFROM:+0200
TZOFFSETTO:+0100
TZNAME:CET
DTSTART:20261025T010000
END:STANDARD
END:VTIMEZONE
BEGIN:VEVENT
DTSTART;TZID=Europe/Paris:20240204T000000
DTEND;TZID=Europe/Paris:20250226T235959
DTSTAMP:20260423T160058
CREATED:20250211T084757Z
LAST-MODIFIED:20250211T084757Z
UID:54895-1707004800-1740614399@ufr-hss.unicaen.fr
SUMMARY:Histoire de l’université et de l’enseignement supérieur à Caen (1432-2025)
DESCRIPTION:L’exposition “Histoire de l’université et de l’enseignement supérieur à Caen (1432-2025)” se tiendra du 4 au 26 février 2025\, à l’Église du Vieux Saint-Sauveur\, à Caen. \n\n\n\nL’exposition\n\n\n\nCette exposition\, qui présente des documents d’archives\, des plans de Caen (1575-2025) et de nombreuses photos\, retrace une histoire vieille de 600 ans. Constituée de 30 panneaux\, l’exposition débute son itinérance dans le berceau de l’ancienne université\, au Vieux Saint-Sauveur.En 1432\, les Anglais qui occupent Caen depuis 1417 y fondent une université comprenant les cinq facultés : droit civil\, droit canon\, puis médecine\, théologie et arts. Jusqu’à sa totale destruction en 1944\, l’université est située dans le quartier Saint-Sauveur\, véritable “quartier latin caennais”. Après 1944\, l’université est reconstruite au nord du château. Progressivement\, de nombreux autres sites d’enseignement et de recherche voient le jour dont ceux du plateau nord de Caen. \n\n\n\nL’exposition “Histoire de l’université et de l’enseignement supérieur à Caen (1432-2025)” est un projet labellisé Millénaire Caen 2025. \n\n\n\n\nEntrée libre et gratuite\, tous les jours : 11h-13h | 16h-19h
URL:https://ufr-hss.unicaen.fr/evenement/histoire-de-luniversite-et-de-lenseignement-superieur-a-caen-1432-2025/
LOCATION:Caen · Église du Vieux Saint-Sauveur\, Église du Vieux Saint-Sauveur\, 13 Rue Saint-Sauveur\, Caen\, 14000\, France
CATEGORIES:Exposition
ATTACH;FMTTYPE=image/jpeg:https://ufr-hss.unicaen.fr/wp-content/uploads/sites/32/2025/02/UNICAEN_Bandeau_Campus1.jpg
END:VEVENT
BEGIN:VEVENT
DTSTART;TZID=Europe/Paris:20240411T000000
DTEND;TZID=Europe/Paris:20240412T235959
DTSTAMP:20260423T160058
CREATED:20240322T082422Z
LAST-MODIFIED:20250514T094646Z
UID:51256-1712793600-1712966399@ufr-hss.unicaen.fr
SUMMARY:De la pêche à la table
DESCRIPTION:Colloque international organisé par le Centre Michel de Boüard – CRAHAM\, dans le cadre des programmes Ichtya et Foodimpact\, les 11 et 12 avril 2024\, dans l’amphithéâtre de la MRSH. \n\n\n\nDa la pêche à table. Manger du poisson en occident au Moyen Âge et à la Renaissance\n\n\n\nResponsables scientifiques : Victor Barabino (CRAHAM\, université Clermont Auvergne)\, Thierry Buquet (CRAHAM\, CNRS)\, Alban Gautier et Brigitte Gauvin (CRAHAM\, Unicaen)\, Valentin Miclon (CRAHAM\, ANR) \n\n\n\nDans le cadre du programme de recherche FOODIMPACT (The Impact of Food Culture in Medieval Towns)\, le colloque\, organisé dans le cadre du programme Ichtya du Craham\, réunira des spécialistes de plusieurs disciplines : archéologie\, archéozoologie\, étude des isotopes\, histoire médiévale\, langues et littératures médiévales\, histoire de l’art autour du thème de la consommation du poisson. Les communications aborderont tous les aspects de l’acquisition\, de la préparation et de la consommation du poisson : structures et pratiques de pêche\, d’élevage et de conservation\, transport et échanges\, cuisine et nourriture\, représentations culturelles et symboliques liées à la consommation du poisson. \n\n\n\n\n\nEn savoir plus\n\n\n\n\nProgramme sur le site du colloqueToutes les actualités du Centre Michel de Boûard – CRAHAM : CRAHAM – Actualités
URL:https://ufr-hss.unicaen.fr/evenement/de-la-peche-a-la-table/
LOCATION:Caen · Campus 1 · Bâtiment F · Maison de la recherche en sciences humaines (MRSH) · Amphi\, Campus 1\, Maison de la recherche en sciences humaines (MRSH)\, 1 Esplanade de la Paix\, Caen\, 14000\, France
CATEGORIES:Congrès - Colloque
ATTACH;FMTTYPE=image/png:https://ufr-hss.unicaen.fr/wp-content/uploads/sites/32/2024/03/UNICAEN_UFR-HSS_Bandeau_Colloque_De-la-peche-a-table_11-et-12-04-2024.png
END:VEVENT
BEGIN:VEVENT
DTSTART;TZID=Europe/Paris:20240412T110000
DTEND;TZID=Europe/Paris:20240412T173000
DTSTAMP:20260423T160058
CREATED:20240405T140830Z
LAST-MODIFIED:20240527T133807Z
UID:51697-1712919600-1712943000@ufr-hss.unicaen.fr
SUMMARY:Écrire l’histoire du théâtre\, « feuilleter » l’archive
DESCRIPTION:Journée d’études organisée par le laboratoire LASLAR · UR 4256\, vendredi 12 avril 2024\, de 11h à 17h30\, dans la salle du conseil\, bâtiment B (matin) et salle du belvédère\, bâtiment D (après-midi). \n\n\n\nProgramme\n\n\n\nResponsables scientifiques : Romain Jobez\, Stéphanie Loncle\, Maëly Lequertier et Manon Queudeville (LASLAR\, université de Caen Normandie) \n\n\n\nSi l’on s’est récemment posé la question des modalités et des finalités de l’histoire du théâtre pour en observer la mise en récit 1\, le travail d’écriture à proprement parler du chercheur semble être passé au second plan des analyses se voulant surplombantes.À partir d’études de cas\, la journée d’étude se propose d’observer comment se constitue le « texte feuilleté » de l’historien du théâtre. Michel de Certeau emploie cette expression dans L’écriture de l’histoire pour décrire « le discours qui ‟comprend” son autre – la chronique\, l’archive\, le document » et « dont une moitié\, continue\, s’appuie sur l’autre\, disséminée\, et se donne ainsi le pouvoir de dire ce que l’autre signifie sans le savoir. » 2 On s’intéressera donc au plus près à ce travail de citation\, le feuilletage qu’il implique en exploitant\, par exemple\, des fonds d’archives. Il s’agira en fin de compte de dégager différentes méthodes d’écriture de l’histoire du théâtre et d’en saisir la portée historiographique. \n\n\n\n\nRaconter l’histoire du théâtre : comment ? pourquoi ? Sorbonne Université\, 7 au 9 décembre 2022.\n\n\n\nMichel de Certeau\, L’écriture de l’histoire\, Paris\, 1975.\n\n\n\n\n\n\nEn savoir plus\n\n\n\n\nToutes les actualités du laboratoire LASLAR : LASLAR – Agenda
URL:https://ufr-hss.unicaen.fr/evenement/ecrire-lhistoire-du-theatre-feuilleter-larchive/
LOCATION:Caen · Campus 1 · Bâtiment B · Salle du conseil · B1-401\, Bâtiment B\, Esplanade de la Paix\, Caen\, 14000\, France
CATEGORIES:Journée d'étude
ATTACH;FMTTYPE=image/png:https://ufr-hss.unicaen.fr/wp-content/uploads/sites/32/2024/04/UNICAEN_LASLAR_Bandeau_JE_Feuilleter-larchive_12-04-2024.png
END:VEVENT
END:VCALENDAR