BEGIN:VCALENDAR
VERSION:2.0
PRODID:-//UFR Humanités et sciences sociales (HSS) - Université de Caen Normandie - ECPv6.15.18//NONSGML v1.0//EN
CALSCALE:GREGORIAN
METHOD:PUBLISH
X-WR-CALNAME:UFR Humanités et sciences sociales (HSS) - Université de Caen Normandie
X-ORIGINAL-URL:https://ufr-hss.unicaen.fr
X-WR-CALDESC:Évènements pour UFR Humanités et sciences sociales (HSS) - Université de Caen Normandie
REFRESH-INTERVAL;VALUE=DURATION:PT1H
X-Robots-Tag:noindex
X-PUBLISHED-TTL:PT1H
BEGIN:VTIMEZONE
TZID:Europe/Paris
BEGIN:DAYLIGHT
TZOFFSETFROM:+0100
TZOFFSETTO:+0200
TZNAME:CEST
DTSTART:20230326T010000
END:DAYLIGHT
BEGIN:STANDARD
TZOFFSETFROM:+0200
TZOFFSETTO:+0100
TZNAME:CET
DTSTART:20231029T010000
END:STANDARD
BEGIN:DAYLIGHT
TZOFFSETFROM:+0100
TZOFFSETTO:+0200
TZNAME:CEST
DTSTART:20240331T010000
END:DAYLIGHT
BEGIN:STANDARD
TZOFFSETFROM:+0200
TZOFFSETTO:+0100
TZNAME:CET
DTSTART:20241027T010000
END:STANDARD
BEGIN:DAYLIGHT
TZOFFSETFROM:+0100
TZOFFSETTO:+0200
TZNAME:CEST
DTSTART:20250330T010000
END:DAYLIGHT
BEGIN:STANDARD
TZOFFSETFROM:+0200
TZOFFSETTO:+0100
TZNAME:CET
DTSTART:20251026T010000
END:STANDARD
BEGIN:DAYLIGHT
TZOFFSETFROM:+0100
TZOFFSETTO:+0200
TZNAME:CEST
DTSTART:20260329T010000
END:DAYLIGHT
BEGIN:STANDARD
TZOFFSETFROM:+0200
TZOFFSETTO:+0100
TZNAME:CET
DTSTART:20261025T010000
END:STANDARD
END:VTIMEZONE
BEGIN:VEVENT
DTSTART;TZID=Europe/Paris:20240204T000000
DTEND;TZID=Europe/Paris:20250226T235959
DTSTAMP:20260421T211806
CREATED:20250211T084757Z
LAST-MODIFIED:20250211T084757Z
UID:54895-1707004800-1740614399@ufr-hss.unicaen.fr
SUMMARY:Histoire de l’université et de l’enseignement supérieur à Caen (1432-2025)
DESCRIPTION:L’exposition “Histoire de l’université et de l’enseignement supérieur à Caen (1432-2025)” se tiendra du 4 au 26 février 2025\, à l’Église du Vieux Saint-Sauveur\, à Caen. \n\n\n\nL’exposition\n\n\n\nCette exposition\, qui présente des documents d’archives\, des plans de Caen (1575-2025) et de nombreuses photos\, retrace une histoire vieille de 600 ans. Constituée de 30 panneaux\, l’exposition débute son itinérance dans le berceau de l’ancienne université\, au Vieux Saint-Sauveur.En 1432\, les Anglais qui occupent Caen depuis 1417 y fondent une université comprenant les cinq facultés : droit civil\, droit canon\, puis médecine\, théologie et arts. Jusqu’à sa totale destruction en 1944\, l’université est située dans le quartier Saint-Sauveur\, véritable “quartier latin caennais”. Après 1944\, l’université est reconstruite au nord du château. Progressivement\, de nombreux autres sites d’enseignement et de recherche voient le jour dont ceux du plateau nord de Caen. \n\n\n\nL’exposition “Histoire de l’université et de l’enseignement supérieur à Caen (1432-2025)” est un projet labellisé Millénaire Caen 2025. \n\n\n\n\nEntrée libre et gratuite\, tous les jours : 11h-13h | 16h-19h
URL:https://ufr-hss.unicaen.fr/evenement/histoire-de-luniversite-et-de-lenseignement-superieur-a-caen-1432-2025/
LOCATION:Caen · Église du Vieux Saint-Sauveur\, Église du Vieux Saint-Sauveur\, 13 Rue Saint-Sauveur\, Caen\, 14000\, France
CATEGORIES:Exposition
ATTACH;FMTTYPE=image/jpeg:https://ufr-hss.unicaen.fr/wp-content/uploads/sites/32/2025/02/UNICAEN_Bandeau_Campus1.jpg
END:VEVENT
BEGIN:VEVENT
DTSTART;TZID=Europe/Paris:20241009T093000
DTEND;TZID=Europe/Paris:20241009T163000
DTSTAMP:20260421T211806
CREATED:20241004T091923Z
LAST-MODIFIED:20241004T091925Z
UID:54059-1728466200-1728491400@ufr-hss.unicaen.fr
SUMMARY:Les dynamiques de transformations des professionnalités à l’épreuve des espaces et des temporalités
DESCRIPTION:Journée scientifique organisée par laboratoire CIRNEF · UR 7454\, à l’occasion de la sortie de l’ouvrage Professionnalisations et professionnalités : transformations\, espaces\, temporalités (dirigé par Richard Wittorski et Maude Hatano-Chalvidan – Éditions Octares)\, mercredi 9 octobre 2024\, de 9h30 à 16h30\, dans l’amphithéâtre de la MRSH. \n\n\n\nDiscussions autour d’un ouvrage scientifique et perspectives\n\n\n\nResponsables scientifiques : Jean-Yves Bodergat\, Matthieu Laville\, Anne-Laure Le Guern (CIRNEF · UR 7454) \n\n\n\nL’équipe du thème 2 du Centre interdisciplinaire de Recherche Normand en Éducation et Formation (CIRNEF) publie\, aux éditions Octarès\, un ouvrage sur les processus de construction des professionnalités dans les métiers de la relation. La focale étant mise sur les dynamiques de transformations des acteurs\, il s’est avéré éclairant d’identifier et d’analyser les espaces et les temporalités toujours en jeu dans leurs activités. \n\n\n\nLes enquêtes conduites dans cette perspective sur plusieurs terrains établissent que ces deux dimensions\, spatiales et temporelles\, peuvent conférer sa spécificité à telle professionnalité. Et à l’inverse\, au sein d’une même profession\, les agencements contrastés des espaces et des temporalités constituent des types de configurations qui favorisent ou entravent les transformations visées dans la formation\, requises par les mutations de l’activité ou initiées par les acteurs eux-mêmes pour infléchir leur professionnalité. \n\n\n\nDeux tables rondes seront organisées au cours de cette journée\, l’une le matin sur les espaces et les temporalités\, l’autre l’après-midi sur les transformations.Après une présentation de leurs analyses par les auteur·es de l’ouvrage\, des membres d’autres équipes du CIRNEF et d’autres laboratoires : \n\n\n\n\nferont part du traitement de ces notions/concepts dans leur propre travail ;\n\n\n\nles confronteront à l’approche proposée dans l’ouvrage ;\n\n\n\nenfin\, comme les conceptualisations proposées résultent d’une élaboration collective\, indiqueront quel rôle joue le travail en équipe dans leurs recherches.\n\n\n\n\nUn grand témoin\, Didier Demazière\, assurera la synthèse des interventions et ouvrira des perspectives. \n\n\n\n\n\nEn savoir plus\n\n\n\n\nContacts : jyves.bodergat@laposte.net\, matthieu.laville@unicaen.fr\, anne-laure.le-guern@unicaen.frToutes les actualités du laboratoire CIRNEF : CIRNEF – Calendrier
URL:https://ufr-hss.unicaen.fr/evenement/les-dynamiques-de-transformations-des-professionnalites-a-lepreuve-des-espaces-et-des-temporalites/
LOCATION:Caen · Campus 1 · Bâtiment F · Maison de la recherche en sciences humaines (MRSH) · Amphi\, Campus 1\, Maison de la recherche en sciences humaines (MRSH)\, 1 Esplanade de la Paix\, Caen\, 14000\, France
CATEGORIES:Journée d'étude
ATTACH;FMTTYPE=image/png:https://ufr-hss.unicaen.fr/wp-content/uploads/sites/32/2024/10/UNICAEN_CIRNEF_Bandeau_Journee-scientifique_09-10-2024.png
END:VEVENT
BEGIN:VEVENT
DTSTART;TZID=Europe/Paris:20241009T140000
DTEND;TZID=Europe/Paris:20241009T170000
DTSTAMP:20260421T211806
CREATED:20240904T143423Z
LAST-MODIFIED:20240911T075257Z
UID:53689-1728482400-1728493200@ufr-hss.unicaen.fr
SUMMARY:PhiLiA "L'effet de réel en art" · Séance 2
DESCRIPTION:La prochaine séance de l’année 2024-2025 du séminaire de PhiLiA\, Philosophie de la Littérature et de l’Art\, aura lieu le mercredi 9 octobre 2024\, de 14h à 17h\, dans la salle SH 027 de la MRSH. \n\n\n\nResponsables scientifiques : Maud Pouradier · maud.pouradier@unicaen.fr\, Pierre Fasula · pierre.fasula@univ-paris1.fr \n\n\n\nLe séminaire\n\n\n\nSelon Gombrich\, pour qu’il y ait perception fictive d’une réalité en poésie ou en peinture\, il faut que le lecteur ou le spectateur soit astreint à un point de vue imaginaire qui détermine sa perspective sur un événement saisi sur le vif : c’est l’effet de réel fictionnel.Pour que l’effet de réel ne soit pas seulement perçu comme fictif\, il faut encore que ce qui déborde la perspective du témoin fictionnel ne soit pas entièrement connaissable\, pas même par l’auteur. La représentation nous paraît d’autant plus réaliste\, voire non fictionnelle\, que ce qui est hors cadre semble compter et rester opaque : c’est l’effet de réalisme.Avec l’image photographique puis cinématographique apparaît une troisième sorte d’effet de réel\, où la réalité semble moins représentée ou imitée qu’intégrée et montrée : c’est l’effet documentaire.Le séminaire 2024-2025 de PhiLiA souhaite s’interroger sur ces trois modalités de l’effet de réel en art\, en s’attardant sur des genres ou des œuvres ambiguës\, articulant plusieurs de ces effets. \n\n\n\nProgramme de la séance du 9 octobre\n\n\n\nJulia Beauquel (Archives Henri-Poincaré\, université de Lorraine)Action ! Jeu et réalité au cinéma : les techniques de l’Actors studio.Hugo Clémot (UR LISAA\, université Gustave Eiffel)Le genre du True crime. \n\n\n\nSéance en présentiel ou à distance : lien de connexion \n\n\n\nEn savoir plus\n\n\n\n\nConsultez le programme complet du Séminaire de PhiLiA 2024-2025Carnet Hypotheses du séminaire : blog Hypotheses – PhiLiA
URL:https://ufr-hss.unicaen.fr/evenement/philia-seance-2/
LOCATION:Caen · Campus 1 · Maison de la recherche en sciences humaines (MRSH) · Salle SH-027\, Campus 1\, Maison de la recherche en sciences humaines (MRSH)\, 1 Esplanade de la Paix\, Caen\, 14000\, France
CATEGORIES:Séminaire
ATTACH;FMTTYPE=image/png:https://ufr-hss.unicaen.fr/wp-content/uploads/sites/32/2024/09/UNICAEN_UFR-HSS_Bandeau_Seminaire-Philia_2024-2025.png
END:VEVENT
END:VCALENDAR