BEGIN:VCALENDAR
VERSION:2.0
PRODID:-//UFR Humanités et sciences sociales (HSS) - Université de Caen Normandie - ECPv6.15.18//NONSGML v1.0//EN
CALSCALE:GREGORIAN
METHOD:PUBLISH
X-ORIGINAL-URL:https://ufr-hss.unicaen.fr
X-WR-CALDESC:Évènements pour UFR Humanités et sciences sociales (HSS) - Université de Caen Normandie
REFRESH-INTERVAL;VALUE=DURATION:PT1H
X-Robots-Tag:noindex
X-PUBLISHED-TTL:PT1H
BEGIN:VTIMEZONE
TZID:Europe/Paris
BEGIN:DAYLIGHT
TZOFFSETFROM:+0100
TZOFFSETTO:+0200
TZNAME:CEST
DTSTART:20240331T010000
END:DAYLIGHT
BEGIN:STANDARD
TZOFFSETFROM:+0200
TZOFFSETTO:+0100
TZNAME:CET
DTSTART:20241027T010000
END:STANDARD
BEGIN:DAYLIGHT
TZOFFSETFROM:+0100
TZOFFSETTO:+0200
TZNAME:CEST
DTSTART:20250330T010000
END:DAYLIGHT
BEGIN:STANDARD
TZOFFSETFROM:+0200
TZOFFSETTO:+0100
TZNAME:CET
DTSTART:20251026T010000
END:STANDARD
BEGIN:DAYLIGHT
TZOFFSETFROM:+0100
TZOFFSETTO:+0200
TZNAME:CEST
DTSTART:20260329T010000
END:DAYLIGHT
BEGIN:STANDARD
TZOFFSETFROM:+0200
TZOFFSETTO:+0100
TZNAME:CET
DTSTART:20261025T010000
END:STANDARD
END:VTIMEZONE
BEGIN:VEVENT
DTSTART;TZID=Europe/Paris:20250228T140000
DTEND;TZID=Europe/Paris:20250228T170000
DTSTAMP:20260421T220532
CREATED:20241010T130629Z
LAST-MODIFIED:20241010T130630Z
UID:54148-1740751200-1740762000@ufr-hss.unicaen.fr
SUMMARY:La Fabrique des sources : textes\, objets\, sites de l’Antiquité à la Renaissance · Séance 10
DESCRIPTION:La prochaine séance du séminaire du CRAHAM\, « La Fabrique des sources : textes\, objets\, sites de l’Antiquité à la Renaissance »\, aura lieu le vendredi 28 février 2025\, de 14h à 17h\, dans l’amphithéâtre de la MRSH. Séance mutualisée avec le séminaire « Mondes nordiques et normands médiévaux ». \n\n\n\nCe séminaire couvre un champ chronologique allant de l’Antiquité grecque à la Renaissance en mettant en œuvre les sources historiques et littéraires comme les données archéologiques. Ces archives du passé seront considérées à travers des séances ponctuelles ou des cycles permettant d’aborder une question plus en détail. Dans tous les cas\, ces séances fourniront des éclairages sur la recherche en train de se faire\, d’où l’emploi du terme « fabrique » dans son titre. Certaines séances sont mutualisées avec le séminaire « Mondes nordiques et normands médiévaux » \n\n\n\nLe séminaire est ouvert aux étudiants de L3\, de Master et de Doctorat. Il est inscrit au programme des séminaires de l’ED HMPL (Histoire\, mémoire\, patrimoine\, langage). \n\n\n\nProgramme de la séance 10\n\n\n\nCoordination : Fabien Paquet (UMR CRAHAM\, UNICAEN) \n\n\n\nÉditer et traduire des textes annalistiques : défis et possibilités nouvellesEn guise d’introduction : vous avez dit annales ? Retour sur la définition des genres historiques médiévauxFabien PAQUET (UMR CRAHAM\, UNICAEN)Le projet Anni Normanni : créer un outil d’édition et de visualisation des textes annalistiques des mondes normands à l’aide du XML-TEIFabien PAQUET et Arsène GEORGES (UMR CRAHAM\, UNICAEN)La chronique de Novgorod : problèmes de traduction et apports pour la compréhension de l’histoire médiévale de l’Europe de l’Est et de ses relations avec les mondes nordiquesAleksandr MUSIN (UMR CRAHAM\, Programme PAUSE\, UNICAEN) \n\n\n\nEn savoir plus\n\n\n\n\nConsultez le programme complet du Séminaire La Fabrique des sources : textes\, objets\, sites de l’Antiquité à la Renaissance 2024-2025Toutes les actualités du Centre Michel de Boüard – CRAHAM : CRAHAM – Agenda
URL:https://ufr-hss.unicaen.fr/evenement/la-fabrique-des-sources-textes-objets-sites-de-lantiquite-a-la-renaissance-seance-10/
LOCATION:Caen · Campus 1 · Bâtiment F · Maison de la recherche en sciences humaines (MRSH) · Amphi\, Campus 1\, Maison de la recherche en sciences humaines (MRSH)\, 1 Esplanade de la Paix\, Caen\, 14000\, France
CATEGORIES:Séminaire
ATTACH;FMTTYPE=image/jpeg:https://ufr-hss.unicaen.fr/wp-content/uploads/sites/32/2024/09/UNICAEN_UFR-HSS_Bandeau_Seminaire-La-fabrique-des-sources-2024-2025.jpg
END:VEVENT
BEGIN:VEVENT
DTSTART;TZID=Europe/Paris:20250228T170000
DTEND;TZID=Europe/Paris:20250228T190000
DTSTAMP:20260421T220532
CREATED:20250224T151415Z
LAST-MODIFIED:20250319T172831Z
UID:55030-1740762000-1740769200@ufr-hss.unicaen.fr
SUMMARY:Écofascismes : l'écologie n'est pas apolitique
DESCRIPTION:Rencontre-débat organisée dans le cadre de la 1ère édition du Forum Actions Critiques\, vendredi 28 février 2025\, à 17h\, dans la salle B1-101a\, bâtiment B. \n\n\n\nLe Forum Actions Critiques\n\n\n\nOrganisation : les Ateliers du Genre\, Main violette\, le séminaire Pratiques et Pensées de l’Émancipation\, le séminaire Outiller la Pensée et l’Action\, SUD Éducation\, Solidaires Étudiant.es\, la maison d’édition Grévis \n\n\n\nDepuis 2019\, SUD éducation\, Solidaires Étudiant.es\, les Ateliers du Genre\, ainsi que Main violette Caen à partir de 2023\, organisent une Semaine des féminismes à l’université de Caen Normandie\, avant le 8 mars – journée internationale de lutte pour les droits des femmes. À travers des conférences\, tables rondes\, ateliers\, projections de film\, etc.\, cette initiative cherchait à faire vivre les idées et luttes féministes auprès des étudiant·es et du personnel. \n\n\n\nLe FAC (Forum Actions Critiques) permet d’élargir ce temps de formation et de discussion aux enjeux portant sur le travail\, le racisme et l’écologie politique. Les aspirations à davantage de justice sociale et environnementale nécessitent de penser ensemble les multiples rapports de domination et d’exploitation qui traversent nos sociétés contemporaines. \n\n\n\nRencontre-débat · 28 février\n\n\n\nÉcofascismes : l’écologie n’est pas apolitiqueAntoine Dubiau\, assistant doctorant en géographie à l’université de Genève \n\n\n\nEn savoir plus\n\n\n\n\nConsultez le programme complet du FAC
URL:https://ufr-hss.unicaen.fr/evenement/ecofascismes-lecologie-nest-pas-apolitique/
LOCATION:Caen · Campus 1 · Bâtiment B · Salle B1-101a\, Bâtiment B\, Esplanade de la Paix\, Caen\, 14000\, France
CATEGORIES:Forum,Rencontre
ATTACH;FMTTYPE=image/png:https://ufr-hss.unicaen.fr/wp-content/uploads/sites/32/2025/02/Bandeau_Forum-Actions-Critiques_du-24-02-au-21-03-2025.png
END:VEVENT
END:VCALENDAR