BEGIN:VCALENDAR
VERSION:2.0
PRODID:-//UFR Humanités et sciences sociales (HSS) - Université de Caen Normandie - ECPv6.15.18//NONSGML v1.0//EN
CALSCALE:GREGORIAN
METHOD:PUBLISH
X-ORIGINAL-URL:https://ufr-hss.unicaen.fr
X-WR-CALDESC:Évènements pour UFR Humanités et sciences sociales (HSS) - Université de Caen Normandie
REFRESH-INTERVAL;VALUE=DURATION:PT1H
X-Robots-Tag:noindex
X-PUBLISHED-TTL:PT1H
BEGIN:VTIMEZONE
TZID:Europe/Paris
BEGIN:DAYLIGHT
TZOFFSETFROM:+0100
TZOFFSETTO:+0200
TZNAME:CEST
DTSTART:20240331T010000
END:DAYLIGHT
BEGIN:STANDARD
TZOFFSETFROM:+0200
TZOFFSETTO:+0100
TZNAME:CET
DTSTART:20241027T010000
END:STANDARD
BEGIN:DAYLIGHT
TZOFFSETFROM:+0100
TZOFFSETTO:+0200
TZNAME:CEST
DTSTART:20250330T010000
END:DAYLIGHT
BEGIN:STANDARD
TZOFFSETFROM:+0200
TZOFFSETTO:+0100
TZNAME:CET
DTSTART:20251026T010000
END:STANDARD
BEGIN:DAYLIGHT
TZOFFSETFROM:+0100
TZOFFSETTO:+0200
TZNAME:CEST
DTSTART:20260329T010000
END:DAYLIGHT
BEGIN:STANDARD
TZOFFSETFROM:+0200
TZOFFSETTO:+0100
TZNAME:CET
DTSTART:20261025T010000
END:STANDARD
END:VTIMEZONE
BEGIN:VEVENT
DTSTART;TZID=Europe/Paris:20250303T000000
DTEND;TZID=Europe/Paris:20250321T235959
DTSTAMP:20260421T202624
CREATED:20250227T135308Z
LAST-MODIFIED:20250227T135318Z
UID:55073-1740960000-1742601599@ufr-hss.unicaen.fr
SUMMARY:Parcoursup & MonMaster : l’EOI vous accompagne
DESCRIPTION:Dans le cadre de l’ouverture des plateformes Parcoursup et MonMaster\, l’Espace Orientation Insertion (EOI) vous accompagne dans vos démarches de réorientation\, de poursuite d’études et d’insertion professionnelle\, du 3 au 21 mars 2025\, sur les campus 1 et 2. \n\n\n\nRenfort de l’accueil et du conseil sans rendez-vous\n\n\n\nDu 3 au 21 mars\, l’EOI étend ses horaires pour mieux vous conseiller. \n\n\n\nCampus 1 · Bâtiment B\, niveau 0\n\n\n\n\nLundi | 13h30-17hMardi\, mercredi\, jeudi | 9h30-17hVendredi | 9h30-12h \n\n\n\n\nCampus 2 · Tiers-lieu\, bibliothèque Rosalind Franklin\, rez de jardin\n\n\n\n\nPermanences tous les mardis9h30-13h – 14h30-18h \n\n\n\n\nAteliers\n\n\n\nL’EOI organise tout au long du mois de mars des ateliers pour répondre à vos besoins et questionnements. \n\n\n\n\nAtelier Rebondir\n\n\n\nAtelier Projet Master\n\n\n\nAtelier Favoriser son insertion professionnelle grâce à LinkedIn…\n\n\n\n\n\n\n\nConsultez l’agenda des ateliersInscription obligatoire sur career center (nombre de places limité)
URL:https://ufr-hss.unicaen.fr/evenement/parcoursup-monmaster-leoi-vous-accompagne/
CATEGORIES:Orientation - Insertion
ATTACH;FMTTYPE=image/jpeg:https://ufr-hss.unicaen.fr/wp-content/uploads/sites/32/2025/02/UNICAEN_Bandeau_EOI.jpg
END:VEVENT
BEGIN:VEVENT
DTSTART;TZID=Europe/Paris:20250305T000000
DTEND;TZID=Europe/Paris:20250307T235959
DTSTAMP:20260421T202624
CREATED:20250227T152636Z
LAST-MODIFIED:20250227T152637Z
UID:55119-1741132800-1741391999@ufr-hss.unicaen.fr
SUMMARY:Gouverner\, s'insurger\, migrer entre Europe et Amériques (XVIe-XVIIIe siècles)
DESCRIPTION:Colloque international en hommage à Alain Hugon\, organisé par le laboratoire HisTeMé · UR 7455\, du 5 au 7 mars 2025\, dans l’amphithéâtre de la MRSH. \n\n\n\nColloque historiographique et prospectif en hommage à l’œuvre d’Alain HUGON\n\n\n\nResponsables scientifiques : Ariane Boltanski (université de Caen Normandie\, HisTeMé) et Héloïse Hermant (université Côte d’Azur\, CMMC)  \n\n\n\nCe colloque d’histoire moderne\, historiographique et prospectif\, est organisé en hommage à l’œuvre d’Alain Hugon. Professeur d’histoire moderne à l’université de Caen\, après avoir exercé à l’université Rennes 2\, Alain Hugon\, collègue et ami\, a été une figure marquante tant comme chercheur que comme enseignant. Tout en prenant en considération sa carrière et ses collaborations\, l’objectif de ce colloque est avant tout de mettre l’accent sur les apports de ses travaux\, en réfléchissant sur ses écrits et l’impulsion qu’ils ont donnée à la fabrique de l’histoire\, qu’il s’agisse de l’Espagne moderne et de ses projections impériales\, de la Normandie\, des circulations transatlantiques entre Espagne et Amériques\, des cultures des révoltes et des révolutions et de leurs cheminements mémoriels.Le colloque invite à relire ces apports à partir des principales étapes de son parcours de recherche et des ouvrages majeurs qui l’ont jalonné\, autour de trois axes privilégiés : \n\n\n\n\nAxe 1 : Serviteurs de l’État et agents d’information\n\n\n\nAxe 2 :  Contester en actes et en mots\n\n\n\nAxe 3 : Circulations\, migrations\, territoires\n\n\n\n\n\n\nEn savoir plus\n\n\n\n\nToutes les actualités du laboratoire HisTeMé : HisTeMé – Actualités
URL:https://ufr-hss.unicaen.fr/evenement/gouverner-sinsurger-migrer-entre-europe-et-ameriques-xvie-xviiie-siecles/
LOCATION:Caen · Campus 1 · Bâtiment F · Maison de la recherche en sciences humaines (MRSH) · Amphi\, Campus 1\, Maison de la recherche en sciences humaines (MRSH)\, 1 Esplanade de la Paix\, Caen\, 14000\, France
CATEGORIES:Congrès - Colloque
ATTACH;FMTTYPE=image/png:https://ufr-hss.unicaen.fr/wp-content/uploads/sites/32/2025/02/UNICAEN_UFR-HSS_Bandeau_Colloque_Gouverner_5-au-7-03-2025.png
END:VEVENT
BEGIN:VEVENT
DTSTART;TZID=Europe/Paris:20250305T170000
DTEND;TZID=Europe/Paris:20250305T183000
DTSTAMP:20260421T202624
CREATED:20250225T133828Z
LAST-MODIFIED:20250319T172848Z
UID:55047-1741194000-1741199400@ufr-hss.unicaen.fr
SUMMARY:Langue et humanisme à la lumière de Simone de Beauvoir
DESCRIPTION:Rencontre-débat organisée dans le cadre de la 1ère édition du Forum Actions Critiques\, mardi 5 mars 2025\, à 17h\, dans la salle B1-101a\, bâtiment B. \n\n\n\nLe Forum Actions Critiques\n\n\n\nOrganisation : les Ateliers du Genre\, Main violette\, le séminaire Pratiques et Pensées de l’Émancipation\, le séminaire Outiller la Pensée et l’Action\, SUD Éducation\, Solidaires Étudiant.es\, la maison d’édition Grévis \n\n\n\nDepuis 2019\, SUD éducation\, Solidaires Étudiant.es\, les Ateliers du Genre\, ainsi que Main violette Caen à partir de 2023\, organisent une Semaine des féminismes à l’université de Caen Normandie\, avant le 8 mars – journée internationale de lutte pour les droits des femmes. À travers des conférences\, tables rondes\, ateliers\, projections de film\, etc.\, cette initiative cherchait à faire vivre les idées et luttes féministes auprès des étudiant·es et du personnel. \n\n\n\nLe FAC (Forum Actions Critiques) permet d’élargir ce temps de formation et de discussion aux enjeux portant sur le travail\, le racisme et l’écologie politique. Les aspirations à davantage de justice sociale et environnementale nécessitent de penser ensemble les multiples rapports de domination et d’exploitation qui traversent nos sociétés contemporaines. \n\n\n\nRencontre-débat · 5 mars\n\n\n\nLangue et humanisme à la lumière de Simone de BeauvoirCatharine Mason\, maîtresse de conférences en anglais et ethnographie linguistique (spécialiste de langues minoritaires) \n\n\n\nEn savoir plus\n\n\n\n\nConsultez le programme complet du FAC
URL:https://ufr-hss.unicaen.fr/evenement/langue-et-humanisme-a-la-lumiere-de-simone-de-beauvoir/
LOCATION:Caen · Campus 1 · Bâtiment B · Salle B1-101a\, Bâtiment B\, Esplanade de la Paix\, Caen\, 14000\, France
CATEGORIES:Forum,Rencontre
ATTACH;FMTTYPE=image/png:https://ufr-hss.unicaen.fr/wp-content/uploads/sites/32/2025/02/Bandeau_Forum-Actions-Critiques_du-24-02-au-21-03-2025.png
END:VEVENT
BEGIN:VEVENT
DTSTART;TZID=Europe/Paris:20250305T190000
DTEND;TZID=Europe/Paris:20250305T190000
DTSTAMP:20260421T202624
CREATED:20250305T102105Z
LAST-MODIFIED:20250305T104244Z
UID:55153-1741201200-1741201200@ufr-hss.unicaen.fr
SUMMARY:Les Idiots
DESCRIPTION:Projection du film Les Idiots de Lars von Trier\, avec Bodil Jorgensen\, Jens Albinus et Anne Louise Hassing\, mercredi 5 mars\, à 19h\, à la Maison de l’étudiant\, campus 1. \n\n\n\nCette séance ciné-club est organisée par le Cinéma Lux\, en collaboration avec le SUAC et le département Arts du Spectacle de l’université de Caen Normandie. \n\n\n\nSynopsis\n\n\n\nComédie\, drame | 1h 57min | VOST \n\n\n\nUn groupe de jeunes gens dotés d’un appétit de vie féroce\, passe son temps à traquer la bêtise. Ils explorent les valeurs cachées et les moins appréciées de l’idiotie et les confrontent à la société dans laquelle ils vivent. Ils sont ravis à chaque fois que l’un d’entre eux trouve une nouvelle manière de dépasser les limites de la bêtise. Karen rencontre par hasard trois membres du groupe et devient involontairement impliquée dans leur petit jeu. \n\n\n\nTarifs\n\n\n\nGratuit – Séance réservée aux étudiants et étudiantes UNICAEN.
URL:https://ufr-hss.unicaen.fr/evenement/les-idiots/
LOCATION:Caen · Campus 1 · Maison de l’étudiant (MDE)\, Maison de l'étudiant Université de Caen\, Rue Colonel Usher\, Caen\, 14000\, France
CATEGORIES:Projection – Cinéma
ATTACH;FMTTYPE=image/jpeg:https://ufr-hss.unicaen.fr/wp-content/uploads/sites/32/2025/03/Bandeau_Les-idiots.jpg
END:VEVENT
BEGIN:VEVENT
DTSTART;TZID=Europe/Paris:20250305T203000
DTEND;TZID=Europe/Paris:20250305T203000
DTSTAMP:20260421T202624
CREATED:20250228T074738Z
LAST-MODIFIED:20250319T172639Z
UID:55125-1741206600-1741206600@ufr-hss.unicaen.fr
SUMMARY:Le journalisme dans un monde sans repères. Menaces\, perspectives\, espoirs
DESCRIPTION:Rencontre-débat organisée par l’association Démosthène\, mercredi 5 mars 2025\, à 20h30\, dans l’amphithéâtre de la MRSH. \n\n\n\nL’association Démosthène\n\n\n\nL’association Démosthène est une association pour la citoyenneté\, un espace universitaire de débat\, un lieu fait pour comprendre la citoyenneté\, la construire\, l’exercer et la promouvoir. Démosthène est ouvert à tous et toutes. \n\n\n\nL’atelier d’urbanisme de l’association Démosthène prend comme axe général de réflexion la sensibilisation à la maîtrise d’usage. Il affirme la nécessité d’une participation effective des habitants à tout projet urbain d’aménagement\, en collaboration avec la maîtrise d’ouvrage (décideurs publics et privés) et la maîtrise d’œuvre (architectes\, paysagistes\, aménageurs). \n\n\n\nProgramme de la rencontre-débat du 5 mars\n\n\n\nLe journalisme dans un monde sans repères. Menaces\, perspectives\, espoirsRencontre-débat animée par Fabien Robertson\, avec Jean-Pierre Beuve (Le Poulpe)\, Serge Cimino (France TV)\, Thierry Geffrotin (ancien journaliste Europe 1)\, Philippe Legueltel (Les Echos) \n\n\n\nC’est parce qu’il est de plus en plus difficile de s’informer de manière fiable que le travail des journalistes nous est indispensable. Mais il faut encore qu’ils puissent le mener en toute indépendance. Or les puissances économiques\, publiques mais surtout privées\, s’efforcent\, par tous les moyens\, d’asseoir leur domination sur les différents moyens de communication. Journaux\, chaînes de télévision et radios peuvent alors servir de relais à des idéologies qui n’affichent pas toujours leur nom. \n\n\n\nLes réseaux sociaux dominants\, quant à eux\, tendent à pervertir la liberté d’expression et donc le débat public. À chaque fois\, le spectacle et la désinformation semblent prendre le dessus sur toutes les autres considérations. Est-ce à dire qu’on ne peut plus se fier à aucun média ? Faut-il estimer qu’un journalisme de qualité est désormais chose du passé ? Ou y a-t-il de nouvelles voies qui se dessinent ? C’est à ces questions que cette soirée est consacrée\, dans la suite de la rencontre du 4 décembre dernier. \n\n\n\nEn savoir plus\n\n\n\n\nTéléchargez le flyer de la rencontre-débatSite web de l’association Démosthène
URL:https://ufr-hss.unicaen.fr/evenement/le-journalisme-dans-un-monde-sans-reperes-menaces-perspectives-espoirs/
LOCATION:Caen · Campus 1 · Bâtiment F · Maison de la recherche en sciences humaines (MRSH) · Amphi\, Campus 1\, Maison de la recherche en sciences humaines (MRSH)\, 1 Esplanade de la Paix\, Caen\, 14000\, France
CATEGORIES:Conférence
ATTACH;FMTTYPE=image/png:https://ufr-hss.unicaen.fr/wp-content/uploads/sites/32/2025/02/UNICAEN_UFR-HSS_Bandeau_Rencontre-debat-Demosthene_05-03-2025.png
END:VEVENT
END:VCALENDAR