BEGIN:VCALENDAR
VERSION:2.0
PRODID:-//UFR Humanités et sciences sociales (HSS) - Université de Caen Normandie - ECPv6.15.18//NONSGML v1.0//EN
CALSCALE:GREGORIAN
METHOD:PUBLISH
X-ORIGINAL-URL:https://ufr-hss.unicaen.fr
X-WR-CALDESC:Évènements pour UFR Humanités et sciences sociales (HSS) - Université de Caen Normandie
REFRESH-INTERVAL;VALUE=DURATION:PT1H
X-Robots-Tag:noindex
X-PUBLISHED-TTL:PT1H
BEGIN:VTIMEZONE
TZID:Europe/Paris
BEGIN:DAYLIGHT
TZOFFSETFROM:+0100
TZOFFSETTO:+0200
TZNAME:CEST
DTSTART:20240331T010000
END:DAYLIGHT
BEGIN:STANDARD
TZOFFSETFROM:+0200
TZOFFSETTO:+0100
TZNAME:CET
DTSTART:20241027T010000
END:STANDARD
BEGIN:DAYLIGHT
TZOFFSETFROM:+0100
TZOFFSETTO:+0200
TZNAME:CEST
DTSTART:20250330T010000
END:DAYLIGHT
BEGIN:STANDARD
TZOFFSETFROM:+0200
TZOFFSETTO:+0100
TZNAME:CET
DTSTART:20251026T010000
END:STANDARD
BEGIN:DAYLIGHT
TZOFFSETFROM:+0100
TZOFFSETTO:+0200
TZNAME:CEST
DTSTART:20260329T010000
END:DAYLIGHT
BEGIN:STANDARD
TZOFFSETFROM:+0200
TZOFFSETTO:+0100
TZNAME:CET
DTSTART:20261025T010000
END:STANDARD
END:VTIMEZONE
BEGIN:VEVENT
DTSTART;TZID=Europe/Paris:20250318T000000
DTEND;TZID=Europe/Paris:20250412T235959
DTSTAMP:20260426T040132
CREATED:20250312T124110Z
LAST-MODIFIED:20250312T124111Z
UID:55278-1742256000-1744502399@ufr-hss.unicaen.fr
SUMMARY:Les Victimes de la Répression Nazie à Caen
DESCRIPTION:Dans le cadre du Millénaire de Caen\, Chantal Meyer-Plantureux\, professeur émérite\, présente l’exposition Les Victimes de la Répression Nazie à Caen en partenariat avec la MRSH\, du 18 mars au 12 avril 2025\, à l’Église du Vieux Saint-Sauveur\, à Caen. \n\n\n\nL’exposition\n\n\n\nCommissaire de l’exposition : Chantal Meyer-Plantureux (professeure émérite\, université Caen Normandie\, membre du laboratoire HisTéMé) \n\n\n\nCette exposition conçue avec Françoise PASSERA\, ingénieure d’études au laboratoire HisTeMé de l’université de Caen Normandie\, est loin d’être exhaustive : elle propose quelques portraits de victimes de la répression à Caen sous l’Occupation. Fusillés\, déportés comme politiques\, résistants ou Juifs\, ce sont autant de vies brisées même lorsque certains reviennent de l’enfer des camps. \n\n\n\n\nEntrée libre et gratuite\, tous les jours (sauf les 3 et 9 avril) | 14h-18h \n\n\n\n\n\n\nEn savoir plus\n\n\n\n\nConsultez le programme du Millénaire de Caen
URL:https://ufr-hss.unicaen.fr/evenement/les-victimes-de-la-repression-nazie-a-caen/
LOCATION:Caen · Église du Vieux Saint-Sauveur\, Église du Vieux Saint-Sauveur\, 13 Rue Saint-Sauveur\, Caen\, 14000\, France
CATEGORIES:Exposition
ATTACH;FMTTYPE=image/jpeg:https://ufr-hss.unicaen.fr/wp-content/uploads/sites/32/2025/03/UNICAEN_UFR-HSS_Bandeau_Exposition-Victimes-de-la-repression-nazie_18-03-au-12-04-2025.jpg
END:VEVENT
BEGIN:VEVENT
DTSTART;TZID=Europe/Paris:20250403T000000
DTEND;TZID=Europe/Paris:20250404T235959
DTSTAMP:20260426T040132
CREATED:20250320T154900Z
LAST-MODIFIED:20250320T154901Z
UID:55437-1743638400-1743811199@ufr-hss.unicaen.fr
SUMMARY:Rapprocher le lointain. L’étranger sur les scènes du théâtre musical français au XVIIIe siècle
DESCRIPTION:Colloque organisé par le laboratoire LASLAR · UR 4256\, les 3 et 4 avril 2025\, dans la salle du Belvédère\, bâtiment D. \n\n\n\nProgramme\n\n\n\nResponsables scientifiques : Floriane Daguisé (université de Rouen Normandie)\, Mathilde Havret (université de Caen Normandie)\, Alain Sandrier (université de Caen Normandie) \n\n\n\nLe personnage de l’étranger traverse régulièrement les scènes du théâtre musical français\, que ce soit à l’Opéra ou dans les différentes formes d’opéra-comique tout au long du XVIIIe siècle. Venu d’Orient\, jusqu’à ses confins\, mais aussi d’outre-Atlantique\, qu’il soit découvert par l’expansion coloniale et missionnaire ou représentant d’une civilisation ancestrale\, « sauvage » ou « exotique »\, Chinois ou Huron\, il fait entrer une respiration particulière\, par sa langue comme par son apparence\, traduite selon les usages dramaturgiques du temps dans les costumes\, les décors\, mais aussi les airs et la diction. Les marques d’un ailleurs apportent autant le plaisir de l’étrangeté que le partage ou l’interrogation d’une universalité dont témoignerait\, par sa nature\, la musique. Elles contribuent aussi à renouveler les formes du merveilleux. \n\n\n\nEntre singularité et universalité\, proche et lointain\, l’étranger enrichit la scène théâtrale et l’interroge dans ses effets et son illusion. Ce sont toutes ces dimensions\, idéologiques\, poétiques\, littéraires\, dramaturgiques et musicologiques\, que cette rencontre voudrait mettre en valeur en s’attachant à des œuvres et des thèmes représentatifs de l’époque. \n\n\n\n\n\nEn savoir plus\n\n\n\n\nToutes les actualités du laboratoire LASLAR : LASLAR – Agenda
URL:https://ufr-hss.unicaen.fr/evenement/rapprocher-le-lointain-letranger-sur-les-scenes-du-theatre-musical-francais-au-xviiie-siecle/
LOCATION:Caen · Campus 1 · Bâtiment D · Salle du Belvédère\, Centre de recherche en sciences de l'éducation\, Esplanade de la Paix\, Caen\, 14000\, France
CATEGORIES:Congrès - Colloque
ATTACH;FMTTYPE=image/png:https://ufr-hss.unicaen.fr/wp-content/uploads/sites/32/2025/03/UNICAEN_LASLAR_Bandeau_Colloque_Rapprocher-le-lointain_03-et-04-2025.png
END:VEVENT
BEGIN:VEVENT
DTSTART;TZID=Europe/Paris:20250404T140000
DTEND;TZID=Europe/Paris:20250404T170000
DTSTAMP:20260426T040132
CREATED:20241010T151116Z
LAST-MODIFIED:20241010T151117Z
UID:54172-1743775200-1743786000@ufr-hss.unicaen.fr
SUMMARY:La Fabrique des sources : textes\, objets\, sites de l’Antiquité à la Renaissance · Séance 14
DESCRIPTION:La prochaine séance du séminaire du CRAHAM\, « La Fabrique des sources : textes\, objets\, sites de l’Antiquité à la Renaissance »\, aura lieu le vendredi 4 avril 2025\, de 14h à 17h\, dans la salle des actes de la MRSH. Séance mutualisée avec le séminaire « Mondes nordiques et normands médiévaux ». \n\n\n\nCe séminaire couvre un champ chronologique allant de l’Antiquité grecque à la Renaissance en mettant en œuvre les sources historiques et littéraires comme les données archéologiques. Ces archives du passé seront considérées à travers des séances ponctuelles ou des cycles permettant d’aborder une question plus en détail. Dans tous les cas\, ces séances fourniront des éclairages sur la recherche en train de se faire\, d’où l’emploi du terme « fabrique » dans son titre. Certaines séances sont mutualisées avec le séminaire « Mondes nordiques et normands médiévaux » \n\n\n\nLe séminaire est ouvert aux étudiants de L3\, de Master et de Doctorat. Il est inscrit au programme des séminaires de l’ED HMPL (Histoire\, mémoire\, patrimoine\, langage). \n\n\n\nProgramme de la séance 14\n\n\n\nCoordination : Catherine Gaullier-Bougassas et Fabien Paquet (UMR CRAHAM\, UNICAEN) \n\n\n\nÉcrire l’histoire en Normandie à la fin du Moyen ÂgeLa Chronique des ducs d’Alençon de Perceval de Cagny : une version armagnaque de l’histoire ?Pierre COURROUX (UR ITEM\, université de Pau et des pays de l’Adour)Pierre Cauchon : historien de la Normandie ou historien normand ? Pour une relecture du ms. Fr. 5391Isabelle GUYOT-BACHY (UR CRULH\, université de Lorraine) \n\n\n\nEn savoir plus\n\n\n\n\nConsultez le programme complet du Séminaire La Fabrique des sources : textes\, objets\, sites de l’Antiquité à la Renaissance 2024-2025Toutes les actualités du Centre Michel de Boüard – CRAHAM : CRAHAM – Agenda
URL:https://ufr-hss.unicaen.fr/evenement/la-fabrique-des-sources-textes-objets-sites-de-lantiquite-a-la-renaissance-seance-14/
LOCATION:Caen · Campus 1 · Maison de la recherche en sciences humaines (MRSH) · Salle des Actes\, Campus 1\, Maison de la recherche en sciences humaines (MRSH)\, 1 Esplanade de la Paix\, Caen\, 14000\, France
CATEGORIES:Séminaire
ATTACH;FMTTYPE=image/jpeg:https://ufr-hss.unicaen.fr/wp-content/uploads/sites/32/2024/09/UNICAEN_UFR-HSS_Bandeau_Seminaire-La-fabrique-des-sources-2024-2025.jpg
END:VEVENT
BEGIN:VEVENT
DTSTART;TZID=Europe/Paris:20250404T140000
DTEND;TZID=Europe/Paris:20250404T170000
DTSTAMP:20260426T040132
CREATED:20250129T152513Z
LAST-MODIFIED:20250129T152514Z
UID:54822-1743775200-1743786000@ufr-hss.unicaen.fr
SUMMARY:Publication et circulation des recueils poétiques en Normandie au XVIe siècle · Séance 3
DESCRIPTION:Prochaine séance du séminaire Publication et circulation des recueils poétiques en Normandie au XVIe siècle\, année 2024-2025\, organisée par l’unité de recherche LASLAR · UR 4256\, vendredi 4 avril 2025\, à 14h\, dans la salle B1-401\, bât. B. Séminaire hybride. \n\n\n\nLe séminaire\n\n\n\nCoordination : Jérémie Bichüe (université de Caen Normandie)\, Sandra Provin (université de Rouen Normandie) \n\n\n\nLa Normandie du XVIe siècle a été un territoire fécond pour la poésie\, de Jean Marot à Vauquelin de La Fresnaye\, en passant par Pierre Gringore ou François de Sagon\, et bien d’autres poètes encore\, qu’il reste parfois à identifier. Troisième ville d’imprimerie du royaume et organisatrice d’un Puy de Palinods depuis 1486\, Rouen\, en particulier\, est un lieu de composition et de publication de textes et recueils poétiques. Dans la continuité de l’ouvrage collectif sur La Renaissance à Rouen : l’essor artistique et culturel dans la Normandie des décennies 1480-1530 (dir. X. Bonnier\, G. Milhe Poutingon et S. Provini)\, publié en 2019\, nous aimerions examiner les réseaux qui ont pu se constituer autour du Puy de Palinods\, mais aussi d’imprimeurs et libraires rouennais\, ainsi que sur la circulation des livres de poésie entre Rouen\, Caen et Paris au XVIe siècle. \n\n\n\nCe séminaire entend ainsi contribuer à la réflexion sur la géographie des pratiques poétiques en attirant l’attention sur les spécificités de la Normandie\, terre de poésie. \n\n\n\nLes séances ont lieu les vendredis de 14h à 17h\, à Caen et à Rouen\, au format hybride. Pour obtenir le lien de connexion\, contacter : jeremie.bichue@unicaen.fr ou sandra.provini@univ-rouen.fr \n\n\n\nProgramme de la séance 3\n\n\n\nGuillaume Haudent\, poète rouennais : enjeux éditoriaux et pédagogiques de la “mise en rithme françoise” dans son œuvreTiphaine Rolland\, Sorbonne universitéLes poètes de 68 : Jean Rouxel\, les Le Fanu et Jacques de CahaignesJohn Nassichuk\, Western Ontario \n\n\n\nEn savoir plus\n\n\n\n\nConsultez le programme complet du Séminaire 2024-2025Carnet Hypotheses du séminaire : blog Hypotheses – NorpoesieToutes les actualités du laboratoire LASLAR : Laslar – Agenda
URL:https://ufr-hss.unicaen.fr/evenement/publication-et-circulation-des-recueils-poetiques-en-normandie-au-xvie-siecle-seance-3/
LOCATION:Caen · Campus 1 · Bâtiment B · Salle B1-401\, Bâtiment B\, Esplanade de la Paix\, Caen\, 14000\, France
CATEGORIES:Séminaire
ATTACH;FMTTYPE=image/png:https://ufr-hss.unicaen.fr/wp-content/uploads/sites/32/2025/01/UNICAEN_LASLAR_Bandeau_Seminaire_Publication_circulation_recueils_poetiques_2024-2025.png
END:VEVENT
END:VCALENDAR