BEGIN:VCALENDAR
VERSION:2.0
PRODID:-//UFR Humanités et sciences sociales (HSS) - Université de Caen Normandie - ECPv6.15.18//NONSGML v1.0//EN
CALSCALE:GREGORIAN
METHOD:PUBLISH
X-WR-CALNAME:UFR Humanités et sciences sociales (HSS) - Université de Caen Normandie
X-ORIGINAL-URL:https://ufr-hss.unicaen.fr
X-WR-CALDESC:Évènements pour UFR Humanités et sciences sociales (HSS) - Université de Caen Normandie
REFRESH-INTERVAL;VALUE=DURATION:PT1H
X-Robots-Tag:noindex
X-PUBLISHED-TTL:PT1H
BEGIN:VTIMEZONE
TZID:Europe/Paris
BEGIN:DAYLIGHT
TZOFFSETFROM:+0100
TZOFFSETTO:+0200
TZNAME:CEST
DTSTART:20240331T010000
END:DAYLIGHT
BEGIN:STANDARD
TZOFFSETFROM:+0200
TZOFFSETTO:+0100
TZNAME:CET
DTSTART:20241027T010000
END:STANDARD
BEGIN:DAYLIGHT
TZOFFSETFROM:+0100
TZOFFSETTO:+0200
TZNAME:CEST
DTSTART:20250330T010000
END:DAYLIGHT
BEGIN:STANDARD
TZOFFSETFROM:+0200
TZOFFSETTO:+0100
TZNAME:CET
DTSTART:20251026T010000
END:STANDARD
BEGIN:DAYLIGHT
TZOFFSETFROM:+0100
TZOFFSETTO:+0200
TZNAME:CEST
DTSTART:20260329T010000
END:DAYLIGHT
BEGIN:STANDARD
TZOFFSETFROM:+0200
TZOFFSETTO:+0100
TZNAME:CET
DTSTART:20261025T010000
END:STANDARD
END:VTIMEZONE
BEGIN:VEVENT
DTSTART;TZID=Europe/Paris:20250916T000000
DTEND;TZID=Europe/Paris:20250925T235959
DTSTAMP:20260420T192143
CREATED:20250917T093011Z
LAST-MODIFIED:20250917T093012Z
UID:89165-1757980800-1758844799@ufr-hss.unicaen.fr
SUMMARY:Réorientation : l’EOI vous conseille
DESCRIPTION:L’Espace orientation insertion · EOI propose des temps d’échange pour vous accompagner dans votre choix de formation\, du 16 au 25 septembre 2025\, sur le campus 1. \n\n\n\nRencontres individuelles\n\n\n\nVous êtes étudiante ou étudiant inscrit dans l’enseignement supérieur français\, votre formation actuelle ne vous convient pas et vous souhaitez dès à présent changer ? Des professionnels de l’orientation dans l’enseignement supérieur vous informent et vous conseillent. \n\n\n\n\nQuand ? Mardi 16 septembre\, mercredi 17 septembre\, jeudi 18 septembre\, lundi 22 septembre\, mardi 23 septembre\, mercredi 24 septembre et jeudi 25 septembre 2025Horaires : 9h30 à 17h\, en continuSans rendez-vousLieu : Université de Caen Normandie · Campus 1 · Bâtiment B · Niveau 0 · Salle 003 \n\n\n\n\n\n\n\nLa phase de réorientation a lieu du 16 au 25 septembre 2025 sur e-Candidat.Elle concerne : \n\n\n\n\nles personnes inscrites dans l’enseignement supérieur français.\n\n\n\nuniquement les formations de l’université de Caen Normandie proposant des places vacantes. La liste des formations est accessible sur la plateforme e-Candidat\,\n\n\n\n\nConsultez le diaporama Réorientation : changer de formation\, c’est possible !
URL:https://ufr-hss.unicaen.fr/evenement/reorientation-leoi-vous-conseille/
CATEGORIES:Orientation - Insertion
ATTACH;FMTTYPE=image/jpeg:https://ufr-hss.unicaen.fr/wp-content/uploads/sites/32/2025/09/UNICAEN_Bandeau_Reorientation_EOI_Rentree-2025.jpg
END:VEVENT
BEGIN:VEVENT
DTSTART;TZID=Europe/Paris:20250925T000000
DTEND;TZID=Europe/Paris:20250926T235959
DTSTAMP:20260420T192143
CREATED:20250718T091915Z
LAST-MODIFIED:20250718T091916Z
UID:56557-1758758400-1758931199@ufr-hss.unicaen.fr
SUMMARY:Journaux personnels en temps de guerres mondiales
DESCRIPTION:Colloque organisé\, dans le cadre du projet Holocaust Diaries Project\, par l’EHESS (Sorbonne-Université)\, le laboratoire ERLIS (université de Caen Normandie) et l’université catholique de Louvain\, le 25 septembre 2025\, à l’IMEC\, et le 26 septembre 2025\, à la MRSH de l’université de Caen Normandie. \n\n\n\nLe projet Holocaust Diaries Project\n\n\n\nLe colloque « Journaux personnels en temps de guerres mondiales. Enjeux historiographiques et méthodologiques » s’inscrit dans le développement du projet Holocaust Diaries Project\, porté par Sarah Gruszka et Marie Moutier-Bitan\, qui vise l’élaboration d’un inventaire\, d’une cartographie et d’une analyse des journaux personnels de la Shoah. Enfin\, il sera la pierre d’achoppement du nouveau réseau de recherche Wartime Diaries Research Network constitué par ces deux chercheuses et adossé à l’université de Caen Normandie. \n\n\n\nProgramme du colloque\n\n\n\nResponsables scientifiques : Sarah Gruszka (EHESS\, Sorbonne-Université)\, Marie Moutier-Bitan (ERLIS · UR 4254\, MRSH\, UNICAEN) et Emmanuel Debruyne (université catholique de Louvain) \n\n\n\nCe colloque international rassemble\, pour la première fois\, des chercheurs du monde francophone travaillant sur les journaux personnels de civils tenus durant la Première et la Seconde guerres mondiales\, afin de partager les problématiques\, de confronter les difficultés (d’ordre générique\, méthodologique\, ou relatives à la constitution de corpus) et de réfléchir à des pistes d’analyses transversales. \n\n\n\nLes Première et Seconde Guerres mondiales ont en commun d’avoir affecté profondément les populations civiles\, par leur violence\, leur durée\, l’ampleur des territoires concernés\, des ressources mobilisées et des pertes subies\, ainsi que par les bouleversements qu’elles ont produits à tous égards – sociaux\, économiques\, culturels et politiques. Elles ont suscité une abondante historiographie\, intégrant aussi bien les aspects militaires et stratégiques que l’impact sur les populations civiles : mobilisations\, collaborations\, résistances\, violences\, quotidien.Néanmoins\, les journaux personnels tenus par des civils ont encore peu retenu l’attention en tant que corpus. Leur valeur historique est pourtant indéniable.Que nous disent-ils de l’expérience personnelle et collective en temps de violences extrêmes ? Quel usage l’historien peut-il faire de ces écrits quotidiens\, où la banalité prend parfois le pas sur l’événement ? Quel est leur apport à une historiographie des deux guerres mondiales déjà pléthorique ? Enfin\, dans quelle mesure ces sources variables et dissonantes\, denses\, lacunaires et protéiformes\, documentent l’impact de la guerre sur les aspects sensibles des populations civiles : les corps\, le rapport à la mort\, à la violence\, les représentations du temps et de l’espace\, les lieux de l’intime\, les rapports sociaux\, la connaissance et l’interprétation des événements en cours\, les reconfigurations éthiques et émotionnelles ? \n\n\n\nCe colloque ambitionne de poser des jalons pour encadrer l’appréhension de ces sources. Il entend notamment mettre en exergue l’intérêt du traitement sériel des journaux personnels\, au-delà des analyses communes d’un carnet en particulier. Envisager ces sources certes individuelles et intimes en tant que corpus permet en effet de mieux prendre la mesure des spécificités d’un journal donné et de livrer des enseignements plus larges. \n\n\n\nCet événement est organisé en partenariat avec la Fondation Auschwitz\, la Fondation pour la mémoire de la Shoah\, l’Institut Mémoires de l’édition contemporaine (IMEC)\, le laboratoire LARHIS (université catholique de Louvain)\, le laboratoire Eur’ORBEM (Sorbonne université\, CNRS)\, et les laboratoires ERLIS et HisTeMé de l’université de Caen Normandie.Il s’inscrit dans le projet CaeSAR\, qui bénéficie d’une aide de l’État gérée par l’Agence nationale de la recherche au titre de France 2030 portant la référence ANR-23-EXES-0001 et de la Région Normandie. \n\n\n\n\n\nEn savoir plus\n\n\n\n\nToutes les actualités du laboratoire HisTeMé : HisTeMé – Actualités
URL:https://ufr-hss.unicaen.fr/evenement/journaux-personnels-en-temps-de-guerres-mondiales/
LOCATION:Saint-Germain-la-Blanche-Herbe · IMEC\, IMEC\, L'Abbaye D'Ardenne\, 3 Rue Youf du Marché\, Saint-Germain-la-Blanche-Herbe\, 14280\, France
CATEGORIES:Congrès - Colloque
ATTACH;FMTTYPE=image/png:https://ufr-hss.unicaen.fr/wp-content/uploads/sites/32/2025/07/UNICAEN_UFR-HSS_Bandeau_Colloque_Journaux-personnels_25-au-26-09-2025.png
END:VEVENT
BEGIN:VEVENT
DTSTART;TZID=Europe/Paris:20250925T100000
DTEND;TZID=Europe/Paris:20250925T200000
DTSTAMP:20260420T192143
CREATED:20250604T071722Z
LAST-MODIFIED:20250912T065130Z
UID:89101-1758794400-1758830400@ufr-hss.unicaen.fr
SUMMARY:Campus en fête 2025 sur le campus 1
DESCRIPTION:Cette année encore\, Campus en fête vous réserve bien des surprises… Rendez-vous sur le campus 1 le jeudi 25 septembre 2025 ! \n\n\n\nManifestation co-financée par la Contribution vie étudiante et de campus (CVEC). \n\n\n\nAu programme\, une ambiance musicale ! Les groupes Tribute ABBA\, Lola Sauvageot\, SPRNS vont vous faire chanter et danser toute la journée. \n\n\n\n\n12h15 – 13h45 : Tribute de ABBA\n\n\n\n18h – 18h45 : Lola Sauvageot\n\n\n\n19h15 – 20h : SPRNS\n\n\n\n\nSur le campus\, de nombreuses animations seront à votre disposition : jeux gonflables\, jeux en bois\, camion photobooth… Sans oublier le camion glaces\, la barbe à papa\, les pop-corn ou encore les vélos smoothies. \n\n\n\nVillage des associations et des partenaires\n\n\n\nVous pourrez rencontrer\, échanger et vous renseigner sur le village des partenaires et des associations auprès des nombreux exposants présents répartis en 7 pôles ! \n\n\n\n\nAssociations étudiantes AEGC\, AEHC\, AELVE\, AESEC\, ARTEMIS\, Caen Geyser\, Corpo sciences\, Chœur et orchestre universitaire régional (COUR)\, Eloquence\, EPSYCA\, Erasmus student network\, FCBN\, Main violette\, Nouvel œil\, Ordre du Phénix\, PECN\, Togoban\, SL Caen\, Union pirate.\n\n\n\nPôle santé – Social Service de santé étudiante (SSE)\, Relais handicap\, CPAM du Calvados\, Asso Addicts France.\n\n\n\nSport à l’université Service universitaire des activités physiques et sportives (SUAPS).\n\n\n\nCulture & vie étudiante UNICAEN Bureau vie étudiante (BVE)\, Service commun de la documentation (SCD)\, Direction des études et de la vie étudiante (DEVE) avec le pôle Accompagenement aux réussites étudiantes (ARE)\, Espace orientation insertion (EOI)\, Carré international\, Service universitaire de l’action culturelle (SUAC).\n\n\n\nPartenaires culturels Cinéma LUX\, Comédie de Caen\, Café des images.\n\n\n\nPartenaires vie étudiante Région Normandie\, Ville de Caen\, Académie Normandie (promotion du dispositif service civique)\, Normandie Université (Pôle vie étudiante et culture\, Pépite Normandie)\, Défenseurs droits (mieux connaître vos droits)\, MGEN du Calvados\, ACJM (aide aux victimes\, citoyenneté\, justice\, médiation)\,  FR-CIDFF (Fédération régionales des centre d’information sur les droits des femmes et des familles)\, CRIJ (Centre régional information jeunesse de Normandie)\, Secours populaire\, Ville de Caen\, AFEV.\n\n\n\nDurable et responsable Mission campus 30 UNICAEN\, Syvedac.\n\n\n\n\nRestauration\n\n\n\nPour vous restaurer\, des foodtruck (camion rôtisserie\, Chez Dioune et Le truck débarque) seront disponibles sur place. \n\n\n\nPossibilité de bénéficier de coupons de réduction : allez à la rencontre des étudiants relais “Vie étudiante” (tee-shirts orange)\, ils vous expliqueront leur rôle et vous remettront un ticket de réduction de 5€\, financé par la CVEC. \n\n\n\nÉdition 2023 : retour en images
URL:https://ufr-hss.unicaen.fr/evenement/campus-en-fete-2025-sur-le-campus-1/
LOCATION:Caen · Campus 1\, Université de Caen Normandie\, Espanade de la Paix\, Caen\, 14032\, France
CATEGORIES:Université,Vie de campus
ATTACH;FMTTYPE=image/jpeg:https://ufr-hss.unicaen.fr/wp-content/uploads/sites/32/2025/09/Campus-en-fete-C1-2024.jpg
END:VEVENT
BEGIN:VEVENT
DTSTART;TZID=Europe/Paris:20250925T140000
DTEND;TZID=Europe/Paris:20250925T160000
DTSTAMP:20260420T192143
CREATED:20250919T074252Z
LAST-MODIFIED:20250919T074254Z
UID:89227-1758808800-1758816000@ufr-hss.unicaen.fr
SUMMARY:L’étude des styles dans l’oralité 
DESCRIPTION:Séminaire du laboratoire CRISCO · UR 4255\, année 2025-2026\, jeudi 25 septembre\, à 14h\, dans la salle de documentation du CRISCO\, bâtiment N\, sous-sol. \n\n\n\nProgramme\n\n\n\nCatharine Mason (maîtresse de conférences HDR\, université de Caen Normandie\, CRISCO)  \n\n\n\nCe séminaire propose une introduction aux modèles pragmatiques fondamentaux pour l’étude des discours oraux dans une perspective ethnopoétique alliant approches linguistiques\, anthropologiques et littéraires. Nous examinerons comment les outils informatiques peuvent être mobilisés pour rendre compte des phénomènes stylistiques et anthropologiques du discours oral — phénomènes souvent absents des projets actuellement en cours.Lire la suite \n\n\n\nEn savoir plus\n\n\n\n\nToutes les actualités du laboratoire CRISCO : CRISCO – Actualités
URL:https://ufr-hss.unicaen.fr/evenement/letude-des-styles-dans-loralite/
LOCATION:Caen · Campus 1 · Bâtiment M · CRISCO · Salle de documentation\, Centre de recherche CRISCO\, Caen\, 14000\, France
CATEGORIES:Séminaire
ATTACH;FMTTYPE=image/png:https://ufr-hss.unicaen.fr/wp-content/uploads/sites/32/2023/09/UNICAEN_UFR-HSS_Bandeau_Conference-CRISCO.png
END:VEVENT
END:VCALENDAR