BEGIN:VCALENDAR
VERSION:2.0
PRODID:-//UFR Humanités et sciences sociales (HSS) - Université de Caen Normandie - ECPv6.15.18//NONSGML v1.0//EN
CALSCALE:GREGORIAN
METHOD:PUBLISH
X-ORIGINAL-URL:https://ufr-hss.unicaen.fr
X-WR-CALDESC:Évènements pour UFR Humanités et sciences sociales (HSS) - Université de Caen Normandie
REFRESH-INTERVAL;VALUE=DURATION:PT1H
X-Robots-Tag:noindex
X-PUBLISHED-TTL:PT1H
BEGIN:VTIMEZONE
TZID:Europe/Paris
BEGIN:DAYLIGHT
TZOFFSETFROM:+0100
TZOFFSETTO:+0200
TZNAME:CEST
DTSTART:20240331T010000
END:DAYLIGHT
BEGIN:STANDARD
TZOFFSETFROM:+0200
TZOFFSETTO:+0100
TZNAME:CET
DTSTART:20241027T010000
END:STANDARD
BEGIN:DAYLIGHT
TZOFFSETFROM:+0100
TZOFFSETTO:+0200
TZNAME:CEST
DTSTART:20250330T010000
END:DAYLIGHT
BEGIN:STANDARD
TZOFFSETFROM:+0200
TZOFFSETTO:+0100
TZNAME:CET
DTSTART:20251026T010000
END:STANDARD
BEGIN:DAYLIGHT
TZOFFSETFROM:+0100
TZOFFSETTO:+0200
TZNAME:CEST
DTSTART:20260329T010000
END:DAYLIGHT
BEGIN:STANDARD
TZOFFSETFROM:+0200
TZOFFSETTO:+0100
TZNAME:CET
DTSTART:20261025T010000
END:STANDARD
END:VTIMEZONE
BEGIN:VEVENT
DTSTART;TZID=Europe/Paris:20251002T100000
DTEND;TZID=Europe/Paris:20251002T170000
DTSTAMP:20260421T220542
CREATED:20251001T103518Z
LAST-MODIFIED:20251001T103519Z
UID:89368-1759399200-1759424400@ufr-hss.unicaen.fr
SUMMARY:Penser le maritime · 25|26 · Séance 2
DESCRIPTION:La prochaine séance du séminaire « Penser le maritime »\, année 2025-2026\, aura lieu le jeudi 2 octobre 2025\, de 10h à 17h\, à l’université du Havre. \n\n\n\nCe séminaire est co-organisé par le Pôle Espaces maritimes\, sociétés littorales\, interfaces portuaires · PEMAR de la MRSH de Caen\, HisTeMé · UR 7455 et l’UMR IDEES · UMR CNRS 6266. \n\n\n\nCoordination :  Carole Christen (UMR IDEES)\, Éric Saunier (HisTeMé)\, Thomas Vaisset (UMR IDEES) \n\n\n\nProgramme de la séance 2\n\n\n\nSéance dans le cadre de la journée d’étude : \n\n\n\nAutour de la Seine : champs\, historiographie\, perspectives (3). La Seine et les activités économiquesBoris BOVE (GRHis\, université de Rouen Normandie)Laurence JEAN-MARIE (Centre Michel de Boüard-CRAHAM\, université de Caen Normandie)Bastien MICHEL (IDEES\, UMR 6266 CNRS\, université Le Havre Normandie) \n\n\n\nConsulter le programme de la journée d’étude \n\n\n\nEn savoir plus\n\n\n\n\nConsultez le programme complet du Séminaire Penser le maritime 2025-2026Toutes les actualités du laboratoire HisTeMé : HisTeMé – Actualités
URL:https://ufr-hss.unicaen.fr/evenement/penser-le-maritime-2526-seance-2/
LOCATION:Le Havre · Université Le Havre Normandie · Faculté des affaires internationales · Salle Olympe de Gouges\, Faculté des Affaires Internationales\, 25 Rue Philippe Lebon\, Le Havre\, 76600\, France
CATEGORIES:Séminaire
ATTACH;FMTTYPE=image/png:https://ufr-hss.unicaen.fr/wp-content/uploads/sites/32/2025/10/UNICAEN_UFR-HSS_Bandeau_Seminaire-Penser-le-maritime_2025-2026.png
END:VEVENT
BEGIN:VEVENT
DTSTART;TZID=Europe/Paris:20251002T100000
DTEND;TZID=Europe/Paris:20251002T170000
DTSTAMP:20260421T220542
CREATED:20251001T102951Z
LAST-MODIFIED:20251001T102952Z
UID:89372-1759399200-1759424400@ufr-hss.unicaen.fr
SUMMARY:Autour de la Seine 3 · La Seine et les activités économiques
DESCRIPTION:Troisième journée d’étude consacrée à l’histoire de la Seine co-organisée par l’université de Rouen (GRHis · UR 3831)\, l’université de Caen (Centre Michel de Boüard – CRAHAM · UMR 6273) et l’université du Havre (IDEES · UMR 6266)\, jeudi 2 octobre 2025\, de 10h à 17h\, dans la salle Olympe de Gouges\, à l’université du Havre. \n\n\n\nAutour de la Seine : champs\, historiographie\, perspectives #3. La Seine et les activités économiques\n\n\n\nResponsables scientifiques : Boris Bove (université de Rouen Normandie\, GRHis · UR 3831)\, Laurence Jean-Marie (université de Caen Normandie\, Centre Michel de Boüard – CRAHAM · UMR 6273)\, Bastien Michel (université de Le Havre Normandie\, IDEES · UMR 6266) \n\n\n\nLa Seine a été identifiée depuis longtemps comme un axe économique structurant du Bassin parisien par sa navigabilité et le réseau de ses affluents\, qui connectent la Bourgogne à la Normandie\, en passant par l’île de France\, la Champagne\, la Picardie\, la Flandre et la Beauce. En dépit d’identités politiques et culturelles régionales bien marquées\, beaucoup d’indices laissent penser que le quart Nord-Ouest du royaume de France forme en réalité un réseau d’interconnexions intenses\, tant que le plan économique que juridique ou social. De nombreuses études anciennes et récentes ont abordé cette thématique mais rares sont celles qui l’ont fait à l’échelle du Bassin parisien. \n\n\n\nPar ailleurs ce questionnement s’est ralenti depuis les années 1950-1980 alors que les fonds d’archives de la Seine Maritime ou de Paris\, par exemple\, sont loin d’avoir été épuisés\, que l’historiographie récente se tourne volontiers vers l’histoire connectée et que l’actualité écologique pousse à s’intéresser à la gestion de l’eau et à son rôle dans l’économie\, tant du point de vue des circulations que de l’énergie. Mais plus qu’une réponse individuelle\, cette question appelle un travail collectif à travers un dialogue entre spécialistes des espaces et des divers champs concernés : c’est l’objet de cet atelier qui se veut la première étape de la constitution d’un groupe de travail sur les réseaux qui se nouent autour de la Seine\, afin de connecter des chercheurs\, entre période médiévale et moderne\, et des champs scientifiques\, entre Histoire\, Géographie\, Archéologie\, qui s’ignorent parfois. \n\n\n\nAprès deux sessions organisées en 2022 et 2023 à Rouen et Caen\, ce troisième volet se tiendra au Havre. \n\n\n\n\n\nEn savoir plus\n\n\n\n\nToutes les actualités du Centre Michel de Boüard – CRAHAM : CRAHAM – Agenda
URL:https://ufr-hss.unicaen.fr/evenement/autour-de-la-seine-3-la-seine-et-les-activites-economiques/
LOCATION:Le Havre · Université Le Havre Normandie · Faculté des affaires internationales · Salle Olympe de Gouges\, Faculté des Affaires Internationales\, 25 Rue Philippe Lebon\, Le Havre\, 76600\, France
CATEGORIES:Journée d'étude
ATTACH;FMTTYPE=image/png:https://ufr-hss.unicaen.fr/wp-content/uploads/sites/32/2025/10/UNICAEN_UFR-HSS_Bandeau_JE_Autour-de-la-Seine-3_02-10-2025.png
END:VEVENT
BEGIN:VEVENT
DTSTART;TZID=Europe/Paris:20251002T140000
DTEND;TZID=Europe/Paris:20251002T170000
DTSTAMP:20260421T220542
CREATED:20250919T075600Z
LAST-MODIFIED:20251003T073557Z
UID:89231-1759413600-1759424400@ufr-hss.unicaen.fr
SUMMARY:Interjections\, modifieurs expressifs et autres effets « affectifs » : un défi pour la pragmatique
DESCRIPTION:La 1ère conférence du laboratoire CRISCO de l’année 2025-2026 aura lieu le jeudi 2 octobre 2025\, à 14h\, dans l’amphithéâtre Huet\, bâtiment B. \n\n\n\nProgramme\n\n\n\nLouis de Saussure (professeur\, université de Neuchâtel) \n\n\n\nNotoirement\, les approches de tradition formelle rencontrent des difficultés majeures pour rendre compte des effets de la communication langagière qui ne se réduisent pas à des propositions. Or d’une part ces effets sont extrêmement présents dans l’interaction verbale\, et d’autre part ils ne constituent pas une part négligeable de la communication que l’on pourrait se permettre d’ignorer. Le fait\, par exemple\, qu’un ensemble d’expressions soient irréductibles à la logique formelle (Ducrot 1966) voire « ineffables » (Blakemore 2011) est symptomatique de leur appartenance au monde de la « procéduralité » et non à celui du sens « déclaratif »\, conceptuel (Ullmann 2016)\, échappant donc à la description propositionnelle. Parmi ces éléments\, les connecteurs discursifs occupent une place bien reconnue\, mais également les attitudes et les expressifs\, qui relèvent davantage de la communication affective.Lire la suite \n\n\n\nEn savoir plus\n\n\n\n\nToutes les actualités du laboratoire CRISCO : CRISCO – Actualités
URL:https://ufr-hss.unicaen.fr/evenement/interjections-modifieurs-expressifs-et-autres-effets-affectifs-un-defi-pour-la-pragmatique/
LOCATION:Caen · Campus 1 · Bâtiment B · Amphi Daniel Huet\, Bâtiment B\, Esplanade de la Paix\, Caen\, 14000\, France
CATEGORIES:Conférence
ATTACH;FMTTYPE=image/png:https://ufr-hss.unicaen.fr/wp-content/uploads/sites/32/2023/09/UNICAEN_UFR-HSS_Bandeau_Conference-CRISCO_2023.png
END:VEVENT
END:VCALENDAR