BEGIN:VCALENDAR
VERSION:2.0
PRODID:-//UFR Humanités et sciences sociales (HSS) - Université de Caen Normandie - ECPv6.15.18//NONSGML v1.0//EN
CALSCALE:GREGORIAN
METHOD:PUBLISH
X-ORIGINAL-URL:https://ufr-hss.unicaen.fr
X-WR-CALDESC:Évènements pour UFR Humanités et sciences sociales (HSS) - Université de Caen Normandie
REFRESH-INTERVAL;VALUE=DURATION:PT1H
X-Robots-Tag:noindex
X-PUBLISHED-TTL:PT1H
BEGIN:VTIMEZONE
TZID:Europe/Paris
BEGIN:DAYLIGHT
TZOFFSETFROM:+0100
TZOFFSETTO:+0200
TZNAME:CEST
DTSTART:20240331T010000
END:DAYLIGHT
BEGIN:STANDARD
TZOFFSETFROM:+0200
TZOFFSETTO:+0100
TZNAME:CET
DTSTART:20241027T010000
END:STANDARD
BEGIN:DAYLIGHT
TZOFFSETFROM:+0100
TZOFFSETTO:+0200
TZNAME:CEST
DTSTART:20250330T010000
END:DAYLIGHT
BEGIN:STANDARD
TZOFFSETFROM:+0200
TZOFFSETTO:+0100
TZNAME:CET
DTSTART:20251026T010000
END:STANDARD
BEGIN:DAYLIGHT
TZOFFSETFROM:+0100
TZOFFSETTO:+0200
TZNAME:CEST
DTSTART:20260329T010000
END:DAYLIGHT
BEGIN:STANDARD
TZOFFSETFROM:+0200
TZOFFSETTO:+0100
TZNAME:CET
DTSTART:20261025T010000
END:STANDARD
END:VTIMEZONE
BEGIN:VEVENT
DTSTART;TZID=Europe/Paris:20251003T103000
DTEND;TZID=Europe/Paris:20251003T170000
DTSTAMP:20260421T202619
CREATED:20251001T151305Z
LAST-MODIFIED:20251001T151306Z
UID:89412-1759487400-1759510800@ufr-hss.unicaen.fr
SUMMARY:Quels XVIIe siècles le XIXe siècle édite-t-il ?
DESCRIPTION:Journée d’étude\, organisée par les laboratoires LASLAR · UR 4256 (université de Caen Normandie) et FoReLLIS · UR 15076 (université de Poitiers)\, vendredi 3 octobre 2025\, de 10h30 à 17h\, dans la salle des actes de la MRSH. \n\n\n\nQuels XVIIe siècles le XIXe siècle édite-t-il ? L’édition des fictions narratives en prose du XVIIe siècle au cours du XIXe siècle\n\n\n\nResponsables scientifiques : Camille Esmein-Sarrazin (université de Poitiers\, FoReLLIS) et Marie-Gabrielle Lallemand (université de Caen-Normandie\, LASLAR) \n\n\n\nLes dernières décennies ont donné lieu à des travaux nombreux sur la lecture des textes du XVIIe siècle au cours du XIXe siècle\, cherchant à éclairer la réception de certains auteurs ou œuvres\, ou s’interrogeant sur les raisons de leur remise à l’honneur ou de leur disparition. Le rôle joué par les programmes scolaires et par la discipline nouvelle qu’est l’histoire littéraire dans la constitution du classicisme durant cette période\, et plus encore dans l’élaboration d’un canon littéraire\, a été abordé dans différentes perspectives. \n\n\n\nAu cours du XIXe siècle\, de nombreuses œuvres du XVIIe siècle ont été redécouvertes et lues à nouveaux frais avec des ambitions philologiques variables : la multiplicité des entreprises d’édition critique va de pair avec la variété des exigences et des approches. En retracer la généalogie n’est possible qu’en s’appuyant à la fois sur l’histoire du livre et de l’édition mais également sur des projets qui relèvent soit d’une approche critique individuelle (on peut penser aux érudits qui ont à la fois retrouvé des textes perdus ou inédits et édité ces textes) soit d’un projet commercial ou intellectuel particulier (telle collection\, telle entreprise d’œuvres complètes). En effet\, ces approches et ces projets ont vraisemblablement joué un rôle déterminant dans la distinction qui s’est progressivement opérée entre des œuvres jugées majeures et toutes les autres œuvres écrites ou publiées au XVIIe siècle. \n\n\n\nL’examen des fictions narratives du XVIIe siècle (romans\, nouvelles\, pseudo-mémoires\, contes de fées\, etc.) pour lesquelles le catalogue de la BNF conserve des éditions publiées entre 1800 et 1900 est révélateur de la façon dont\, au cours de ce siècle\, certaines œuvres sont jugées indispensables (Les Aventures de Télémaque de Fénelon\, pour lesquelles on dénombre plus de trois cents éditions\, à un moindre degré La Princesse de Clèves de Lafayette et Le Roman comique de Scarron) tandis que d’autres sombrent dans un oubli venant démentir le succès rencontré lors de leur publication (L’Astrée d’Urfé\, L’Histoire comique de Francion de Sorel\, les romans des Scudéry\, les nouvelles de Segrais). \n\n\n\nLa première journée d’étude est plus particulièrement consacrée aux fictions narratives en prose. \n\n\n\n\n\nEn savoir plus\n\n\n\n\nContact : marie-gabrielle.lallemand@unicaen.frToutes les actualités du laboratoire LASLAR : LASLAR – Agenda
URL:https://ufr-hss.unicaen.fr/evenement/quels-xviie-siecles-le-xixe-siecle-edite-t-il/
LOCATION:Caen · Campus 1 · Maison de la recherche en sciences humaines (MRSH) · Salle des Actes\, Campus 1\, Maison de la recherche en sciences humaines (MRSH)\, 1 Esplanade de la Paix\, Caen\, 14000\, France
CATEGORIES:Journée d'étude
ATTACH;FMTTYPE=image/png:https://ufr-hss.unicaen.fr/wp-content/uploads/sites/32/2025/10/UNICAEN_LASLAR_Bandeau_JE_Quels-XVIIe-siecles_03-10-2025.png
END:VEVENT
END:VCALENDAR