BEGIN:VCALENDAR
VERSION:2.0
PRODID:-//UFR Humanités et sciences sociales (HSS) - Université de Caen Normandie - ECPv6.15.18//NONSGML v1.0//EN
CALSCALE:GREGORIAN
METHOD:PUBLISH
X-ORIGINAL-URL:https://ufr-hss.unicaen.fr
X-WR-CALDESC:Évènements pour UFR Humanités et sciences sociales (HSS) - Université de Caen Normandie
REFRESH-INTERVAL;VALUE=DURATION:PT1H
X-Robots-Tag:noindex
X-PUBLISHED-TTL:PT1H
BEGIN:VTIMEZONE
TZID:Europe/Paris
BEGIN:DAYLIGHT
TZOFFSETFROM:+0100
TZOFFSETTO:+0200
TZNAME:CEST
DTSTART:20240331T010000
END:DAYLIGHT
BEGIN:STANDARD
TZOFFSETFROM:+0200
TZOFFSETTO:+0100
TZNAME:CET
DTSTART:20241027T010000
END:STANDARD
BEGIN:DAYLIGHT
TZOFFSETFROM:+0100
TZOFFSETTO:+0200
TZNAME:CEST
DTSTART:20250330T010000
END:DAYLIGHT
BEGIN:STANDARD
TZOFFSETFROM:+0200
TZOFFSETTO:+0100
TZNAME:CET
DTSTART:20251026T010000
END:STANDARD
BEGIN:DAYLIGHT
TZOFFSETFROM:+0100
TZOFFSETTO:+0200
TZNAME:CEST
DTSTART:20260329T010000
END:DAYLIGHT
BEGIN:STANDARD
TZOFFSETFROM:+0200
TZOFFSETTO:+0100
TZNAME:CET
DTSTART:20261025T010000
END:STANDARD
END:VTIMEZONE
BEGIN:VEVENT
DTSTART;TZID=Europe/Paris:20251021T133000
DTEND;TZID=Europe/Paris:20251021T163000
DTSTAMP:20260421T220527
CREATED:20250718T082543Z
LAST-MODIFIED:20250718T082544Z
UID:56551-1761053400-1761064200@ufr-hss.unicaen.fr
SUMMARY:Nucléaire\, énergie et société · Séance 6
DESCRIPTION:Prochaine séance du séminaire « Nucléaire\, énergie et société » organisé par le pôle Risques de la MRSH\, dans le cadre du master GREEN\, mardi 21 octobre 2025\, de 13h30 à 16h30\, dans la salle des actes de la MRSH. \n\n\n\nProgramme de la séance du 21 octobre 2025\n\n\n\nResponsable scientifique : Frédérick Lemarchand \n\n\n\nRetour sur un désastre : les leçons de Tchernobylpar Galia Ackerman\, historienne et journaliste\, spécialiste de Tchernobyl et en société russe \n\n\n\nEn savoir plus\n\n\n\n\nProgramme complet 2025 du Séminaire Nucléaire\, énergie et sociétéToutes les actualités du laboratoire CERREV : CERREV – Agenda
URL:https://ufr-hss.unicaen.fr/evenement/nucleaire-energie-et-societe-seance-6/
LOCATION:Caen · Campus 1 · Maison de la recherche en sciences humaines (MRSH) · Salle des Actes\, Campus 1\, Maison de la recherche en sciences humaines (MRSH)\, 1 Esplanade de la Paix\, Caen\, 14000\, France
CATEGORIES:Séminaire
ATTACH;FMTTYPE=image/png:https://ufr-hss.unicaen.fr/wp-content/uploads/sites/32/2025/07/UNICAEN_UFR-HSS_Bandeau_Seminaire-Transition-technique-territoire_2025.png
END:VEVENT
END:VCALENDAR