BEGIN:VCALENDAR
VERSION:2.0
PRODID:-//UFR Humanités et sciences sociales (HSS) - Université de Caen Normandie - ECPv6.15.18//NONSGML v1.0//EN
CALSCALE:GREGORIAN
METHOD:PUBLISH
X-WR-CALNAME:UFR Humanités et sciences sociales (HSS) - Université de Caen Normandie
X-ORIGINAL-URL:https://ufr-hss.unicaen.fr
X-WR-CALDESC:Évènements pour UFR Humanités et sciences sociales (HSS) - Université de Caen Normandie
REFRESH-INTERVAL;VALUE=DURATION:PT1H
X-Robots-Tag:noindex
X-PUBLISHED-TTL:PT1H
BEGIN:VTIMEZONE
TZID:Europe/Paris
BEGIN:DAYLIGHT
TZOFFSETFROM:+0100
TZOFFSETTO:+0200
TZNAME:CEST
DTSTART:20240331T010000
END:DAYLIGHT
BEGIN:STANDARD
TZOFFSETFROM:+0200
TZOFFSETTO:+0100
TZNAME:CET
DTSTART:20241027T010000
END:STANDARD
BEGIN:DAYLIGHT
TZOFFSETFROM:+0100
TZOFFSETTO:+0200
TZNAME:CEST
DTSTART:20250330T010000
END:DAYLIGHT
BEGIN:STANDARD
TZOFFSETFROM:+0200
TZOFFSETTO:+0100
TZNAME:CET
DTSTART:20251026T010000
END:STANDARD
BEGIN:DAYLIGHT
TZOFFSETFROM:+0100
TZOFFSETTO:+0200
TZNAME:CEST
DTSTART:20260329T010000
END:DAYLIGHT
BEGIN:STANDARD
TZOFFSETFROM:+0200
TZOFFSETTO:+0100
TZNAME:CET
DTSTART:20261025T010000
END:STANDARD
END:VTIMEZONE
BEGIN:VEVENT
DTSTART;TZID=Europe/Paris:20251215T140000
DTEND;TZID=Europe/Paris:20251215T140000
DTSTAMP:20260421T211805
CREATED:20251003T071546Z
LAST-MODIFIED:20251003T071547Z
UID:89454-1765807200-1765807200@ufr-hss.unicaen.fr
SUMMARY:Atelier du Pôle Document Numérique · Séance 4
DESCRIPTION:Prochaine séance des ateliers du Pôle Document Numérique de la MRSH\, année 2025-2026\, lundi 15 décembre 2025\, à 14h\, dans la salle SH 126 de la MRSH. \n\n\n\nLe Pôle Document numérique · PDN est un pôle pluridisciplinaire et une plateforme d’ingénierie de la Maison de la Recherche en Sciences Humaines (CNRS/université de Caen Normandie). \n\n\n\nLe PDN conçoit\, développe et met en œuvre des outils numériques et des méthodes de travail pour les programmes de recherche en humanités et sciences humaines et sociales (SHS) avec une approche centrée sur les données. Cette orientation permet de concentrer les efforts de veille et de recherche sur les modèles de données plutôt que sur les outils d’exploitation. L’expertise développée sur ces modèles facilite la production de solutions génériques pour la manipulation\, l’observation et la consultation des documents. Ces outils génériques sont ensuite adaptés à des problématiques scientifiques spécifiques. \n\n\n\nLes ateliers\n\n\n\nLes ateliers du Pôle Document Numérique proposent aux doctorant·es et aux jeunes chercheur·es d’appliquer les méthodes et outils qu’il développe à leurs propres données de recherche\, afin de répondre aux questions concrètes qu’ils ou elles peuvent se poser et de faciliter l’exploitation de ces mêmes données. \n\n\n\nInscriptionContacter julia.roger@unicaen.fr \n\n\n\nEn savoir plus\n\n\n\n\nMRSH – Pôle Document Numérique
URL:https://ufr-hss.unicaen.fr/evenement/atelier-du-pole-document-numerique-seance-4/
LOCATION:Caen · Campus 1 · Maison de la recherche en sciences humaines (MRSH) · Salle SH-126\, Campus 1\, Maison de la recherche en sciences humaines (MRSH)\, 1 Esplanade de la Paix\, Caen\, 14000\, France
CATEGORIES:Atelier
ATTACH;FMTTYPE=image/png:https://ufr-hss.unicaen.fr/wp-content/uploads/sites/32/2023/03/Bandeau_Ateliers-du-PDN_2022-2023.png
END:VEVENT
END:VCALENDAR