BEGIN:VCALENDAR
VERSION:2.0
PRODID:-//UFR Humanités et sciences sociales (HSS) - Université de Caen Normandie - ECPv6.15.18//NONSGML v1.0//EN
CALSCALE:GREGORIAN
METHOD:PUBLISH
X-ORIGINAL-URL:https://ufr-hss.unicaen.fr
X-WR-CALDESC:Évènements pour UFR Humanités et sciences sociales (HSS) - Université de Caen Normandie
REFRESH-INTERVAL;VALUE=DURATION:PT1H
X-Robots-Tag:noindex
X-PUBLISHED-TTL:PT1H
BEGIN:VTIMEZONE
TZID:Europe/Paris
BEGIN:DAYLIGHT
TZOFFSETFROM:+0100
TZOFFSETTO:+0200
TZNAME:CEST
DTSTART:20250330T010000
END:DAYLIGHT
BEGIN:STANDARD
TZOFFSETFROM:+0200
TZOFFSETTO:+0100
TZNAME:CET
DTSTART:20251026T010000
END:STANDARD
BEGIN:DAYLIGHT
TZOFFSETFROM:+0100
TZOFFSETTO:+0200
TZNAME:CEST
DTSTART:20260329T010000
END:DAYLIGHT
BEGIN:STANDARD
TZOFFSETFROM:+0200
TZOFFSETTO:+0100
TZNAME:CET
DTSTART:20261025T010000
END:STANDARD
BEGIN:DAYLIGHT
TZOFFSETFROM:+0100
TZOFFSETTO:+0200
TZNAME:CEST
DTSTART:20270328T010000
END:DAYLIGHT
BEGIN:STANDARD
TZOFFSETFROM:+0200
TZOFFSETTO:+0100
TZNAME:CET
DTSTART:20271031T010000
END:STANDARD
END:VTIMEZONE
BEGIN:VEVENT
DTSTART;TZID=Europe/Paris:20260121T100000
DTEND;TZID=Europe/Paris:20260121T130000
DTSTAMP:20260421T200606
CREATED:20251003T124845Z
LAST-MODIFIED:20251003T130321Z
UID:89509-1768989600-1769000400@ufr-hss.unicaen.fr
SUMMARY:La fabrique du politique · 25|26 · Séance 5
DESCRIPTION:Prochaine séance du séminaire « La fabrique du politique »\, année 2025-2026\, organisée par le laboratoire HisTeMé · UR 7455\, mercredi 21 janvier 2026\, de 10h à 13h\, dans la salle des actes de la MRSH. \n\n\n\nCoordination : Vincent Bollenot\, Brice Évain\, Dzovinar Kévonian\, Anne de Mathan\, Félix Brêteau \n\n\n\nCe séminaire s’inscrit dans la dynamique de formation pluridisciplinaire du Parcours Sciences Politiques qui associe historiens\, sociologues\, juristes\, philosophes\, économistes\, politistes et géographes en Licence et\, depuis la rentrée 2022-2023\, en Master. L’objet politique est ici appréhendé dans une longue durée associant période moderne et contemporaine mais tout autant dans la perspective des enjeux sociopolitiques actuels. Il vise à confronter les problématiques\, les méthodes et travaux actuels\, en somme de décloisonner d’un point de vue disciplinaire et temporel les approches d’un même objet : le fait politique. L’ambition de ce séminaire consiste à affûter la réflexion des étudiants et auditeurs\, leur fournir des clés d’accès et des outils d’analyse\, par des ateliers thématiques présentés par notre équipe et animés par des collègues invités et spécialistes reconnus.Chaque année une thématique est choisie en lien à la fois avec l’actualité de la recherche mais également avec les enjeux du politique dans la Cité. Dans une perspective de science ouverte et partagée\, le séminaire est un lieu d’analyses et de prospectives sur les mutations politiques et les droits fondamentaux\, les nouveaux acteurs et pratiques politiques\, les migrations et l’administration de l’asile\, la participation citoyenne et les modalités d’engagement. \n\n\n\nThématique 2025-2026 : Intime et politique\, politiques de l’intime \n\n\n\nProgramme de la séance 5\n\n\n\nPunir\, de l’intime au politique \n\n\n\nIsabelle Poutrin (université de Reims Champagne-Ardenne\, CERHIC) et Élisabeth Lusset (université Paris 1 Panthéon Sorbonne\, CNRS/LaMOP)Présentation et discussion croisée autour du Dictionnaire du fouet et de la fessée. Corriger et punir \n\n\n\nEn savoir plus\n\n\n\n\nConsultez le programme complet du Séminaire La fabrique du politique 2025-2026Toutes les actualités du laboratoire HisTeMé : HisTeMé – Actualités
URL:https://ufr-hss.unicaen.fr/evenement/la-fabrique-du-politique-2526-seance-5/
LOCATION:Caen · Campus 1 · Maison de la recherche en sciences humaines (MRSH) · Salle des Actes\, Campus 1\, Maison de la recherche en sciences humaines (MRSH)\, 1 Esplanade de la Paix\, Caen\, 14000\, France
CATEGORIES:Séminaire
ATTACH;FMTTYPE=image/jpeg:https://ufr-hss.unicaen.fr/wp-content/uploads/sites/32/2023/11/UNICAEN_UFR-HSS_Bandeau_Seminaire-La-fabrique-du-politique_2023-2024.jpg
END:VEVENT
BEGIN:VEVENT
DTSTART;TZID=Europe/Paris:20260121T143000
DTEND;TZID=Europe/Paris:20260121T173000
DTSTAMP:20260421T200606
CREATED:20250926T142548Z
LAST-MODIFIED:20251001T143437Z
UID:89303-1769005800-1769016600@ufr-hss.unicaen.fr
SUMMARY:Traces de guerre · 25|26 · Séance 4
DESCRIPTION:Prochaine séance du séminaire « Seconde Guerre mondiale\, Traces de guerre »\, 2025-2026\, organisée par le laboratoire HisTeMé · UR 7455\, mercredi 21 janvier 2026\, de 14h30 à 17h30\, dans la salle des actes de la MRSH. \n\n\n\nLe séminaire\n\n\n\nResponsables scientifiques :  Gaël Eismann et François Rouquet \n\n\n\nLe séminaire se propose d’inscrire la dimension occidentale de l’événement « Seconde Guerre mondiale » dans une perspective géographique et chronologique très large\, en intégrant en amont les legs socio-politiques et les pratiques culturelles des acteurs et témoins du conflit et en aval les répercussions\, les représentations comme les mémoires de l’événement. Si les thématiques autour de la justice\, de la répression\, de l’épuration et du monde combattant font partie des principaux champs de recherche\, les traces de la guerre sont aussi analysées à travers des corpus de témoignages publiés et des vestiges de la guerre.A cet effet\, les invitations proposées ont trait à l’actualité de la Seconde Guerre mondiale ou à d’autres périodes si des enjeux méthodologiques peuvent être abordés. Les étudiantes et étudiants sont par ailleurs invités à assister aux manifestations organisées avec le Mémorial de Caen : les journées « jeunes chercheur·es »\, les colloques et journées d’études organisées dans le cadre de nos programmes de recherche. \n\n\n\nProgramme de la séance 4\n\n\n\n\nDépouiller en toute légalité. L’aryanisation économique des biens juifs en Algérie par le régime de Vichy (1941-1942) \n\n\n\nJean Laloum\, chercheur HDR à l’École pratique des hautes études \n\n\n\n\nEn savoir plus\n\n\n\n\nConsultez le programme complet du Séminaire Traces de guerre 2025-2026Retrouvez toutes les actualités  : \n\n\n\n\ndu laboratoire HisTeMé : HisTeMé – Actualités\n\n\n\ndu séminaire sur le blog Hypotheses – Autour de la Seconde Guerre mondiale
URL:https://ufr-hss.unicaen.fr/evenement/traces-de-guerre-2526-seance-4/
LOCATION:Caen · Campus 1 · Maison de la recherche en sciences humaines (MRSH) · Salle des Actes\, Campus 1\, Maison de la recherche en sciences humaines (MRSH)\, 1 Esplanade de la Paix\, Caen\, 14000\, France
CATEGORIES:Séminaire
ATTACH;FMTTYPE=image/png:https://ufr-hss.unicaen.fr/wp-content/uploads/sites/32/2025/09/UNICAEN_UFR-HSS_Bandeau_Seminaire-Traces-de-guerre_2025-2026.png
END:VEVENT
END:VCALENDAR