BEGIN:VCALENDAR
VERSION:2.0
PRODID:-//UFR Humanités et sciences sociales (HSS) - Université de Caen Normandie - ECPv6.15.18//NONSGML v1.0//EN
CALSCALE:GREGORIAN
METHOD:PUBLISH
X-ORIGINAL-URL:https://ufr-hss.unicaen.fr
X-WR-CALDESC:Évènements pour UFR Humanités et sciences sociales (HSS) - Université de Caen Normandie
REFRESH-INTERVAL;VALUE=DURATION:PT1H
X-Robots-Tag:noindex
X-PUBLISHED-TTL:PT1H
BEGIN:VTIMEZONE
TZID:Europe/Paris
BEGIN:DAYLIGHT
TZOFFSETFROM:+0100
TZOFFSETTO:+0200
TZNAME:CEST
DTSTART:20250330T010000
END:DAYLIGHT
BEGIN:STANDARD
TZOFFSETFROM:+0200
TZOFFSETTO:+0100
TZNAME:CET
DTSTART:20251026T010000
END:STANDARD
BEGIN:DAYLIGHT
TZOFFSETFROM:+0100
TZOFFSETTO:+0200
TZNAME:CEST
DTSTART:20260329T010000
END:DAYLIGHT
BEGIN:STANDARD
TZOFFSETFROM:+0200
TZOFFSETTO:+0100
TZNAME:CET
DTSTART:20261025T010000
END:STANDARD
BEGIN:DAYLIGHT
TZOFFSETFROM:+0100
TZOFFSETTO:+0200
TZNAME:CEST
DTSTART:20270328T010000
END:DAYLIGHT
BEGIN:STANDARD
TZOFFSETFROM:+0200
TZOFFSETTO:+0100
TZNAME:CET
DTSTART:20271031T010000
END:STANDARD
END:VTIMEZONE
BEGIN:VEVENT
DTSTART;TZID=Europe/Paris:20260130T140000
DTEND;TZID=Europe/Paris:20260130T170000
DTSTAMP:20260421T200605
CREATED:20251001T072145Z
LAST-MODIFIED:20251001T072147Z
UID:89328-1769781600-1769792400@ufr-hss.unicaen.fr
SUMMARY:Mondes nordiques et normands médiévaux · 25|26 · Séance 5
DESCRIPTION:La prochaine séance du séminaire « Mondes nordiques et normands médiévaux »\, programme 2025-2026\, aura lieu le vendredi 30 janvier 2026\, de 14h à 17h\, dans la salle SH 027 de la MRSH. \n\n\n\nCe séminaire vise à présenter les recherches qui intéressent les mondes nordiques et normands médiévaux\, entendus au sens large pour désigner la Normandie médiévale dans la longue durée\, mais aussi les espaces où s’établirent les Scandinaves aux VIIIe-XIe siècles et les territoires qui ont été sous domination normande en France\, dans les îles Britanniques et en Méditerranée aux XIe-XIIIe siècles. Les disciplines représentées sont l’histoire\, l’archéologie\, la philologie\, les langues et les littératures médiévales. Certaines séances sont mutualisées avec le séminaire « La Fabrique des sources ». \n\n\n\nLe séminaire est ouvert à toutes et tous\, et en particulier aux membres du CRAHAM et aux étudiant·es inscrits en master d’histoire et aux doctorant·es. \n\n\n\nProgramme de la séance 5\n\n\n\nCoordination : Aleksandr Musin et Pierre Bauduin (UMR CRAHAM\, UNICAEN) \n\n\n\nAutour des recherches récentes sur la Belarus | At the medieval origins of BelarusMikalai PLAVINSKI (faculté d’archéologie\, université de Varsovie)Forests of Slavs and Balts\, Rivers of Scandinavians\, or the Territory of Belarus in the Viking Age: an archaeological perspectiveAliaksandr HRUSHA (Académie des sciences de Pologne\, Varsovie)The Other Rus’: The Lands of Belarus’ in The Grand Duchy of Lithuania (1250-1563) \n\n\n\nEn savoir plus\n\n\n\n\nConsultez le programme complet du Séminaire Mondes nordiques et normands médiévaux 2025-2026Toutes les actualités du Centre Michel de Boüard – CRAHAM : CRAHAM – Agenda
URL:https://ufr-hss.unicaen.fr/evenement/mondes-nordiques-et-normands-medievaux-2526-seance-5/
LOCATION:Caen · Campus 1 · Maison de la recherche en sciences humaines (MRSH) · Salle SH-027\, Campus 1\, Maison de la recherche en sciences humaines (MRSH)\, 1 Esplanade de la Paix\, Caen\, 14000\, France
CATEGORIES:Séminaire
ATTACH;FMTTYPE=image/jpeg:https://ufr-hss.unicaen.fr/wp-content/uploads/sites/32/2024/09/UNICAEN_UFR-HSS_Bandeau_Seminaire-MNNM-2024-2025.jpg
END:VEVENT
END:VCALENDAR