BEGIN:VCALENDAR
VERSION:2.0
PRODID:-//UFR Humanités et sciences sociales (HSS) - Université de Caen Normandie - ECPv6.15.18//NONSGML v1.0//EN
CALSCALE:GREGORIAN
METHOD:PUBLISH
X-WR-CALNAME:UFR Humanités et sciences sociales (HSS) - Université de Caen Normandie
X-ORIGINAL-URL:https://ufr-hss.unicaen.fr
X-WR-CALDESC:Évènements pour UFR Humanités et sciences sociales (HSS) - Université de Caen Normandie
REFRESH-INTERVAL;VALUE=DURATION:PT1H
X-Robots-Tag:noindex
X-PUBLISHED-TTL:PT1H
BEGIN:VTIMEZONE
TZID:Europe/Paris
BEGIN:DAYLIGHT
TZOFFSETFROM:+0100
TZOFFSETTO:+0200
TZNAME:CEST
DTSTART:20220327T010000
END:DAYLIGHT
BEGIN:STANDARD
TZOFFSETFROM:+0200
TZOFFSETTO:+0100
TZNAME:CET
DTSTART:20221030T010000
END:STANDARD
BEGIN:DAYLIGHT
TZOFFSETFROM:+0100
TZOFFSETTO:+0200
TZNAME:CEST
DTSTART:20230326T010000
END:DAYLIGHT
BEGIN:STANDARD
TZOFFSETFROM:+0200
TZOFFSETTO:+0100
TZNAME:CET
DTSTART:20231029T010000
END:STANDARD
BEGIN:DAYLIGHT
TZOFFSETFROM:+0100
TZOFFSETTO:+0200
TZNAME:CEST
DTSTART:20240331T010000
END:DAYLIGHT
BEGIN:STANDARD
TZOFFSETFROM:+0200
TZOFFSETTO:+0100
TZNAME:CET
DTSTART:20241027T010000
END:STANDARD
END:VTIMEZONE
BEGIN:VEVENT
DTSTART;TZID=Europe/Paris:20230405T090000
DTEND;TZID=Europe/Paris:20230405T170000
DTSTAMP:20260424T232341
CREATED:20240322T161238Z
LAST-MODIFIED:20240529T092752Z
UID:51353-1680685200-1680714000@ufr-hss.unicaen.fr
SUMMARY:Rimbaud aujourd’hui
DESCRIPTION:Journée d’études consacrée à Rimbaud\, organisée par le laboratoire LASLAR · UR 4256\, mercredi 5 avril 2023\, de 9h à 17h\, dans la salle des actes de la MRSH. \n\n\n\nProgramme\n\n\n\nResponsable scientifique : Marie Hartmann (LASLAR\, université de Caen Normandie) \n\n\n\nL’objectif de cette journée d’études est de montrer que la vie mythifiée et les textes de Rimbaud continuent à inspirer la génération actuelle. Un premier volet\, plus académique\, consiste en une présentation centrée sur les thèmes : « découvrir\, lire\, étudier Rimbaud aujourd’hui ». Le second moment\, plus ouvert\, s’intéresse aux appropriations de sa légende\, aux transpositions artistiques de son œuvre. Ce sera l’occasion de présenter les travaux des étudiantes et étudiants. \n\n\n\n9h15 | Accueil des participant·es9h30 | Marie-Paule Berranger : « Quel Rimbaud pour quel surréalisme ? »10h15 | Anne Gourio et Charlotte Paiola : « Étudier Rimbaud aujourd’hui »Pause11h00 | Inès Létrillard : « Rimbaud bleu et rouge\, fonctions de la poésie dans Pierrot le fou »11h30 | Pauline Adeline : « Vers une mise en voix des Illuminations »Déjeuner14h | Présentation des travaux d’étudiant·es \n\n\n\n\n\nEn savoir plus\n\n\n\n\nToutes les actualités du laboratoire LASLAR : LASLAR – Agenda
URL:https://ufr-hss.unicaen.fr/evenement/rimbaud-aujourdhui/
LOCATION:Caen · Campus 1 · Maison de la recherche en sciences humaines (MRSH) · Salle des Actes\, Campus 1\, Maison de la recherche en sciences humaines (MRSH)\, 1 Esplanade de la Paix\, Caen\, 14000\, France
CATEGORIES:Journée d'étude
ATTACH;FMTTYPE=image/png:https://ufr-hss.unicaen.fr/wp-content/uploads/sites/32/2023/03/UNICAEN_UFR-HSS_Bandeau_Journee-detude_Rimbaud-aujourdhui_05-04-2023.png
END:VEVENT
BEGIN:VEVENT
DTSTART;TZID=Europe/Paris:20230407T090000
DTEND;TZID=Europe/Paris:20230407T180000
DTSTAMP:20260424T232341
CREATED:20240322T160714Z
LAST-MODIFIED:20240529T092631Z
UID:51351-1680858000-1680890400@ufr-hss.unicaen.fr
SUMMARY:Le journalisme de cinéma en France : mises en perspective historique
DESCRIPTION:Journée d’études organisée par le laboratoire LASLAR · UR 4256\, vendredi 7 avril 2023\, de 9h à 18h\, à l’IMEC. \n\n\n\nProgramme\n\n\n\nResponsables scientifiques : Myriam Juan et Valérie Vignaux (LASLAR\, université de Caen Normandie) \n\n\n\nSi de nombreux travaux ont été consacrés à la critique\, celle-ci est loin d’épuiser la richesse des écrits parus sur le cinéma dans la presse. Cette journée d’études invite à s’intéresser au journalisme de cinéma\, afin de comprendre ce qu’il nous apprend sur la manière dont ce dernier a été perçu\, vécu\, transmis\, sur les représentations qui y ont été associées et sur le rôle social et culturel qu’il a pu jouer en France\, de ses débuts à la veille du développement d’Internet. \n\n\n\n\n\nEn savoir plus\n\n\n\n\nToutes les actualités du laboratoire LASLAR : LASLAR – Agenda
URL:https://ufr-hss.unicaen.fr/evenement/le-journalisme-de-cinema-en-france-mises-en-perspective-historique/
LOCATION:Saint-Germain-la-Blanche-Herbe · IMEC\, IMEC\, L'Abbaye D'Ardenne\, 3 Rue Youf du Marché\, Saint-Germain-la-Blanche-Herbe\, 14280\, France
CATEGORIES:Journée d'étude
ATTACH;FMTTYPE=image/png:https://ufr-hss.unicaen.fr/wp-content/uploads/sites/32/2023/03/UNICAEN_UFR-HSS_Bandeau_Journee-detude_Le-journalisme-de-cinema-en-France_07-04-2023.png
END:VEVENT
BEGIN:VEVENT
DTSTART;TZID=Europe/Paris:20230411T093000
DTEND;TZID=Europe/Paris:20230411T170000
DTSTAMP:20260424T232341
CREATED:20240322T160035Z
LAST-MODIFIED:20240529T092529Z
UID:51347-1681205400-1681232400@ufr-hss.unicaen.fr
SUMMARY:Il va faire tout noir ?
DESCRIPTION:Atelier du CERREV · UR 3918\, organisé dans le cadre de la semaine TURFU par le Dôme de Caen et l’université de Caen Normandie\, mardi 11 avril 2023\, de 9h30 à 12h30 et de 14h à 17h\, au Dôme. \n\n\n\nSurvivalisme énergétique : on repense la sobriété énergétique en imaginant qu’on n’a plus d’électricité\n\n\n\nLors de cet atelier\, les personnes participantes découvriront les enjeux de sobriété\, des éléments de sécurité existants pour faire face à des coupures totales d’électricité\, et seront invitées à imaginer des scénarios d’adaptation à de telles situations (ou au moins\, aux moyens de les éviter). \n\n\n\nLes résultats de cet atelier seront exploités dans le cadre du programme de recherche participative en sociologie « Prométhée » coordonné par le Centre de recherche « Risques et vulnérabilités » (CERREV)\, l’Institut I-Tésé du CEA et le Centre de sociologie de l’innovation (CSI). Son volet participatif est développé en association avec Le Dôme et l’Institut régional du travail social (IRTS Normandie Caen). Il s’inscrit dans le cadre du label “Science avec et pour la société” décerné à l’université de Caen Normandie et au Dôme par le ministère de l’Enseignement supérieur et de la Recherche. Ce programme bénéficie du soutien de l’Agence nationale de la transition écologique (ADEME). \n\n\n\nProgramme et inscription\n\n\n\n\nInscription et programme de l’atelierConsulter le programme du TURFU Festival
URL:https://ufr-hss.unicaen.fr/evenement/il-va-faire-tout-noir/
LOCATION:Caen · Le Dôme\, Le Dôme\, 3 Esplanade Stéphane Hessel\, Caen\, 14000\, France
CATEGORIES:Atelier,Festival
END:VEVENT
BEGIN:VEVENT
DTSTART;TZID=Europe/Paris:20230411T140000
DTEND;TZID=Europe/Paris:20230411T170000
DTSTAMP:20260424T232341
CREATED:20240325T111331Z
LAST-MODIFIED:20240529T092416Z
UID:51421-1681221600-1681232400@ufr-hss.unicaen.fr
SUMMARY:Atelier du DES · Fabrique de synonymes
DESCRIPTION:Atelier du DES du CRISCO · UR 4255 organisé dans le cadre de la semaine TURFU par le Dôme de Caen et l’université de Caen Normandie\, mardi 11 avril 2023\, de 14h à 17h\, dans la salle Learning-lab\, bâtiment B\, 3e étage. \n\n\n\nEnrichissez le dictionnaire des synonymes de l’université de Caen-Normandie en participant à la construction de nouvelles entrées\n\n\n\nLe dictionnaire des synonymes CRISCO / Université de Caen Normandie a\, en ce moment\, plus de 800 propositions par ses usagers pour des synonymes en attente de traitement.L’atelier sera l’occasion de découvrir le traitement informatique nécessaire à la définition de synonymes\, et le travail de validation et de recherche linguistique pour définir une nouvelle entrée.Laurette Chardon\, ingénieure de recherche en charge du DES au CRISCO\, et Jacques François\, linguiste et ancien directeur du CRISCO\, seront présents pour vous apporter leurs éclairages scientifiques sur ces fascinants synonymes et sur toute la recherche linguistique qui les entoure. \n\n\n\nProgramme et inscription\n\n\n\n\nInscription et programme de l’atelierConsulter le programme du TURFU Festival
URL:https://ufr-hss.unicaen.fr/evenement/atelier-du-des-%c2%b7-fabrique-de-synonymes/
LOCATION:Caen · Campus 1 · Bâtiment B · 3e étage · Salle Learning Lab\, Bâtiment B\, Esplanade de la Paix\, Caen\, 14000\, France
CATEGORIES:Atelier,Festival
END:VEVENT
BEGIN:VEVENT
DTSTART;TZID=Europe/Paris:20230413T090000
DTEND;TZID=Europe/Paris:20230413T170000
DTSTAMP:20260424T232341
CREATED:20240322T112055Z
LAST-MODIFIED:20240529T092301Z
UID:51308-1681376400-1681405200@ufr-hss.unicaen.fr
SUMMARY:Histoire culturelle du cinéma\, cycle "Appréhender le genre en histoire culturelle du cinéma" · Séance 3
DESCRIPTION:Troisième séance du séminaire Histoire culturelle du cinéma\, cycle « Appréhender le genre en histoire culturelle du cinéma »\, organisée par l’unité de recherche LASLAR · UR 4256\, jeudi 13 avril 2023\, de 9h à 17h\, à l’INHA. \n\n\n\nResponsables scientifiques :  Gabrielle Chomentowski (CNRS)\, Myriam Juan (Caen)\, Mélisande Leventopoulos (Paris 8)\, Stéphanie E. Louis (ENC)\, Guillaume Vernet (Paris 1) \n\n\n\nCe nouveau cycle du séminaire propose de se pencher sur les enjeux méthodologiques\, épistémologiques et heuristiques afférents à l’usage de la notion de genre (gender) en histoire culturelle du cinéma. Ouvert par vocation au dialogue avec d’autres approches\, le séminaire proposera d’appréhender le genre depuis l’histoire culturelle du cinéma mais aussi avec celle-ci\, dans le cadre de recherches pouvant s’inscrire dans d’autres perspectives. \n\n\n\nEn savoir plus\n\n\n\n\nToutes les actualités du laboratoire LASLAR : LASLAR – Agenda
URL:https://ufr-hss.unicaen.fr/evenement/histoire-culturelle-du-cinema-cycle-apprehender-le-genre-en-histoire-culturelle-du-cinema-%c2%b7-seance-3/
LOCATION:Paris · Institut national d’histoire de l’art (INHA)\, Institut national d'histoire de l'art\, 2 Rue Vivienne\, Paris\, 75002\, France
CATEGORIES:Séminaire
END:VEVENT
BEGIN:VEVENT
DTSTART;TZID=Europe/Paris:20230414T093000
DTEND;TZID=Europe/Paris:20230414T170000
DTSTAMP:20260424T232341
CREATED:20240322T155619Z
LAST-MODIFIED:20240529T092154Z
UID:51343-1681464600-1681491600@ufr-hss.unicaen.fr
SUMMARY:Quelles technologies dans l'agriculture normande ?
DESCRIPTION:Forum organisé dans le cadre de la semaine TURFU par le Dôme de Caen\, Alliaterra et l’université de Caen Normandie\, vendredi 14 avril 2023\, de 9h30 à 17h\, au Dôme de Caen. \n\n\n\nJournée de réflexion et d’ouverture sur les technologies dans l’Agriculture Normande de demain\n\n\n\nVenez participer à une journée de réflexion sur les technologies dans l’agriculture\, au cours de laquelle nous aborderons ensemble des questions sur l’avenir de l’agriculture normande et expérimenterons certaines technologies numériques mises à disposition par Aliaterra (société caennaise qui développe des outils dans le monde de l’agriculture numérique).Nous nous pencherons sur l’agriculture\, le numérique\, les pratiques ancestrales et surtout sur ce que la population normande (professionnelle\, associative…) souhaite voir dans son paysage agricole. Nous espérons que cette journée servira de prémisse à la création d’une communauté d’intérêt autour de ces questions et d’un travail de fond dans la co-construction de technologies agricoles normandes.La matinée sera consacrée à des ateliers sur les imaginaires autour des outils technologiques tandis que l’après-midi sera davantage tournée vers la manipulation et l’expérimentation de technologies numériques en lien avec l’irrigation. \n\n\n\nProgramme et inscription\n\n\n\n\nInscription et programme de la journéeConsulter le programme du TURFU Festival
URL:https://ufr-hss.unicaen.fr/evenement/quelles-technologies-dans-lagriculture-normande/
LOCATION:Caen · Le Dôme\, Le Dôme\, 3 Esplanade Stéphane Hessel\, Caen\, 14000\, France
CATEGORIES:Festival
ATTACH;FMTTYPE=image/jpeg:https://ufr-hss.unicaen.fr/wp-content/uploads/sites/32/2023/03/Bandeau_Forum-Dome-de-Caen_Quelles-technologies_14-04-2023-.jpg
END:VEVENT
BEGIN:VEVENT
DTSTART;TZID=Europe/Paris:20230414T100000
DTEND;TZID=Europe/Paris:20230414T170000
DTSTAMP:20260424T232341
CREATED:20240322T155114Z
LAST-MODIFIED:20240529T092035Z
UID:51341-1681466400-1681491600@ufr-hss.unicaen.fr
SUMMARY:2e Journée d’études des jeunes chercheur·es du CERREV
DESCRIPTION:Journée d’études des jeunes chercheur·es du CERREV\, vendredi 14 avril 2023\, de 10h à 17h\, dans la salle SH 126 de la MRSH. \n\n\n\nProgramme\n\n\n\nResponsables scientifiques : Lou Broos et Julie Costa \n\n\n\n10h | Accueil10h30 | Mot d’introduction – Direction du laboratoire et comité d’organisation \n\n\n\n10h35-12h | ATELIER 1 · PROBLÈMES SOCIAUX ET RÉPONSES PUBLIQUES\n\n\n\nAnimatrice : Lou BroosDiscutantes : Irène-Lucile Hertzog\, Sarah Demichel-BasnierDe l’arène locale à l’agenda politique national : émergence et ascension du problème public de la drogue au BrésilJulie CostaEnjeux et difficultés dans la prévention des violences conjugales : représentations sociales et réponses pénalesSacha Azoulay \n\n\n\n12h-14h | Déjeuner \n\n\n\n14h-16h30 | ATELIER 2 · LA RECHERCHE EN MOUVEMENT : DÉFIS THÉORIQUES ET MÉTHODOLOGIQUES\n\n\n\nAnimatrice : Julie CostaDiscutant.e.s : Hélène Marche\, Jérémie DamammeAdapter ses compétences à un nouveau sujet de recherche : des habitus alimentaires aux bénéficiaires du RSALouis LebredonchelPenser une recherche sur le tourisme dit participatif en Normandie : ancrage théorique et pluralité des terrainsBastien RuauxVulnérabilités sociales des travailleurs en production animale : une identité professionnelle sous tensionAurore Peinado \n\n\n\n16h30 | Conclusion \n\n\n\n\n\nEn savoir plus\n\n\n\n\nToutes les actualités du laboratoire CERREV : CERREV – Agenda
URL:https://ufr-hss.unicaen.fr/evenement/2e-journee-detudes-des-jeunes-chercheur%c2%b7es-du-cerrev/
LOCATION:Caen · Campus 1 · Maison de la recherche en sciences humaines (MRSH) · Salle SH-126\, Campus 1\, Maison de la recherche en sciences humaines (MRSH)\, 1 Esplanade de la Paix\, Caen\, 14000\, France
CATEGORIES:Journée d'étude
ATTACH;FMTTYPE=image/png:https://ufr-hss.unicaen.fr/wp-content/uploads/sites/32/2023/04/UNICAEN_UFR-HSS_Bandeau_Journee-detude_Jeunes-chercheurs_14-04-2023.png
END:VEVENT
BEGIN:VEVENT
DTSTART;TZID=Europe/Paris:20230414T140000
DTEND;TZID=Europe/Paris:20230414T223000
DTSTAMP:20260424T232341
CREATED:20240322T154330Z
LAST-MODIFIED:20240529T091751Z
UID:51337-1681480800-1681511400@ufr-hss.unicaen.fr
SUMMARY:Bloc béton et montée des eaux
DESCRIPTION:Atelier du CERREV · UR 3918\, organisé dans le cadre de la semaine TURFU par le Dôme de Caen et l’université de Caen Normandie\, vendredi 14 avril 2023\, de 14h à 17h et de 19h30 à 22h30\, au Dôme. \n\n\n\nQuels seront les noms et les usages des blocs bétons qui apparaissent\, pour lutter contre l’érosion du littoral ?\n\n\n\nBernières-sur-Mer\, Cherbourg-en-Cotentin\, Ouistreham\, … Depuis plusieurs mois\, des blocs béton font leur apparition le long du littoral normand. Développés pour protéger nos côtes des effets de la montée des eaux\, ces enrochements artificiels pourraient avoir bien d’autres utilités. Imaginons ensemble lesquelles !Selon le GIEC normand\, deux-tiers du littoral régional sont d’ores et déjà concernés par la montée des eaux liée au changement climatique. Érosion\, submersion\, salinisation des terres et transformation des pratiques de loisirs ou professionnelles sont déjà à l’œuvre.Face à cette problématique\, les zones côtières s’artificialisent. Digues et jetées en béton apparaissent partout dans le monde\, avec un impact sur la biodiversité mais aussi sur le paysage\, suscitant de vives réactions des usager·e·s du littoral. Or\, comme le souligne Dominique Mouazé\, Enseignant-chercheur au laboratoire “Morphodynamique continentale et côtière” (M2C)\, les projets\, s’ils se veulent durables\, doivent “prendre en considération la biodiversité marine et les attentes sociétales”.Alors\, comment pourrions-nous nous emparer de ces installations ? Quels pourraient être les nouveaux usages de ces blocs béton ? \n\n\n\nLes résultats de cet atelier seront exploités dans le cadre du programme de recherche participative en sociologie “LittoBlocs” coordonné par le Centre de recherche “Risques et vulnérabilités” (CERREV) en partenariat avec le Centre de recherche en environnement côtier (CREC) et la Direction des patrimoines et de l’architecture du ministère de la Culture. Il est développé en association avec Le Dôme et l’université de Caen Normandie dans le cadre du label “Science avec et pour la société” décerné par le ministère de l’Enseignement supérieur et de la Recherche. Ce programme bénéficie du soutien de la Fondation de France. \n\n\n\nProgramme et inscription\n\n\n\n\nInscription et programme de l’atelierConsulter le programme du TURFU Festival
URL:https://ufr-hss.unicaen.fr/evenement/bloc-beton-et-montee-des-eaux/
LOCATION:Caen · Le Dôme\, Le Dôme\, 3 Esplanade Stéphane Hessel\, Caen\, 14000\, France
CATEGORIES:Atelier,Festival
END:VEVENT
BEGIN:VEVENT
DTSTART;TZID=Europe/Paris:20230414T143000
DTEND;TZID=Europe/Paris:20230414T160000
DTSTAMP:20260424T232341
CREATED:20240322T153439Z
LAST-MODIFIED:20240529T091556Z
UID:51332-1681482600-1681488000@ufr-hss.unicaen.fr
SUMMARY:Militer sur internet
DESCRIPTION:Journée d’étude organisée par le laboratoire CERREV · UR 3918\, vendredi 14 avril 2023\, de 14h30 à 16h\, dans l’amphithéâtre de la MRSH. \n\n\n\nProgramme\n\n\n\nResponsable scientifique : Cécile Dolbeau-Bandin (CERREV\, université de Caen Normandie) \n\n\n\nConférence de Anais THEVIOT (université catholique de l’Ouest)« Il n’y a pas un foutu vote à gagner sur Internet ! »\, telle est la déclaration du directeur de campagne de John Kerry\, Jim Jordan\, pendant les primaires américaines de 2003.  Il apparaît aujourd’hui difficile de faire campagne sans créer un site internet\, un blog ou une page Facebook pour mettre en scène le candidat en ligne et accroître sa visibilité. Du web statique reproduisant en ligne les tracts papiers du début des années 2000\, en passant par les live-tweets ou riposte-party jusqu’au au Facebook live interactif\, l’usage du numérique en campagne électorale s’est intensifié dans une logique de « monstration de la modernité ». Le numérique n’est pourtant pas seulement un outil de communication pour diffuser un programme politique ou pour travailler son image. Il soulève également des enjeux stratégiques forts dans l’organisation d’une campagne électorale\, notamment pour mobiliser les électorats et les militants.  Il s’agit d’analyser ces évolutions de manière sociologique en s’appuyant sur plusieurs enquêtes empiriques menées auprès des équipes de campagne\, des militants et des prestataires en big data électoral\, lors des élections présidentielles françaises de 2012\, 2017 et 2022. \n\n\n\n\n\nEn savoir plus\n\n\n\n\nToutes les actualités du laboratoire CERREV : CERREV – Agenda
URL:https://ufr-hss.unicaen.fr/evenement/militer-sur-internet/
LOCATION:Caen · Campus 1 · Bâtiment F · Maison de la recherche en sciences humaines (MRSH) · Amphi\, Campus 1\, Maison de la recherche en sciences humaines (MRSH)\, 1 Esplanade de la Paix\, Caen\, 14000\, France
CATEGORIES:Journée d'étude
ATTACH;FMTTYPE=image/png:https://ufr-hss.unicaen.fr/wp-content/uploads/sites/32/2023/04/UNICAEN_UFR-HSS_Bandeau_Journee-detude_Militer-sur-internet_14-04-2023.png
END:VEVENT
BEGIN:VEVENT
DTSTART;TZID=Europe/Paris:20230427T000000
DTEND;TZID=Europe/Paris:20230429T235959
DTSTAMP:20260424T232341
CREATED:20240322T152646Z
LAST-MODIFIED:20240529T091428Z
UID:51328-1682553600-1682812799@ufr-hss.unicaen.fr
SUMMARY:Rythme & son
DESCRIPTION:XXIVe École de métrique antique organisée par le Centre Michel de Boüard – CRAHAM · UMR 6373\, du 27 au 29 avril 2023\, dans la salle SH 028 de la MRSH. \n\n\n\nRythme & son. École de métrique antique\n\n\n\nResponsables scientifiques : Antoine Foucher (antoine.foucher@unicaen.fr\, Unicaen\, Centre Michel de Boüard – CRAHAM · UMR 6373)\, Anne-Iris Munoz (anne-iris.munoz@unifr.ch\, CPGE Rouen · université de Fribourg) \n\n\n\nLes échos phoniques sont un fait linguistique ; le mètre et le rythme les distribuent selon les principes de l’interaction\, et en font un phénomène poétique. Avec quels outils travailler dans l’analyse ? S’agit-il de psophoi\, de phonèmes\, de voyelles ? Le critère phonétique (description des sons du monde) est trop large. Le phonème (phonologie et non phonétique) n’est pas un son\, mais sert de distinction sémantique. Pour envisager les échos\, il faut un critère intermédiaire qui serait le phone. D’autres questions se posent. Travaille-t-on sur la répétition d’un complexe phonique ? d’un son simple à une position fixe du mot\, du côlon\, du vers\, de l’unité syntaxique ? Le travail sur les sons a mauvaise presse\, de sorte que ces questions théoriques\, fondement de l’analyse\, sont pour l’essentiel restées sans réponse : on travaille avec des outils inappropriés\, sans réflexion préalable\, à tâtons et comme en s’excusant. Ainsi\, les concepts d’allitération\, d’assonance\, n’ont rien d’antique et ne semblent pas aptes\, méthodologiquement\, à porter l’analyse\, en partie parce qu’ils ne correspondent pas à ce que théorisaient ou percevaient les anciens\, en partie pour des raisons méthodologiques. Un pan à explorer serait la théorie du son ou plus spécifiquement de l’écho dans l’antiquité\, présente mais peu explicite\, et distincte de l’euphonie : on en trouve des éléments chez Platon\, chez Denys d’Halicarnasse\, chez Philodème de Gadara\, etc. L’anthropologie de la voix n’est pas spécifiquement une anthropologie des sons\, le travail reste à faire\, en corollaire avec les explorations actuelles du « paysage sonore ». \n\n\n\nCette rencontre vise aussi à explorer ce que l’analyse des répétitions phoniques peut apporter à l’analyse du rythme\, du mètre\, des côla\, en prose comme en poésie ? La variété des terrains formels demande de forger des outils spécifiques à chacun : côla de prose\, obéissant à un des cinq ou six types de rythmes de prose\, poésie stichique dans une composition par côla (ancienne muse) ou par metra (nouvelle muse)\, poésie mélique\, au sein de laquelle se distinguent les compositions strophiques régulières (monostrophes sapphiques\, alcaïques ou autres\, reprises par la tradition romaine)\, et les longues strophes de la tragédie ou des épinicies\, où l’identification des unités rythmiques\, metra\, côla\, vers\, périodes\, reste à déterminer ? Le critère phonique permet ainsi d’opposer la composition par côla (ancienne muse\, comme dans le vers héroïque)\, d’une composition par metra où l’unité de référence serait le vers\, et où la notion d’enjambement peut faire sens. La répartition des échos phoniques permet ainsi de faire apparaître une opposition entre la composition des vers héroïques de notre Odyssée (datable du VIIe siècle) et de notre Iliade (qu’il est difficile de faire remonter plus haut que le VIe siècle) : dans l’Odyssée\, les échos tendent à lier le premier côlon au deuxième\, reflétant une composition orale\, tandis que dans l’Iliade\, ils lient verticalement les premiers côla par opposition aux deuxième côla\, ce qui souligne l’unité du vers. Ils entrent en outre en interaction forte avec les structures annulaires. Faut-il intégrer le critère phonique dans l’analyse des côla méliques au même titre que la synaphie d’Irigoin\, ou encore que les isomélies entre strophes en responsio ? \n\n\n\n\n\nEn savoir plus\n\n\n\n\nToutes les actualités du Centre Michel de Boüard – CRAHAM : CRAHAM – Actualités
URL:https://ufr-hss.unicaen.fr/evenement/rythme-son/
LOCATION:Caen · Campus 1 · Maison de la recherche en sciences humaines (MRSH) · Salle SH-028\, Campus 1\, Maison de la recherche en sciences humaines (MRSH)\, 1 Esplanade de la Paix\, Caen\, 14000\, France
CATEGORIES:Journée d'étude
ATTACH;FMTTYPE=image/png:https://ufr-hss.unicaen.fr/wp-content/uploads/sites/32/2023/03/UNICAEN_UFR-HSS_Bandeau_Rythme-et-son_27-04-au-29-04-2023.png
END:VEVENT
END:VCALENDAR