BEGIN:VCALENDAR
VERSION:2.0
PRODID:-//UFR Humanités et sciences sociales (HSS) - Université de Caen Normandie - ECPv6.15.18//NONSGML v1.0//EN
CALSCALE:GREGORIAN
METHOD:PUBLISH
X-WR-CALNAME:UFR Humanités et sciences sociales (HSS) - Université de Caen Normandie
X-ORIGINAL-URL:https://ufr-hss.unicaen.fr
X-WR-CALDESC:Évènements pour UFR Humanités et sciences sociales (HSS) - Université de Caen Normandie
REFRESH-INTERVAL;VALUE=DURATION:PT1H
X-Robots-Tag:noindex
X-PUBLISHED-TTL:PT1H
BEGIN:VTIMEZONE
TZID:Europe/Paris
BEGIN:DAYLIGHT
TZOFFSETFROM:+0100
TZOFFSETTO:+0200
TZNAME:CEST
DTSTART:20220327T010000
END:DAYLIGHT
BEGIN:STANDARD
TZOFFSETFROM:+0200
TZOFFSETTO:+0100
TZNAME:CET
DTSTART:20221030T010000
END:STANDARD
BEGIN:DAYLIGHT
TZOFFSETFROM:+0100
TZOFFSETTO:+0200
TZNAME:CEST
DTSTART:20230326T010000
END:DAYLIGHT
BEGIN:STANDARD
TZOFFSETFROM:+0200
TZOFFSETTO:+0100
TZNAME:CET
DTSTART:20231029T010000
END:STANDARD
BEGIN:DAYLIGHT
TZOFFSETFROM:+0100
TZOFFSETTO:+0200
TZNAME:CEST
DTSTART:20240331T010000
END:DAYLIGHT
BEGIN:STANDARD
TZOFFSETFROM:+0200
TZOFFSETTO:+0100
TZNAME:CET
DTSTART:20241027T010000
END:STANDARD
END:VTIMEZONE
BEGIN:VEVENT
DTSTART;TZID=Europe/Paris:20230915T140000
DTEND;TZID=Europe/Paris:20230915T173000
DTSTAMP:20260421T211837
CREATED:20240320T111904Z
LAST-MODIFIED:20240529T084918Z
UID:51178-1694786400-1694799000@ufr-hss.unicaen.fr
SUMMARY:Réactualiser la pensée et l’œuvre de Léopold Sédar Senghor · Séance 1
DESCRIPTION:Séminaire organisé par le laboratoire LASLAR · UR 4256\, en collaboration avec l’équipe de l’ITEM–UCAD\, vendredi 15 septembre 2023\, de 14h30 à 17h30\, dans la salle des actes de la MRSH. \n\n\n\nProgramme\n\n\n\nResponsable scientifique : Anne Schneider (LASLAR\, université de Caen Normandie) \n\n\n\nAlioune DIAW\, Maître de conférences à l’université Cheikh Anta Diop (UCAD) de Dakar« La conscience environnementale de Senghor à travers sa poésie\, sa prose et ses correspondances » \n\n\n\nAdama PAM\, Chef Archiviste\, Responsable des Archives\, Bibliothèque et Gestion des dossiers de l’UNESCO« Présentation des sources archivistiques de l’histoire du Sénégal » \n\n\n\nAnne SCHNEIDER\, MCF HDR en langue et littérature françaises\, université de Caen Normandie« Le Sénégal et Senghor : quelles représentations dans la littérature de jeunesse ? » \n\n\n\nEn savoir plus\n\n\n\n\nTélécharger l’affiche du Séminaire · Leopold-Sedar-Senghor_15 09 2023Toutes les actualités du laboratoire LASLAR : LASLAR – Agenda
URL:https://ufr-hss.unicaen.fr/evenement/reactualiser-la-pensee-et-loeuvre-de-leopold-sedar-senghor-%c2%b7-seance-1/
LOCATION:Caen · Campus 1 · Maison de la recherche en sciences humaines (MRSH) · Salle des Actes\, Campus 1\, Maison de la recherche en sciences humaines (MRSH)\, 1 Esplanade de la Paix\, Caen\, 14000\, France
CATEGORIES:Séminaire
ATTACH;FMTTYPE=image/jpeg:https://ufr-hss.unicaen.fr/wp-content/uploads/sites/32/2023/09/UNICAEN_LASLAR_Bandeau_Seminaire_Leopold-Sedar-Senghor_15-09-2023.jpg
END:VEVENT
BEGIN:VEVENT
DTSTART;TZID=Europe/Paris:20230920T140000
DTEND;TZID=Europe/Paris:20230920T160000
DTSTAMP:20260421T211837
CREATED:20240320T151114Z
LAST-MODIFIED:20240529T084737Z
UID:51216-1695218400-1695225600@ufr-hss.unicaen.fr
SUMMARY:Conférences d'Aleksandr Musin · Séance 1
DESCRIPTION:Conférence d’Aleksandr Musin dans le cadre du programme PAUSE\, mercredi 20 septembre 2023\, à 14h\, dans la salle B1-152\, bâtiment B. \n\n\n\nLe Centre Michel de Boüard – CRAHAM accueille depuis le mois de mars 2023 Aleksandr Musin\, professeur invité dans le cadre du programme PAUSE\, programme d’accueil de chercheurs en exil piloté par le Collège de France et et co-financé par l’université de Caen Normandie. \n\n\n\n\nAleksandr Musin présentera ses recherches lors de 5 conférences entre septembre et novembre 2023 à l’université de Caen.A. Musin a d’abord fait carrière comme directeur de recherches à l’Institut pour l’histoire de la Culture matérielle (Saint-Pétersbourg\, Académie des Sciences de Russie). Après un doctorat en archéologie et histoire médiévale à l’Institut pour l’histoire de la culture matérielle de Saint-Pétersbourg (1997\, sur « Les monuments et les objets chrétiens de la Rous médiévale du IXe au XIVe siècle : rites funéraires et objets privés de dévotion chrétienne »\, publ. en 2002)\, il a passé une habilitation à diriger des recherches en histoire médiévale et archéologie au même Institut (2003\, sur « Les communautés urbaines médiévales de Novgorod et de Pskov et leur vie religieuse selon les données historiques et archéologiques » publ. en 2010-2016). Ses domaines de recherche concernent : l’histoire et l’archéologie médiévale de l’Europe centrale et orientale\, l’étude et l’interprétation de la présence des Scandinaves en Europe orientale et centrale\, les transferts culturels entre l’Europe orientale\, l’Occident et la Byzance\, l’histoire du Christianisme. En savoir plus \n\n\n\n\nProgramme de la conférence du 20 septembre · 14h\n\n\n\nConférence dans le cadre de l’Atelier de l’histoire médiévale de Master 1 (UE Y7ATME) sur « Distinction\, identité et transferts culturels dans les mondes médiévaux » \n\n\n\nLes vikings en Orient : les particularités de l’acculturation des Scandinaves en Europe de l’Est  \n\n\n\nEn savoir plus\n\n\n\n\nConsultez le programme des Conférences d’Aleksandr Musin_Sept-novembre 2023Toutes les actualités du Centre Michel de Boüard – CRAHAM : CRAHAM – Actualités
URL:https://ufr-hss.unicaen.fr/evenement/conferences-daleksandr-musin-%c2%b7-seance-1/
LOCATION:Caen · Campus 1 · Bâtiment B · Salle B1-152\, Bâtiment B\, Esplanade de la Paix\, Caen\, 14000\, France
CATEGORIES:Conférence
ATTACH;FMTTYPE=image/jpeg:https://ufr-hss.unicaen.fr/wp-content/uploads/sites/32/2023/09/UNICAEN_UFR-HSS_Bandeau_Conferences-dAleksandr-Musin.jpg
END:VEVENT
BEGIN:VEVENT
DTSTART;TZID=Europe/Paris:20230921T140000
DTEND;TZID=Europe/Paris:20230921T170000
DTSTAMP:20260421T211837
CREATED:20240325T105837Z
LAST-MODIFIED:20240529T084621Z
UID:51414-1695304800-1695315600@ufr-hss.unicaen.fr
SUMMARY:Analyse et comparaison de "why should" et "why would" par une approche énonciative
DESCRIPTION:Séminaire du laboratoire CRISCO · UR 4255\, année 2023-2024\, jeudi 21 septembre\, à 14h\, dans la salle de documentation du CRISCO\, bâtiment N\, sous-sol. \n\n\n\nProgramme\n\n\n\nNaizhen XIA (université de Caen Normandie\, CRISCO) \n\n\n\nDans les ouvrages traitant de la modalité\, les modaux\, et les différentes valeurs qu’on leur reconnaît (possibilité\, nécessité\, volition\, obligation\, etc.) sont généralement appréhendés au sein de phrases affirmatives. On s’intéresse par contre peu à leur occurrence dans les phrases interrogatives\, où les rôles énonciatifs sont pourtant inversés\, ce qui peut avoir une incidence sur le fonctionnement et l’interprétation des modaux\, qui se définissent précisément par rapport à l’énonciateur origine. Dans ces ouvrages\, on évoque parfois l’interchangeabilité de would et should en contexte affirmatif avec une valeur « tentative » ou « hypothétique » à la 1ère personne (e.g. Quirk 1985 : 234\, Huddleston 2002 : 200\, Palmer 2014 : 58\, Coates 2015 : 221-223). Mais quand on examine les occurrences de should et de would dans les phrases interrogatives introduites par why\, auxquelles je vais me limiter dans le cadre de ce séminaire\, il semble que should et would soient interchangeables même avec un sujet autre que la 1ère personne.Lire la suite \n\n\n\nEn savoir plus\n\n\n\n\nToutes les actualités du laboratoire CRISCO : CRISCO – Actualités
URL:https://ufr-hss.unicaen.fr/evenement/analyse-et-comparaison-de-why-should-et-why-would-par-une-approche-enonciative/
LOCATION:Caen · Campus 1 · Bâtiment M · CRISCO · Salle de documentation\, Centre de recherche CRISCO\, Caen\, 14000\, France
CATEGORIES:Séminaire
ATTACH;FMTTYPE=image/png:https://ufr-hss.unicaen.fr/wp-content/uploads/sites/32/2023/09/UNICAEN_UFR-HSS_Bandeau_Conference-CRISCO_2023.png
END:VEVENT
BEGIN:VEVENT
DTSTART;TZID=Europe/Paris:20230922T140000
DTEND;TZID=Europe/Paris:20230922T170000
DTSTAMP:20260421T211837
CREATED:20231027T100544Z
LAST-MODIFIED:20240528T130709Z
UID:49603-1695391200-1695402000@ufr-hss.unicaen.fr
SUMMARY:Exploration du fonds d’archives de Jean-Pierre et Luc Dardenne · Séance 1
DESCRIPTION:Première séance du séminaire d’exploration du fonds d’archives des frères Dardenne\, année 2023-2024\, organisée par l’unité de recherche LASLAR · UR 4256\, vendredi 22 septembre 2023\, à 14h\, à l’IMEC. \n\n\n\nLe séminaire\n\n\n\nResponsables scientifiques : Yann Calvet\, Élise Domenach\, Hélène Frazik\, David Vasse \n\n\n\n\ndavid.vasse@unicaen.fr \n\n\n\n\nDéposé à l’IMEC en juillet 2020\, le fonds d’archives de Jean-Pierre et Luc Dardenne dédié à leur création incite à son exploration tant leur cinéma témoigne indissociablement d’une esthétique et d’une méthode affirmées\, faites de persévérance\, de reprises et de repentirs (comme on le dit en peinture) Ce fonds rassemble quantité de documents de travail (dossiers d’enquête\, notes d’intention\, versions multiples de scénarios\, scénarios de films non tournés\, notes de casting\, photographies et contrats\, etc.) qui éclairent sur l’œuvre dans son ensemble : sur la création documentaire autant que fictionnelle des Dardenne. Ce fonds d’archives très riche\, classé et inventorié par l’IMEC\, appelle une recherche elle-même persévérante\, à la hauteur d’une pratique du cinéma farouchement personnelle conjuguant philosophie et gestes de terrain (enquête\, entretiens\, repérages\, etc.). \n\n\n\nCe séminaire porté par le laboratoire de recherche de l’université de Caen Normandie · LASLAR\, le Centre d’études et de recherches comparées sur la création (ENS de Lyon) et l’Institut Acte (université Paris 1 Panthéon-Sorbonne)\, en partenariat avec l’IMEC\, et le Café des images d’Hérouville Saint-Clair vise à l’exploration collective de ce fonds. Il accueillera des présentations et discussions de travaux des chercheurs basés sur l’étude de ce fonds ou qui permettent de l’éclairer de l’extérieur. Il réunira des spécialistes du cinéma des frères Dardenne\, chercheurs exerçant en France et en Belgique dans un premier temps\, et des chercheurs inscrits dans des champs disciplinaires que leur cinéma questionne (philosophie\, sociologie\, théâtre\, sciences politiques\, etc.). L’exploration et la valorisation collective du fonds d’archives dans le cadre de ce séminaire constitue le socle d’un programme de recherche plus large qui comprendra colloque et publications\, et s’étendra jusqu’en 2024-2025. \n\n\n\nLe séminaire se tient en hybride à l’abbaye d’Ardennes et sur zoom. Lien de connexion sur demande : reservation@imec-archives.com \n\n\n\nProgramme de la séance du 22 septembre\n\n\n\n\nDominique Nasta | « Le ‘pathos contrôlé’ et la bande-son des films des frères Dardenne : bruits\, voix\, musiques\, chansons »\nDominique Nasta est professeure ordinaire en études cinématographiques à l’université Librede Bruxelles. Elle dirige le Master en arts du spectacle et a été professeure invitée aux universitésde Montréal (2013)\, Strasbourg (2015) et Buenos Aires (2019). Elle a publié plusieurs ouvrages àtitre de seul auteur ou en co-édition dont : Meaning in Film : Relevant Structures in Soundtrack andNarrative (1992)\, Contemporary Romanian Cinema : The History of an Unexpected Miracle (2013)\, Le son en perspective : nouvelles recherches (2004)\, Le Mélodrame filmique revisité (2014) et La chanson dans les cinémas d’Europe et d’Amérique Latine 1960-2010 (2019). Elle a consacré de nombreux travaux à l’étude les émotions et de la musique au cinéma\, aux cinémas d’Europe de l’Est\, à l’esthétique des mélodrames muets\, aux Européens dans le cinéma Hollywoodien ainsi qu’au cinéma d’Antonioni. \n\n\n\nDominique Nasta a publié plusieurs articles et chapitres de dictionnaires et/ou d’ouvragescollectifs sur le cinéma des frères Dardenne. Elle a également a dirigé plusieurs travaux de find’études consacrés à leur cinéma\, tout en collaborant depuis plus de 25 ans avec Luc Dardenne\,qui a dispensé un cours et un atelier d’écriture de scénario au sein du Master qu’elle coordonne.Alors qu’une assez abondante littérature existe déjà autour de l’œuvre des frères Dardenne\,l’étude de la bande-son de leurs films n’a été approchée que de manière périphérique\, les exégèses se focalisant surtout sur les problématiques sociales empreintes d’humanisme et abordées sans concession\, ainsi que sur le minimalisme radical d’une mise en scène visuelle d’une rigueur résolument bresonnienne. Mais les films des Frères s’écoutent autant et parfois même de manière plus intense qu’ils ne se regardent\, ils font entendre les rumeurs\, les cris\, les (rares) musiques et les chansons d’êtres qui vibrent avec une intensité peu commune\, à la faveur de ce que nous avons défini comme étant une forme de « pathos contrôlé ». \n\n\n\n\nÉlise Domenach | « Enquête\, fiction et documentaire dans le cinéma des frères Dardenne. L’ancrage méthodologique des vidéos documentaires de l’ASBL Dérives »\nÉlise Domenach est professeure d’études cinématographiques et directrice de la recherche àl’ENS Louis-Lumière. Elle est l’autrice de nombreuses communications depuis 2011 sur lecinéma des Dardenne (en France\, en Espagne\, aux États-Unis\, en Roumanie\, au Japon\, enChine…). Curatrice en 2014 du programme « Sur la carte de Jean-Pierre et Luc Dardenne » auFestival International du Film de Fribourg elle a publié la même année « Le paradoxe de la voix.‘Cité de paroles’\, silence et voix dans les vidéos documentaires et les fictions de Jean-Pierre et LucDardenne » (Entrelacs n°11\, p.1-22). Elle a réalisé de nombreux entretiens avec les frèresDardenne\, publié de nombreuses critiques de leurs films dans les revues Esprit et Positif\, et éditédes textes de Luc Dardenne dans Entrelacs et dans L’Écran de nos pensées. Stanley Cavell\, le cinéma et la philosophie (ENS Éditions\, 2021\, dir. É. Domenach). \n\n\n\nLe cinéma des frères Dardenne s’est installé dans le champ de la fiction depuis La Promesse (1996)\, et avant cela Je pense à vous (1992) et Falsch (1988). Leur cinéma de fiction se caractérise par un rapport très étroit au monde contemporain : à l’époque et aux espaces de vie des créateurs (la région de Seraing et les enjeux sociaux qui traversent cette région : immigration\, pauvreté\, démantèlement des hauts fourneaux\, trafics de drogue\, délinquance\, radicalisation\, etc.). Le travail sur le fonds d’archives de l’IMEC permet de mettre au jour une méthode d’enquête qui ancre leur cinéma dans une étude et une compréhension intime de leur société. Nous présenterons dans cette intervention quelques enseignements du fonds d’archives\, en particulier concernant la manière dont cette méthode d’écriture et de réalisation fictionnelle s’ancre dans la pratique de la vidéo documentaire au sein du collectif Dérives à la fin des années 1970 et au début des années 1980. En nous penchant sur les films et sur les dossiers les concernant dans le fonds de l’IMEC\, nous reviendrons ainsi sur les complexités de la méthode fictionnelle des Dardenne\, sur la base de cette réévaluation de leur ancrage dans l’enquête documentaire\, pour mieux comprendre le « protocole d’éthique documentaire » qui se dégage de leur cinéma dans son ensemble. \n\n\n\n\n\nEn savoir plus\n\n\n\n\nProgramme complet 2023-2024 du Séminaire Le cinéma des frères DardenneToutes les actualités du laboratoire LASLAR : LASLAR – Agenda
URL:https://ufr-hss.unicaen.fr/evenement/exploration-du-fonds-darchives-de-jean-pierre-et-luc-dardenne-%c2%b7-seance-1/
LOCATION:Saint-Germain-la-Blanche-Herbe · IMEC\, IMEC\, L'Abbaye D'Ardenne\, 3 Rue Youf du Marché\, Saint-Germain-la-Blanche-Herbe\, 14280\, France
CATEGORIES:Séminaire
ATTACH;FMTTYPE=image/png:https://ufr-hss.unicaen.fr/wp-content/uploads/sites/32/2023/02/UNICAEN_UFR-HSS_Bandeau_Seminaire-Dardenne_2022-2023.png
END:VEVENT
BEGIN:VEVENT
DTSTART;TZID=Europe/Paris:20230928T100000
DTEND;TZID=Europe/Paris:20230928T180000
DTSTAMP:20260421T211837
CREATED:20240322T101036Z
LAST-MODIFIED:20240529T084248Z
UID:51269-1695895200-1695924000@ufr-hss.unicaen.fr
SUMMARY:Après la révolte : de la répression au pardon
DESCRIPTION:Journée d’étude dans le cadre du séminaire pluridisciplinaire « Le Temps de l’Empire ibérique (XVe – XVIIIe siècles) – Conserver et restaurer la Concorde\, II »\, jeudi 28 septembre 2023\, de 10h à 18h30\, dans l’amphithéâtre de la MRSH. \n\n\n\nProgramme de la journée d’étude\n\n\n\nResponsables scientifiques : Valeria Allaire\, Loann Berens\, Ariane Boltanski\, Marie-Lucie Copete\, Juan Carlos D’Amico\, Manuela Águeda García Garrido\, Alexandra Merle\, Alejandra Testino \n\n\n\n10h-13h | La révolte des Comunidades de Castille (1520-1522) – Épilogue\n\n\n\nIntervenants : Marie-Lucie Copete (université de Rouen Normandie\, ERIAC)\, Sarah Voinier (université d’Artois\, Textes et Cultures · UR4028))\, Michèle Guillemont (université de Lille\, CECILLE)\, Alexandra Merle (université de Caen Normandie\, ERLIS) \n\n\n\nCette première partie portera sur la révolte des Comunidades de Castille qui se déroula de 1520 à 1521 (et 1522 à Tolède\, épicentre de cette contestation politique et sociale qui a parfois été qualifiée de révolution). On s’intéressera ici en particulier à son épilogue\, de la période de répression qui suivit l’écrasement des comuneros à Villalar (23 avril 2021) à la promulgation du «Perdón general» de 1522\, sans oublier le dernier souffle de la rébellion conduit par la comunera María de Padilla. On prêtera une attention particulière aux documents. \n\n\n\n15h-18h | D’autres révoltes dans l’empire ibérique (XVIe-XVIIIe siècle)\n\n\n\nIntervenants : Juan Carlos Estenssoro (université Sorbonne nouvelle\, CRAEC)\, Tomás Mantecón (universidad de Cantabria)\, Javier Revilla Canora (universidad Autónoma de Madrid)\, Mathias Ledroit (université Gustave Eiffel) \n\n\n\nAu cours de l’après-midi\, on élargira l’examen des révoltes à l’Empire ibérique de l’époque moderne. Cette dilatation sera à la fois temporelle – jusqu’au XVIIIe siècle – et spatiale\, incluant les territoires italiens et américains. \n\n\n\n\n\nEn savoir plus\n\n\n\n\nConsultez le programme complet du Séminaire Le Temps de l’Empire ibérique_2023-2024Toutes les actualités du laboratoire HisTeMé : HisTeMé – Actualités
URL:https://ufr-hss.unicaen.fr/evenement/apres-la-revolte-de-la-repression-au-pardon/
LOCATION:Caen · Campus 1 · Bâtiment F · Maison de la recherche en sciences humaines (MRSH) · Amphi\, Campus 1\, Maison de la recherche en sciences humaines (MRSH)\, 1 Esplanade de la Paix\, Caen\, 14000\, France
CATEGORIES:Journée d'étude,Séminaire
ATTACH;FMTTYPE=image/png:https://ufr-hss.unicaen.fr/wp-content/uploads/sites/32/2023/09/UNICAEN_UFR-HSS_Bandeau_Journee-detude_Apres-la-revolte_28-09-2023.png
END:VEVENT
END:VCALENDAR