BEGIN:VCALENDAR
VERSION:2.0
PRODID:-//UFR Humanités et sciences sociales (HSS) - Université de Caen Normandie - ECPv6.15.18//NONSGML v1.0//EN
CALSCALE:GREGORIAN
METHOD:PUBLISH
X-ORIGINAL-URL:https://ufr-hss.unicaen.fr
X-WR-CALDESC:Évènements pour UFR Humanités et sciences sociales (HSS) - Université de Caen Normandie
REFRESH-INTERVAL;VALUE=DURATION:PT1H
X-Robots-Tag:noindex
X-PUBLISHED-TTL:PT1H
BEGIN:VTIMEZONE
TZID:Europe/Paris
BEGIN:DAYLIGHT
TZOFFSETFROM:+0100
TZOFFSETTO:+0200
TZNAME:CEST
DTSTART:20230326T010000
END:DAYLIGHT
BEGIN:STANDARD
TZOFFSETFROM:+0200
TZOFFSETTO:+0100
TZNAME:CET
DTSTART:20231029T010000
END:STANDARD
BEGIN:DAYLIGHT
TZOFFSETFROM:+0100
TZOFFSETTO:+0200
TZNAME:CEST
DTSTART:20240331T010000
END:DAYLIGHT
BEGIN:STANDARD
TZOFFSETFROM:+0200
TZOFFSETTO:+0100
TZNAME:CET
DTSTART:20241027T010000
END:STANDARD
BEGIN:DAYLIGHT
TZOFFSETFROM:+0100
TZOFFSETTO:+0200
TZNAME:CEST
DTSTART:20250330T010000
END:DAYLIGHT
BEGIN:STANDARD
TZOFFSETFROM:+0200
TZOFFSETTO:+0100
TZNAME:CET
DTSTART:20251026T010000
END:STANDARD
END:VTIMEZONE
BEGIN:VEVENT
DTSTART;TZID=Europe/Paris:20240109T200000
DTEND;TZID=Europe/Paris:20240109T200000
DTSTAMP:20260421T220543
CREATED:20240108T113230Z
LAST-MODIFIED:20250319T075004Z
UID:50280-1704830400-1704830400@ufr-hss.unicaen.fr
SUMMARY:Napoléon
DESCRIPTION:La programmation du Ciné-Histoire continue\, avec le mardi 9 janvier\, à 20h\, dans l’amphi Daure\, le film Napoléon de Ridley Scott. \n\n\n\nLa séance est organisée en collaboration avec les enseignants d’histoire de l’université de Caen Normandie et le Lux. La projection sera présentée par Quentin Censier\, historien\, vidéaste de la chaîne « Sur le champ »\, spécialiste d’histoire militaire et auteur de la vidéo « La Bataille\, Napoléon et le Cinéma ». \n\n\n\nSynopsis\n\n\n\nL’ascension et à la chute de l’Empereur Napoléon Bonaparte. Le film retrace la conquête acharnée du pouvoir par Bonaparte à travers le prisme de ses rapports passionnels et tourmentés avec Joséphine\, le grand amour de sa vie. \n\n\n\nAffiche Ciné-Histoire Napoléon (pdf · 758 Ko)Télécharger (pdf · 758 Ko)\n\n\n\nTarifs\n\n\n\nTarif étudiant caennais (sur place le soir de la projection\, sur justificatif étudiant) : 2€Tarif réduit (personnels\, -26ans\, RSA\, chercheurs d’emploi\, invalidité\, intermittents) : 4€50Tarif plein : 5€50
URL:https://ufr-hss.unicaen.fr/evenement/napoleon/
LOCATION:Caen · Campus 1 · Bâtiment P · Amphi Pierre Daure\, Amphithéâtre Pierre Daure\, Esplanade de la Paix\, Caen\, 14000\, France
CATEGORIES:Projection – Cinéma
ATTACH;FMTTYPE=image/png:https://ufr-hss.unicaen.fr/wp-content/uploads/sites/32/2024/01/UNICAEN_UFR-HSS_Bandeau_Cine-Histoire_Napoleon.png
END:VEVENT
BEGIN:VEVENT
DTSTART;TZID=Europe/Paris:20240111T140000
DTEND;TZID=Europe/Paris:20240111T160000
DTSTAMP:20260421T220543
CREATED:20231013T121110Z
LAST-MODIFIED:20240528T141738Z
UID:49185-1704981600-1704988800@ufr-hss.unicaen.fr
SUMMARY:La corrélation en diachronie longue : 1450-1800. Phrase\, texte et discours
DESCRIPTION:Séminaire du laboratoire CRISCO · UR 4255\, année 2023-2024\, jeudi 11 janvier\, à 14h\, dans la salle de documentation du CRISCO\, bâtiment N\, sous-sol. \n\n\n\nProgramme\n\n\n\nMathieu GOUX (université de Caen Normandie\, CRISCO) \n\n\n\nMathieu Goux\, chercheur au CRISCO\, présentera l’ouvrage La corrélation en diachronie longue (1450-1800). Phrase\, texte et discours\, paru en juin dernier aux éditions Honoré Champion\, qu’il a codirigé avec Pascale Mounier\, chercheuse à l’université de Grenoble. Cet ouvrage collectif rassemble les contributions issues d’un colloque organisé en janvier 2022 à Grenoble\, et a bénéficié du soutien financier du CRISCO. La présentation s’attardera sur le cadre théorique choisi par l’ouvrage\, et un parcours des différentes contributions.Lire la suite \n\n\n\nEn savoir plus\n\n\n\n\nToutes les actualités du laboratoire CRISCO : CRISCO – Actualités
URL:https://ufr-hss.unicaen.fr/evenement/la-correlation-en-diachronie-longue-1450-1800-phrase-texte-et-discours/
LOCATION:Caen · Campus 1 · Bâtiment M · CRISCO · Salle de documentation\, Centre de recherche CRISCO\, Caen\, 14000\, France
CATEGORIES:Séminaire
ATTACH;FMTTYPE=image/png:https://ufr-hss.unicaen.fr/wp-content/uploads/sites/32/2023/09/UNICAEN_UFR-HSS_Bandeau_Conference-CRISCO_2023.png
END:VEVENT
BEGIN:VEVENT
DTSTART;TZID=Europe/Paris:20240116T140000
DTEND;TZID=Europe/Paris:20240116T170000
DTSTAMP:20260421T220543
CREATED:20231023T124910Z
LAST-MODIFIED:20240528T140918Z
UID:49525-1705413600-1705424400@ufr-hss.unicaen.fr
SUMMARY:Séminaire invité du master de Sociologie · Séance 4
DESCRIPTION:Prochaine séance du séminaire invité du master de Sociologie\, organisée par le laboratoire CERREV · UR 3918\, mardi 16 janvier 2024\, à 14h\, dans la salle des actes de la MRSH. \n\n\n\nProgramme de la séance\n\n\n\nJean-Yves Authier\, université Lyon 2Comment voisine-t-on ? Retour sur la construction\, la réalisation et les résultats d’une grande recherche collectiveIntroduction et discussion par Sarah Demichel-Basnier\, CERREV \n\n\n\nEn savoir plus\n\n\n\n\nProgramme complet du Séminaire invité du master de Sociologie 2023-2024Toutes les actualités du laboratoire CERREV : CERREV – Agenda
URL:https://ufr-hss.unicaen.fr/evenement/seminaire-invite-du-master-de-sociologie-%c2%b7-seance-4/
LOCATION:Caen · Campus 1 · Maison de la recherche en sciences humaines (MRSH) · Salle des Actes\, Campus 1\, Maison de la recherche en sciences humaines (MRSH)\, 1 Esplanade de la Paix\, Caen\, 14000\, France
CATEGORIES:Séminaire
ATTACH;FMTTYPE=image/png:https://ufr-hss.unicaen.fr/wp-content/uploads/sites/32/2023/10/UNICAEN_UFR-HSS_Bandeau_Seminaire-Invite_Sociologie_2023-2024.png
END:VEVENT
BEGIN:VEVENT
DTSTART;TZID=Europe/Paris:20240117T090000
DTEND;TZID=Europe/Paris:20240117T180000
DTSTAMP:20260421T220543
CREATED:20240112T132359Z
LAST-MODIFIED:20240528T140744Z
UID:49646-1705482000-1705514400@ufr-hss.unicaen.fr
SUMMARY:Le cri dans les arts du spectacle et les lettres · 3
DESCRIPTION:3e journée d’étude consacrée au cri dans les arts du spectacle et les lettres\, organisée par le laboratoire LASLAR · UR 4256\, mercredi 17 janvier 2024\, de 9h à 18h\, dans l’amphithéâtre de la MRSH. \n\n\n\nLe cri dans les arts du spectacle et les lettres : approches esthétiques\n\n\n\nResponsables scientifiques : David Vasse (LASLAR\, université de Caen Normandie)\, Yann Calvet (LASLAR\, université de Caen Normandie) et Hélène Frazik (PLH\, université de Toulouse Jean Jaurès) \n\n\n\nAprès une journée inaugurale consacrée aux perspectives historiques et sociopolitiques du cri\, le 9 février 2023\, la deuxième et troisième journées d’étude du mercredi 8 novembre 2023 et mercredi 17 janvier 2024 privilégieront une approche esthétique. Il s’agira de porter la réflexion sur les options de figuration et de stylisation que le cri inspire aux metteurs en scène (théâtre et cinéma) et aux écrivains. Soudain traversé par des émotions extrêmes\, le corps produit jusqu’au visage\, siège palpable de leur intensité\, la sonorisation déchirante de leur épanchement. Dans l’instant du cri\, l’artiste cherche à créer une forme fondée sur l’excès des limites\, celles de son matériau\, mais aussi celles de la conscience et de la raison. \n\n\n\nCes journées d’étude s’inscrivent dans un cycle de recherche dont le but est de penser le cri dans les arts du spectacle et les lettres à travers plusieurs approches : historique et sociopolitique\, esthétique et figurative\, thématique et actorale. \n\n\n\n\n\nEn savoir plus\n\n\n\n\nToutes les actualités du laboratoire LASLAR : LASLAR – Agenda
URL:https://ufr-hss.unicaen.fr/evenement/le-cri-dans-les-arts-du-spectacle-et-les-lettres-%c2%b7-3/
LOCATION:Caen · Campus 1 · Bâtiment F · Maison de la recherche en sciences humaines (MRSH) · Amphi\, Campus 1\, Maison de la recherche en sciences humaines (MRSH)\, 1 Esplanade de la Paix\, Caen\, 14000\, France
CATEGORIES:Journée d'étude
ATTACH;FMTTYPE=image/png:https://ufr-hss.unicaen.fr/wp-content/uploads/sites/32/2024/01/UNICAEN_LASLAR_Bandeau_JE_Le-cri_17-01-2024.png
END:VEVENT
BEGIN:VEVENT
DTSTART;TZID=Europe/Paris:20240117T110000
DTEND;TZID=Europe/Paris:20240117T110000
DTSTAMP:20260421T220543
CREATED:20240320T113346Z
LAST-MODIFIED:20240528T124305Z
UID:51190-1705489200-1705489200@ufr-hss.unicaen.fr
SUMMARY:Le Possible · Séance 4
DESCRIPTION:Prochaine séance de l’année 2023-2024 du séminaire Le Possible\, organisée par l’unité de recherche Identité & Subjectivité (UR 2129)\, mercredi 17 janvier 2024\, à 11h\, dans l’amphithéâtre de la MRSH. \n\n\n\nResponsable scientifique :  Anne Devarieux \n\n\n\nProgramme de la séance du 17 janvier 2024\n\n\n\n« Résolution et pressentiment dans la pensée de Heidegger »Sébastien PERBAL\, professeur en classes préparatoires\, rattaché à l’UR 21-29« L’école de la possibilité\, selon Kierkegaard »Joséphine JAMET\, doctorante\, Sorbonne université« Levinas : fécondité et possibilité »Claudia SERBAN\, maîtresse de conférences\, université Toulouse Jean-Jaurès \n\n\n\nEn savoir plus\n\n\n\n\nConsultez le programme complet du Séminaire Le Possible 2023-2024Toutes les actualités du laboratoire « Identité & Subjectivité » : Identité & Subjectivité – Agenda
URL:https://ufr-hss.unicaen.fr/evenement/le-possible-%c2%b7-seance-4/
LOCATION:Caen · Campus 1 · Bâtiment F · Maison de la recherche en sciences humaines (MRSH) · Amphi\, Campus 1\, Maison de la recherche en sciences humaines (MRSH)\, 1 Esplanade de la Paix\, Caen\, 14000\, France
CATEGORIES:Séminaire
ATTACH;FMTTYPE=image/jpeg:https://ufr-hss.unicaen.fr/wp-content/uploads/sites/32/2023/09/UNICAEN_UFR-HSS_Bandeau_Seminaire-Le-Possible_2023-2024.jpg
END:VEVENT
BEGIN:VEVENT
DTSTART;TZID=Europe/Paris:20240118T140000
DTEND;TZID=Europe/Paris:20240118T170000
DTSTAMP:20260421T220543
CREATED:20240112T151715Z
LAST-MODIFIED:20240528T140550Z
UID:50322-1705586400-1705597200@ufr-hss.unicaen.fr
SUMMARY:Groan\, grunt\, grudge : les mots en gr- en anglais\, dans une approche de l’usage
DESCRIPTION:Séminaire du laboratoire CRISCO · UR 4255\, année 2023-2024\, jeudi 18 janvier\, à 14h\, dans la salle de documentation du CRISCO\, bâtiment N\, sous-sol. \n\n\n\nProgramme\n\n\n\nMaël FARINA (université de Caen Normandie\, CRISCO) \n\n\n\nLes phonesthèmes sont des éléments sonores porteurs de sens qui remettent en question l’arbitraire du langage (ils sont définis pour la première fois par Jespersen 1922 et Firth 1930). Les théories morphologiques conventionnelles (Bolinger 1950\, Blust 1988) peinent à déterminer leur origine et leur comportement (voir Kwon et Round 2014). En anglais\, ils apparaissent sous la forme d’une attaque consonantique porteuse de sens\, telle que gr– dans les mots grumble\, groan\, grunt\, grieve ou grudge\, qui se rapportent tous à une forme de complainte (Waugh 1994 : 59). Des données à la fois psycholinguistiques (Bergen 2004) et statistiques (Drellishak 2006) ont prouvé l’existence des phonesthèmes dans le lexique mental et institutionnel. Leur rôle de régulation dans la construction du sens et l’organisation du lexique a également été démontré (Smith 2022\, Benczes 2019\, Tsur et Gafni 2022).Lire la suite \n\n\n\nEn savoir plus\n\n\n\n\nToutes les actualités du laboratoire CRISCO : CRISCO – Actualités
URL:https://ufr-hss.unicaen.fr/evenement/groan-grunt-grudge-les-mots-en-gr-en-anglais-dans-une-approche-de-lusage/
LOCATION:Caen · Campus 1 · Bâtiment M · CRISCO · Salle de documentation\, Centre de recherche CRISCO\, Caen\, 14000\, France
CATEGORIES:Séminaire
ATTACH;FMTTYPE=image/png:https://ufr-hss.unicaen.fr/wp-content/uploads/sites/32/2023/09/UNICAEN_UFR-HSS_Bandeau_Conference-CRISCO_2023.png
END:VEVENT
BEGIN:VEVENT
DTSTART;TZID=Europe/Paris:20240118T173000
DTEND;TZID=Europe/Paris:20240118T193000
DTSTAMP:20260421T220543
CREATED:20231027T165055Z
LAST-MODIFIED:20260316T145229Z
UID:49699-1705599000-1705606200@ufr-hss.unicaen.fr
SUMMARY:Les jeudis du grand parler · Sans foi\, sans loi\, sans roi
DESCRIPTION:Prochaine séance des Ateliers de lecture « Les jeudis du grand parler »\, organisée par l’association Anamnèse\, l’IMEC\, La Fabrique de patrimoines et le laboratoire CERREV · UR 3918\, jeudi 18 janvier 2024\, à 17h30\, à la MRSH. \n\n\n\nLes jeudis du grand parler\n\n\n\nL’association Anamnèse\, l’IMEC\, le laboratoire CERREV et La Fabrique de patrimoines vous proposent de parcourir cette année les travaux de Pierre et Hélène Clastres\, couple d’ethnologues spécialistes de différentes cultures de chasseurs-cueilleurs d’Amérique du Sud. Initiateur de l’anthropologie politique et inspirateur de l’anthropologie anarchiste\, Pierre Clastres (1934-1977) mena de nombreux terrains au Paraguay\, Brésil\, Venezuela et Bolivie\, encouragé par Claude Lévi-Strauss. Hélène Clastres (1936-2023)\, formée par Roger Bastide\, l’accompagna sur ses premiers terrains et s’initia par la même occasion à l’ethnologie. Après la mort accidentelle de Pierre Clastres\, elle assura un travail de diffusion de ses écrits tout en poursuivant sa propre carrière d’ethnologue. Hélène Clastres nous a quitté cette année\, cet atelier de lecture est donc l’occasion de rendre hommage à ce travail\, parcourir ensemble l’œuvre des Clastres et en saisir les résonnances contemporaines. \n\n\n\nChacune des séances proposera d’explorer collectivement un ou deux textes des Clastres\, découverte pour certains et approfondissement pour d’autres\, en compagnie de spécialistes. Ce format doit permettre à chacun.e de s’approprier la diversité des thématiques de l’oeuvre – la guerre\, la violence\, le politique\, le rapport au pouvoir – et leur actualité : droits des peuples autochtones\, appropriations des théories de Pierre Clastres dans les milieux autonomes et anarchistes\, place de la littérature dans l’ethnographie contemporaine… \n\n\n\nProgramme de la séance du 18 janvier\n\n\n\nSans foi\, sans loi\, sans roiavec Jean-Paul Demoule\, professeur émérite d’archéologie\, université Paris 1 Panthéon-Sorbonne \n\n\n\nLa Société contre l’État est un recueil d’articles parus dans différentes revues entre 1962 et 1973 – excepté le dernier chapitre\, inédit\, qui donne son titre au livre. Par cette expression Pierre Clastres veut dire que\, contrairement aux « sociétés à État » qui instituent un pouvoir politique coercitif\, il existe des sociétés qui instituent un pouvoir politique non coercitif : les « sociétés primitives » ; c’est-à-dire des sociétés qui créent intentionnellement des institutions politiques qui instaurent et préservent la liberté et l’égalité des membres de la communauté. \n\n\n\n\n« La division majeure de la société\, celle qui fonde toutes les autres\, y compris sans doute la division du travail\, c’est la nouvelle disposition verticale entre la base et le sommet\, c’est la grande coupure politique entre détenteurs de la force\, qu’elle soit guerrière ou religieuse\, et assujettis à cette force. La relation politique de pouvoir précède et fonde la relation économique d’exploitation. Avant d’être économique\, l’aliénation est politique\, le pouvoir est avant le travail\, l’économique est une dérive du politique\, l’émergence de l’État détermine l’apparition des classes. » \n\n\n\n\nEn savoir plus\n\n\n\n\nConsultez le programme complet 2023-2024 des Jeudis du grand parlerContacts : pierre-alexandre.delorme@proton.me ou pauline.launay@proton.me
URL:https://ufr-hss.unicaen.fr/evenement/les-jeudis-du-grand-parler-sans-foi-sans-loi-sans-roi/
LOCATION:Caen · Campus 1 · Maison de la recherche en sciences humaines (MRSH)\, Campus 1\, Maison de la recherche en sciences humaines (MRSH)\, 1 Esplanade de la Paix\, Caen\, 14000\, France
CATEGORIES:Atelier
ATTACH;FMTTYPE=image/png:https://ufr-hss.unicaen.fr/wp-content/uploads/sites/32/2023/10/UNICAEN_CERREV_Bandeau_Ateliers-de-lecture-JGP_2023-2024.png
END:VEVENT
BEGIN:VEVENT
DTSTART;TZID=Europe/Paris:20240122T170000
DTEND;TZID=Europe/Paris:20240122T190000
DTSTAMP:20260421T220543
CREATED:20240115T094306Z
LAST-MODIFIED:20240528T140147Z
UID:50330-1705942800-1705950000@ufr-hss.unicaen.fr
SUMMARY:Sarah Bernhardt & Eleonora Duse. Mise en regard d’une rivalité
DESCRIPTION:Conférence organisée dans le cadre de la chaire franco-italienne mise en place avec l’université Suor Orsola Benincasa de Naples\, lundi 22 janvier 2024\, à 17h\,  dans la salle des actes de la MRSH. \n\n\n\nProgramme\n\n\n\nResponsable scientifique : Julie Anselmini (université de Caen Normandie\, LASLAR\, UR 4256) \n\n\n\nDans le cadre de la chaire franco-italienne que nous avons mise en place avec l’université Suor Orsola Benincasa de Naples\, le professeur Alvio Patierno est invité dans notre université jusqu’au mois de février. Il proposera le 22 janvier à 17h à la MRSH une conférence intitulée “Sarah Bernhardt & Eleonora Duse\, mise en regard d’une rivalité”\, qui est susceptible d’intéresser tant les spécialistes de lettres que d’arts du spectacle\, tant les chercheurs en littérature française et comparée que les italianistes. \n\n\n\n\n\nEn savoir plus\n\n\n\n\nToutes les actualités du laboratoire LASLAR : LASLAR – Agenda
URL:https://ufr-hss.unicaen.fr/evenement/sarah-bernhardt-eleonora-duse-mise-en-regard-dune-rivalite/
LOCATION:Caen · Campus 1 · Maison de la recherche en sciences humaines (MRSH) · Salle des Actes\, Campus 1\, Maison de la recherche en sciences humaines (MRSH)\, 1 Esplanade de la Paix\, Caen\, 14000\, France
CATEGORIES:Conférence
ATTACH;FMTTYPE=image/png:https://ufr-hss.unicaen.fr/wp-content/uploads/sites/32/2024/01/UNICAEN_LASLAR_Bandeau_Conference_S.-Bernhardt-et-E.-Duse_22-01-2024.png
END:VEVENT
BEGIN:VEVENT
DTSTART;TZID=Europe/Paris:20240124T170000
DTEND;TZID=Europe/Paris:20240124T190000
DTSTAMP:20260421T220543
CREATED:20231025T093151Z
LAST-MODIFIED:20240528T144023Z
UID:49561-1706115600-1706122800@ufr-hss.unicaen.fr
SUMMARY:Ateliers du genre · "Elle le quitte\, il la tue" : féminicides et ripostes féministes
DESCRIPTION:Prochaine séance de la programmation 2023-2024 des Ateliers du genre\, organisée en partenariat avec le séminaire Pratiques et pensées de l’émancipation\, mercredi 24 janvier 2024\, de 17h à 19h\, dans la salle des actes de la MRSH. \n\n\n\nLes Ateliers du genre\n\n\n\nCollectif d’organisation : Margaux Boisgontier\, Victor Faingnaert\, Muriel Gilardone\, Camille Gourdeau\, Irène-Lucile Hertzog\, Pauline Launay\, Pauline Seiller \n\n\n\nLes Ateliers du Genre ont été créés en 2015 par un groupe de jeunes chercheuses\, étudiants et étudiantes en sciences humaines et sociales afin de proposer un espace de travail et d’échange autour du genre\, à un moment où les études sur le genre avaient peu de place à l’université de Caen.Ils proposent un programme annuel de séminaires et de discussions autour de travaux de recherche s’inscrivant dans des perspectives féministes. Ces perspectives utilisent le concept de genre pour mettre en lumière des phénomènes de différenciation et de hiérarchisation des sexes\, des sexualités\, ainsi que des valeurs et des représentations qui leur sont associées – sans réduire les personnes à leur identité de genre. \n\n\n\nProgramme de la séance\n\n\n\n« Elle le quitte\, il la tue » : féminicides et ripostes féministes \n\n\n\nConférence et échanges avec Pauline Delage (chargée de recherche Cresppa-CSU-CNRS) et des colleureuses d’affiches. \n\n\n\nEn savoir plus\n\n\n\n\nConsultez le programme complet des Ateliers du genre 2023-2024Contact : ateliersdugenre.unicaen@gmail.com
URL:https://ufr-hss.unicaen.fr/evenement/ateliers-du-genre-%c2%b7-elle-le-quitte-il-la-tue-feminicides-et-ripostes-feministes/
LOCATION:Caen · Campus 1 · Maison de la recherche en sciences humaines (MRSH) · Salle des Actes\, Campus 1\, Maison de la recherche en sciences humaines (MRSH)\, 1 Esplanade de la Paix\, Caen\, 14000\, France
CATEGORIES:Séminaire
ATTACH;FMTTYPE=image/png:https://ufr-hss.unicaen.fr/wp-content/uploads/sites/32/2023/10/UNICAEN_UFR-HSS_Bandeau_Ateliers-du-genre_2023-2024.png
END:VEVENT
BEGIN:VEVENT
DTSTART;TZID=Europe/Paris:20240124T170000
DTEND;TZID=Europe/Paris:20240124T190000
DTSTAMP:20260421T220543
CREATED:20240315T101217Z
LAST-MODIFIED:20240528T122704Z
UID:51036-1706115600-1706122800@ufr-hss.unicaen.fr
SUMMARY:Pratiques et pensées de l'émancipation · Séance 1
DESCRIPTION:Première séance du séminaire Pratiques et pensées de l’émancipation\, année 2023-2024\, organisée par les laboratoires CERREV\, ESO Caen et HisTeMé\, mercredi 24 janvier 2024\, à 17h\, dans la salle des actes de la MRSH. \n\n\n\nLe séminaire\n\n\n\nPréoccupations centrales de la modernité\, les pensées et pratiques sociales de l’émancipation ont connu un reflux à partir de la seconde moitié du XXe siècle. Herbert Marcuse parlait déjà dans les années 1960 d’un « engourdissement de la critique » et de nombreux mouvements sociaux ont eu tendance à se replier sur des positions de défense des « acquis sociaux » ou à porter des revendications sectorielles sans projet politique global. Les expériences désastreuses du « socialisme ayant réellement existé » et les mutations du capitalisme capable\, de façon partielle et temporaire\, de dépasser ses contradictions et d’intégrer ses oppositions\, peuvent expliquer que ce système occupe aujourd’hui une situation de monopole sur les principales formes d’organisations sociales\, et que nombre d’alternatives aient été avortées\, discréditées ou récupérées. L’hégémonie capitaliste a ainsi disqualifié les pensées et les pratiques critiques et radicales qui se donnaient pour objectif l’émancipation de l’être humain et de la société face à toutes les formes de domination. En effet\, aux rapports sociaux de classe\, s’ajoutent et s’articulent d’autres formes de discrimination liées au genre ou à la « racisation »\, qui s’inscrivent dans le corps et l’esprit des individus et dont le capitalisme a su tirer profit. La « fin » des idéologies et des grands récits peut être interprétée comme l’incapacité du monde intellectuel à élaborer de nouvelles lectures du capitalisme et à interroger le dépassement de cet ordre social en lien avec les acteurs du mouvement social. \n\n\n\nCe séminaire\, organisé par des jeunes chercheuses et chercheurs\, vise à interroger des pratiques ainsi que des pensées mues par le désir d’ouvrir de nouveaux possibles face aux formes de dominations\, d’exploitation et d’aliénation. \n\n\n\nProgramme de la séance 1\n\n\n\nDes militant·es féministes colleureuses d’affichesPauline Delage\, sociologue\, Cresppa-CSU\, Paris 8.En collaboration avec les Ateliers du Genre \n\n\n\nEn savoir plus\n\n\n\n\nProgramme complet du Séminaire Pratiques et Pensées de l’Émancipation 2023-2024Toutes les actualités du laboratoire CERREV : CERREV – Agenda
URL:https://ufr-hss.unicaen.fr/evenement/pratiques-et-pensees-de-lemancipation-%c2%b7-seance-1/
LOCATION:Caen · Campus 1 · Maison de la recherche en sciences humaines (MRSH) · Salle des Actes\, Campus 1\, Maison de la recherche en sciences humaines (MRSH)\, 1 Esplanade de la Paix\, Caen\, 14000\, France
CATEGORIES:Séminaire
ATTACH;FMTTYPE=image/png:https://ufr-hss.unicaen.fr/wp-content/uploads/sites/32/2024/03/UNICAEN_UFR-HSS_Bandeau_Seminaire-PPE-2023-2024.png
END:VEVENT
BEGIN:VEVENT
DTSTART;TZID=Europe/Paris:20240125T000000
DTEND;TZID=Europe/Paris:20240126T235959
DTSTAMP:20260421T220543
CREATED:20240119T111923Z
LAST-MODIFIED:20240528T135929Z
UID:50324-1706140800-1706313599@ufr-hss.unicaen.fr
SUMMARY:L’expérience de la faim dans l’art et le cinéma
DESCRIPTION:Colloque international organisé par le laboratoire LASLAR · UR 4256\, les 25 et 26 janvier 2024\, dans l’amphithéâtre de la MRSH. \n\n\n\nL’expérience de la faim dans l’art et le cinéma : images\, poétiques\, politiques\n\n\n\nResponsable scientifique : Raphaël Jaudon (université de Caen Normandie\, LASLAR\, UR 4256) \n\n\n\nModalité centrale de l’expérience de la pauvreté\, la faim en est pourtant l’un des aspects les plus rétifs à la figuration. Celui qui n’est pas amené à éprouver le manque de nourriture ne saurait rencontrer que des affamés – jamais la faim elle-même. Et il en est de même au cinéma\, au théâtre\, en peinture ou en littérature\, où la représentation de la pauvreté passe plus volontiers par d’autres indices\, visuellement lisibles (vêtements rapiécés\, marques de saleté\, étroitesse des lieux d’habitation…). Or\, un problème ne devient pleinement politique qu’à partir du moment où il est perçu et discuté par la communauté. Reste à savoir à quelles conditions (figuratives\, iconographiques ou éthiques) il est possible d’opérer cette transformation de la souffrance\, intérieure et individuelle\, en un affect politique visible. \n\n\n\nC’est en se situant au confluent des disciplines et des formes artistiques que ce colloque aimerait s’intéresser aux multiples solutions inventées par les œuvres pour approcher et donner à éprouver l’expérience de la faim. \n\n\n\n\n\nEn savoir plus\n\n\n\n\nToutes les actualités du laboratoire LASLAR : LASLAR – Agenda
URL:https://ufr-hss.unicaen.fr/evenement/lexperience-de-la-faim-dans-lart-et-le-cinema/
LOCATION:Caen · Campus 1 · Bâtiment F · Maison de la recherche en sciences humaines (MRSH) · Amphi\, Campus 1\, Maison de la recherche en sciences humaines (MRSH)\, 1 Esplanade de la Paix\, Caen\, 14000\, France
CATEGORIES:Congrès - Colloque
ATTACH;FMTTYPE=image/png:https://ufr-hss.unicaen.fr/wp-content/uploads/sites/32/2024/01/UNICAEN_LASLAR_Bandeau_Colloque_Experience_de_la_faim-cinema_25-et-26-01-2024.png
END:VEVENT
BEGIN:VEVENT
DTSTART;TZID=Europe/Paris:20240125T140000
DTEND;TZID=Europe/Paris:20240125T170000
DTSTAMP:20260421T220543
CREATED:20240116T162619Z
LAST-MODIFIED:20240528T135808Z
UID:50359-1706191200-1706202000@ufr-hss.unicaen.fr
SUMMARY:English clippings and their source words: A constructional perspective
DESCRIPTION:La 3ème conférence du laboratoire CRISCO de l’année 2023-2024 aura lieu le jeudi 25 janvier\, à 14h\, dans l‘amphithéâtre De Boüard\, bâtiment B. \n\n\n\nProgramme\n\n\n\nMartin HILPERT (professeur à l’université de Neuchâtel) \n\n\n\nThis paper uses corpus data and methods of distributional semantics in order to study English clippings such as dorm (< dormitory)\, memo (< memorandum)\, or quake (< earthquake). We investigate whether systematic meaning differences between clippings and their source words can be detected. Alber and Lappe (2012: 314) observe that semantic questions have received relatively little attention in the study of clippings\, and they remark that systematic studies of meaning in truncatory processes are virtually absent. The present paper tries to address that gap.Lire la suite \n\n\n\nEn savoir plus\n\n\n\n\nToutes les actualités du laboratoire CRISCO : https://crisco.unicaen.fr/actualites/
URL:https://ufr-hss.unicaen.fr/evenement/english-clippings-and-their-source-words-a-constructional-perspective/
LOCATION:Caen · Campus 1 · Bâtiment B · Amphi Michel de Boüard\, Bâtiment B\, Esplanade de la Paix\, Caen\, 14000\, France
CATEGORIES:Conférence
ATTACH;FMTTYPE=image/png:https://ufr-hss.unicaen.fr/wp-content/uploads/sites/32/2023/09/UNICAEN_UFR-HSS_Bandeau_Conference-CRISCO_2023.png
END:VEVENT
END:VCALENDAR