BEGIN:VCALENDAR
VERSION:2.0
PRODID:-//UFR Humanités et sciences sociales (HSS) - Université de Caen Normandie - ECPv6.15.18//NONSGML v1.0//EN
CALSCALE:GREGORIAN
METHOD:PUBLISH
X-ORIGINAL-URL:https://ufr-hss.unicaen.fr
X-WR-CALDESC:Évènements pour UFR Humanités et sciences sociales (HSS) - Université de Caen Normandie
REFRESH-INTERVAL;VALUE=DURATION:PT1H
X-Robots-Tag:noindex
X-PUBLISHED-TTL:PT1H
BEGIN:VTIMEZONE
TZID:Europe/Paris
BEGIN:DAYLIGHT
TZOFFSETFROM:+0100
TZOFFSETTO:+0200
TZNAME:CEST
DTSTART:20240331T010000
END:DAYLIGHT
BEGIN:STANDARD
TZOFFSETFROM:+0200
TZOFFSETTO:+0100
TZNAME:CET
DTSTART:20241027T010000
END:STANDARD
BEGIN:DAYLIGHT
TZOFFSETFROM:+0100
TZOFFSETTO:+0200
TZNAME:CEST
DTSTART:20250330T010000
END:DAYLIGHT
BEGIN:STANDARD
TZOFFSETFROM:+0200
TZOFFSETTO:+0100
TZNAME:CET
DTSTART:20251026T010000
END:STANDARD
BEGIN:DAYLIGHT
TZOFFSETFROM:+0100
TZOFFSETTO:+0200
TZNAME:CEST
DTSTART:20260329T010000
END:DAYLIGHT
BEGIN:STANDARD
TZOFFSETFROM:+0200
TZOFFSETTO:+0100
TZNAME:CET
DTSTART:20261025T010000
END:STANDARD
END:VTIMEZONE
BEGIN:VEVENT
DTSTART;TZID=Europe/Paris:20251104T133000
DTEND;TZID=Europe/Paris:20251104T163000
DTSTAMP:20260421T221533
CREATED:20250718T083237Z
LAST-MODIFIED:20251003T075733Z
UID:56555-1762263000-1762273800@ufr-hss.unicaen.fr
SUMMARY:Nucléaire\, énergie et société · Séance 7
DESCRIPTION:Prochaine séance du séminaire « Nucléaire\, énergie et société » organisé par le pôle Risques de la MRSH\, dans le cadre du master GREEN\, mardi 4 novembre 2025\, de 13h30 à 16h30\, dans la salle des actes de la MRSH. \n\n\n\nProgramme de la séance du 4 novembre 2025\n\n\n\nResponsable scientifique : Frédérick Lemarchand \n\n\n\nInto eternity\, le nucléaire et la question du temps. Quelles questions pose le projet d’enfouissement de déchets pour 100 000 ans ?par Hervé Lecrosnier\, éditeur\, ancien maître de conférences en informatique à l’université de Caen Normandie \n\n\n\nEn savoir plus\n\n\n\n\nProgramme complet 2025 du Séminaire Nucléaire\, énergie et sociétéToutes les actualités du laboratoire CERREV : CERREV – Agenda
URL:https://ufr-hss.unicaen.fr/evenement/nucleaire-energie-et-societe-seance-7/
LOCATION:Caen · Campus 1 · Maison de la recherche en sciences humaines (MRSH) · Salle des Actes\, Campus 1\, Maison de la recherche en sciences humaines (MRSH)\, 1 Esplanade de la Paix\, Caen\, 14000\, France
CATEGORIES:Séminaire
ATTACH;FMTTYPE=image/png:https://ufr-hss.unicaen.fr/wp-content/uploads/sites/32/2025/07/UNICAEN_UFR-HSS_Bandeau_Seminaire-Transition-technique-territoire_2025.png
END:VEVENT
BEGIN:VEVENT
DTSTART;TZID=Europe/Paris:20251105T183000
DTEND;TZID=Europe/Paris:20251105T193000
DTSTAMP:20260421T221533
CREATED:20250829T073841Z
LAST-MODIFIED:20250829T074359Z
UID:56616-1762367400-1762371000@ufr-hss.unicaen.fr
SUMMARY:Nocturnes du plan de Rome · Aurélien et la construction de la plus grande muraille du monde occidental
DESCRIPTION:La prochaine séance du cycle de conférences des « Nocturnes du Plan de Rome » de l’année 2025-2026 aura lieu le mercredi 5 novembre 2025\, à 18h30\, dans l’amphi Pierre Daure et en direct sur www.youtube.com/cireve/live.Entrée gratuite et sans réservation. \n\n\n\nLe cycle de conférences des « Nocturnes du Plan de Rome » est proposé par l’Équipe de Recherche sur les Littératures\, les Imaginaires et les Sociétés · ERLIS · UR 4254 et réalisé avec l’appui du Centre Interdisciplinaire de Réalité Virtuelle · CIREVE. \n\n\n\nSéance du 5 novembre · Aurélien et la construction de la plus grande muraille du monde occidental\n\n\n\nEn 271 ap. J.-C.\, l’empereur Aurélien entreprend de construire une nouvelle muraille englobant l’ensemble de la ville de Rome. C’est la plus grande muraille jamais réalisée dans le monde occidental et aujourd’hui encore elle est prégnante dans l’urbanisme de la Rome moderne. L’ancienne muraille construite à l’époque royale et appelée « muraille servienne » du nom du roi Servius Tullius avait été entièrement restaurée au début du IVe siècle av. J.-C.\, après l’invasion gauloise. Mais\, depuis la fin de la période républicaine\, elle était devenue inutile tant les constructions s’étaient étendues au-delà. La muraille aurélienne fut construite rapidement\, à une époque où la pression barbare se faisait pressante : elle était pratiquement achevée à la mort d’Aurélien en 275 ap. J.-C. Pour gagner du temps et de l’argent\, les constructeurs ont englobé des constructions préexistantes sur environ 10% de son parcours de 19 km. La « Nocturne » montre l’état de la muraille en 320 ap. J.-C. après une rapide restauration par l’empereur Maxence\, mais avant les restaurations fondamentales des empereurs Honorius et Arcadius dans les années 401-402\, qui lui ont donné son aspect actuel. Nous montrons aussi comment\, dans le secteur stratégique du sud-est\, elle a englobé un amphithéâtre\, coupé en deux un cirque et pris appui pour une partie de son trajet sur les aqueducs qui entrent dans Rome à cet endroit. \n\n\n\nEn savoir plus\n\n\n\n\nConsultez le programme complet des Nocturnes du Plan de Rome 2025-2026Visionnez les Nocturnes passées sur la chaîne YouTube du CIREVERetrouvez toutes les actualités des nocturnes du plan de Rome : \n\n\n\n\nsur le site du CIREVE\n\n\n\nsur Facebook
URL:https://ufr-hss.unicaen.fr/evenement/aurelien-et-la-construction-de-la-plus-grande-muraille-du-monde-occidental/
LOCATION:Caen · Campus 1 · Bâtiment P · Amphi Pierre Daure\, Amphithéâtre Pierre Daure\, Esplanade de la Paix\, Caen\, 14000\, France
CATEGORIES:Conférence
ATTACH;FMTTYPE=image/jpeg:https://ufr-hss.unicaen.fr/wp-content/uploads/sites/32/2025/08/UNICAEN_CIREVE_Bandeau_Nocturnes_Plan-de-rome_2025-2026.jpg
END:VEVENT
BEGIN:VEVENT
DTSTART;TZID=Europe/Paris:20251107T140000
DTEND;TZID=Europe/Paris:20251107T170000
DTSTAMP:20260421T221533
CREATED:20251001T070957Z
LAST-MODIFIED:20251001T070958Z
UID:89324-1762524000-1762534800@ufr-hss.unicaen.fr
SUMMARY:Mondes nordiques et normands médiévaux · 25|26 · Séance 3
DESCRIPTION:La prochaine séance du séminaire « Mondes nordiques et normands médiévaux »\, programme 2025-2026\, aura lieu le vendredi 7 novembre 2025\, de 14h à 17h\, dans l’amphithéâtre de la MRSH. \n\n\n\nCe séminaire vise à présenter les recherches qui intéressent les mondes nordiques et normands médiévaux\, entendus au sens large pour désigner la Normandie médiévale dans la longue durée\, mais aussi les espaces où s’établirent les Scandinaves aux VIIIe-XIe siècles et les territoires qui ont été sous domination normande en France\, dans les îles Britanniques et en Méditerranée aux XIe-XIIIe siècles. Les disciplines représentées sont l’histoire\, l’archéologie\, la philologie\, les langues et les littératures médiévales. Certaines séances sont mutualisées avec le séminaire « La Fabrique des sources ». \n\n\n\nLe séminaire est ouvert à toutes et tous\, et en particulier aux membres du CRAHAM et aux étudiant·es inscrits en master d’histoire et aux doctorant·es. \n\n\n\nProgramme de la séance 3\n\n\n\nCoordination : Alan Gautier et Pierre Bauduin (UMR CRAHAM\, UNICAEN) \n\n\n\nCultures martiales des mondes scandinaves médiévauxVincent SAMSON (UMR ARCHE\, École de guerre)L’inscription runique de la lance de Kragehul (Danemark\, Ve s.) : étude d’un rituel de consécration guerrière dans la Scandinavie ancienneVictor BARABINO (UMR CRAHAM\, université de Lorraine)Convectis a continenti domibus : quelques réflexions sur la halle comme modèle de l’habitat guerrier scandinave \n\n\n\nEn savoir plus\n\n\n\n\nConsultez le programme complet du Séminaire Mondes nordiques et normands médiévaux 2025-2026Toutes les actualités du Centre Michel de Boüard – CRAHAM : CRAHAM – Agenda
URL:https://ufr-hss.unicaen.fr/evenement/mondes-nordiques-et-normands-medievaux-2526-seance-3/
LOCATION:Caen · Campus 1 · Bâtiment F · Maison de la recherche en sciences humaines (MRSH) · Amphi\, Campus 1\, Maison de la recherche en sciences humaines (MRSH)\, 1 Esplanade de la Paix\, Caen\, 14000\, France
CATEGORIES:Séminaire
ATTACH;FMTTYPE=image/jpeg:https://ufr-hss.unicaen.fr/wp-content/uploads/sites/32/2024/09/UNICAEN_UFR-HSS_Bandeau_Seminaire-MNNM-2024-2025.jpg
END:VEVENT
BEGIN:VEVENT
DTSTART;TZID=Europe/Paris:20251112T100000
DTEND;TZID=Europe/Paris:20251112T130000
DTSTAMP:20260421T221533
CREATED:20251003T123901Z
LAST-MODIFIED:20251003T130248Z
UID:89505-1762941600-1762952400@ufr-hss.unicaen.fr
SUMMARY:La fabrique du politique · 25|26 · Séance 3
DESCRIPTION:Prochaine séance du séminaire « La fabrique du politique »\, année 2025-2026\, organisée par le laboratoire HisTeMé · UR 7455\, mercredi 12 novembre 2025\, de 10h à 13h\, dans la salle des actes de la MRSH. \n\n\n\nCoordination : Vincent Bollenot\, Brice Évain\, Dzovinar Kévonian\, Anne de Mathan\, Félix Brêteau \n\n\n\nCe séminaire s’inscrit dans la dynamique de formation pluridisciplinaire du Parcours Sciences Politiques qui associe historiens\, sociologues\, juristes\, philosophes\, économistes\, politistes et géographes en Licence et\, depuis la rentrée 2022-2023\, en Master. L’objet politique est ici appréhendé dans une longue durée associant période moderne et contemporaine mais tout autant dans la perspective des enjeux sociopolitiques actuels. Il vise à confronter les problématiques\, les méthodes et travaux actuels\, en somme de décloisonner d’un point de vue disciplinaire et temporel les approches d’un même objet : le fait politique. L’ambition de ce séminaire consiste à affûter la réflexion des étudiants et auditeurs\, leur fournir des clés d’accès et des outils d’analyse\, par des ateliers thématiques présentés par notre équipe et animés par des collègues invités et spécialistes reconnus.Chaque année une thématique est choisie en lien à la fois avec l’actualité de la recherche mais également avec les enjeux du politique dans la Cité. Dans une perspective de science ouverte et partagée\, le séminaire est un lieu d’analyses et de prospectives sur les mutations politiques et les droits fondamentaux\, les nouveaux acteurs et pratiques politiques\, les migrations et l’administration de l’asile\, la participation citoyenne et les modalités d’engagement. \n\n\n\nThématique 2025-2026 : Intime et politique\, politiques de l’intime \n\n\n\nProgramme de la séance 3\n\n\n\nEngagement\, amour\, emprise : intime et politique autour du “moment 68”  \n\n\n\nBoris Gobille (maître de conférences de science politique à l’ENS de Lyon\, Triangle)Enquêter sur les racines intimes de Mai-juin 68 : matériaux\, approches\, enjeuxJulie Pagis (chargée de recherche au CNRS\, IRIS)De la domination charismatique dans les “années 68” : retour sur une enquête au sein d’un groupe maoïste \n\n\n\nEn savoir plus\n\n\n\n\nConsultez le programme complet du Séminaire La fabrique du politique 2025-2026Toutes les actualités du laboratoire HisTeMé : HisTeMé – Actualités
URL:https://ufr-hss.unicaen.fr/evenement/la-fabrique-du-politique-2526-seance-3/
LOCATION:Caen · Campus 1 · Maison de la recherche en sciences humaines (MRSH) · Salle des Actes\, Campus 1\, Maison de la recherche en sciences humaines (MRSH)\, 1 Esplanade de la Paix\, Caen\, 14000\, France
CATEGORIES:Séminaire
ATTACH;FMTTYPE=image/jpeg:https://ufr-hss.unicaen.fr/wp-content/uploads/sites/32/2023/11/UNICAEN_UFR-HSS_Bandeau_Seminaire-La-fabrique-du-politique_2023-2024.jpg
END:VEVENT
BEGIN:VEVENT
DTSTART;TZID=Europe/Paris:20251112T140000
DTEND;TZID=Europe/Paris:20251112T140000
DTSTAMP:20260421T221533
CREATED:20250912T132528Z
LAST-MODIFIED:20250912T140008Z
UID:89115-1762956000-1762956000@ufr-hss.unicaen.fr
SUMMARY:De l'affect au concept · Séance 2
DESCRIPTION:Prochaine séance de l’année 2025-2026 du séminaire De l’affect au concept\, organisée par l’unité de recherche Identité & Subjectivité (UR 2129)\, mercredi 12 novembre 2025\, à 14h\, dans la salle des actes\, MRSH. \n\n\n\nResponsable scientifique :  Anne Devarieux\, anne.devarieux@unicaen.fr \n\n\n\nProgramme de la séance du 12 novembre 2025\n\n\n\n« L’influence de l’affect et de la volonté sur le jugement pratique chez Thomas d’Aquin\, Henri de Gand et Duns Scot »Tobias Hoffmann (Sorbonne université)« L’affect et le concept : l’éthique de Duns Scot en dialogue avec Aristote »Olivier Boulnois (EPHE – Université PSL) \n\n\n\nPossibilité de suivre la séance en visioconférence : lien de connexion \n\n\n\nEn savoir plus\n\n\n\n\nConsultez le programme complet du Séminaire De l’affect au concept 2025-2026Toutes les actualités du laboratoire « Identité & Subjectivité » : Identité & Subjectivité – Agenda
URL:https://ufr-hss.unicaen.fr/evenement/de-laffect-au-concept-seance-2/
LOCATION:Caen · Campus 1 · Maison de la recherche en sciences humaines (MRSH) · Salle des Actes\, Campus 1\, Maison de la recherche en sciences humaines (MRSH)\, 1 Esplanade de la Paix\, Caen\, 14000\, France
CATEGORIES:Séminaire
ATTACH;FMTTYPE=image/png:https://ufr-hss.unicaen.fr/wp-content/uploads/sites/32/2025/09/UNICAEN_UFR-HSS_Bandeau_Seminaire-Affect-au-concept_2025-2026.png
END:VEVENT
BEGIN:VEVENT
DTSTART;TZID=Europe/Paris:20251113T100000
DTEND;TZID=Europe/Paris:20251113T130000
DTSTAMP:20260421T221533
CREATED:20251001T104428Z
LAST-MODIFIED:20251001T104429Z
UID:89390-1763028000-1763038800@ufr-hss.unicaen.fr
SUMMARY:Penser le maritime · 25|26 · Séance 3
DESCRIPTION:La prochaine séance du séminaire « Penser le maritime »\, année 2025-2026\, aura lieu le jeudi 13 novembre 2025\, de 10h à 13h\, à l’université du Havre. \n\n\n\nCe séminaire est co-organisé par le Pôle Espaces maritimes\, sociétés littorales\, interfaces portuaires · PEMAR de la MRSH de Caen\, HisTeMé · UR 7455 et l’UMR IDEES · UMR CNRS 6266. \n\n\n\nCoordination :  Carole Christen (UMR IDEES)\, Éric Saunier (HisTeMé)\, Thomas Vaisset (UMR IDEES) \n\n\n\nProgramme de la séance 3\n\n\n\nNaufrages en merLéa Tavenne (maîtresse de conférences en histoire à l’université de Bretagne Sud\, TEMOS UMR 9016 CNRS)« Tempêtes et naufrages en Méditerranée aux XVIIIe et XIXe siècles\, une histoire totale ? »Bastien Michel (ATER à l’université Le Havre Normandie\, IDEES\, UMR 6266 CNRS)« Prosopographie d’une épave : le naufrage de la Blanche Nef (25 novembre 1120) et les réseaux aristocratiques du monde anglo-normand » \n\n\n\nEn savoir plus\n\n\n\n\nConsultez le programme complet du Séminaire Penser le maritime 2025-2026Toutes les actualités du laboratoire HisTeMé : HisTeMé – Actualités
URL:https://ufr-hss.unicaen.fr/evenement/penser-le-maritime-2526-seance-3/
LOCATION:Université Le Havre Normandie · PRSH · Salle Madeleine de Scudéry\, Pole de Recherche en Sciences Humaines\, Faculté des Affaires Internationales\, 25 Rue Philippe Lebon\, Le Havre\, 76600\, France
CATEGORIES:Séminaire
ATTACH;FMTTYPE=image/png:https://ufr-hss.unicaen.fr/wp-content/uploads/sites/32/2025/10/UNICAEN_UFR-HSS_Bandeau_Seminaire-Penser-le-maritime_2025-2026.png
END:VEVENT
BEGIN:VEVENT
DTSTART;TZID=Europe/Paris:20251113T110000
DTEND;TZID=Europe/Paris:20251113T170000
DTSTAMP:20260421T221533
CREATED:20250929T130607Z
LAST-MODIFIED:20250929T133920Z
UID:89319-1763031600-1763053200@ufr-hss.unicaen.fr
SUMMARY:Forum OSE ! Objectif – Stages – Emplois
DESCRIPTION:Vous recherchez un stage\, une alternance ou un emploi ?Vous souhaitez développer votre réseau professionnel ? \n\n\n\nJeudi 13 novembre\, de 11h à 17h\, de nombreuses entreprises locales et nationales seront réunies en un lieu unique\, alors venez les rencontrer et échangez avec elles ! C’est aussi l’occasion de faire relire vos CV et obtenir les conseils de professionnels. \n\n\n\n\n\nPréparez votre visite au forum OSE ! Objectif – Stages – Emplois \n\n\n\nParticipez aux ateliers Relecture de CV (dates communiquées prochainement) : les conseillers de l’Espace orientation insertion (EOI) seront à votre disposition pour relire vos CV sans rdv sur les campus 1 et 2 et ainsi être fin prêt le jour du forum. \n\n\n\n\n\nLes différents espaces du forum : \n\n\n\n\nEspace entreprises : découvrez la liste des entreprises présentes au forum OSE sur le Career center UNICAEN.\n\n\n\nEspaces conseils : apprentissage\, coaching CV.
URL:https://ufr-hss.unicaen.fr/evenement/forum-ose-objectif-stages-emplois-5/
LOCATION:Caen · Campus 2 · BU Rosalind-Franklin\, BU Rosalind-Franklin\, Campus 2\, Côte de Nacre\, Boulevard Maréchal Juin\, Caen\, 14032\, France
CATEGORIES:Orientation - Insertion
ATTACH;FMTTYPE=image/jpeg:https://ufr-hss.unicaen.fr/wp-content/uploads/sites/32/2025/09/Forum-OSE-2024_Wordpress.jpg
ORGANIZER;CN="Espace orientation insertion (EOI)":MAILTO:orientationinsertion@unicaen.fr
END:VEVENT
BEGIN:VEVENT
DTSTART;TZID=Europe/Paris:20251114T140000
DTEND;TZID=Europe/Paris:20251114T180000
DTSTAMP:20260421T221533
CREATED:20250917T133915Z
LAST-MODIFIED:20250917T134058Z
UID:89189-1763128800-1763143200@ufr-hss.unicaen.fr
SUMMARY:La Fabrique des sources : textes\, objets\, sites de l’Antiquité à la Renaissance · 25|26 · Séance 2
DESCRIPTION:La prochaine séance du séminaire du CRAHAM\, « La Fabrique des sources : textes\, objets\, sites de l’Antiquité à la Renaissance »\, année 2025-2026\, aura lieu le vendredi 14 novembre 2025\, de 14h à 18h\, dans la salle du Belvédère\, bâtiment D. \n\n\n\nCe séminaire couvre un champ chronologique allant de l’Antiquité grecque à la Renaissance en mettant en œuvre les sources historiques et littéraires comme les données archéologiques. Ces archives du passé seront considérées à travers des séances ponctuelles ou des cycles permettant d’aborder une question plus en détail. Dans tous les cas\, ces séances fourniront des éclairages sur la recherche en train de se faire\, d’où l’emploi du terme « fabrique » dans son titre. Certaines séances sont mutualisées avec le séminaire « Mondes nordiques et normands médiévaux » \n\n\n\nLe séminaire est ouvert aux étudiants de L3\, de Master et de Doctorat. Il est inscrit au programme des séminaires de l’ED HMPL (Histoire\, mémoire\, patrimoine\, langage). \n\n\n\nProgramme de la séance 2\n\n\n\nCoordination : Pierre Bauduin et Alban Gautier (UMR CRAHAM\, UNICAEN)Séance en lien avec le programme d’histoire médiévale de l’agrégation \n\n\n\nThéories et pratiques du gouvernement impérial dans l’empire byzantin et le monde islamiqueLe gouvernement impérial byzantin des provinces et les aristocrates sous les Macédoniens (fin IXe-début XIe s.) : modèle général et cas italienAnnick PETERS-CUSTOT (UR CRHIA\, Nantes université)Gouverner l’empire islamique\, début VIIIe-début XIe s.Emmanuelle TIXIER du MESNIL (UR MéMo\, université Paris Nanterre) \n\n\n\nEn savoir plus\n\n\n\n\nConsultez le programme complet du Séminaire La Fabrique des sources : textes\, objets\, sites de l’Antiquité à la Renaissance 2025-2026Toutes les actualités du Centre Michel de Boüard – CRAHAM : CRAHAM – Agenda
URL:https://ufr-hss.unicaen.fr/evenement/la-fabrique-des-sources-textes-objets-sites-de-lantiquite-a-la-renaissance-2526-seance-2/
LOCATION:Caen · Campus 1 · Bâtiment D · Salle du Belvédère\, Centre de recherche en sciences de l'éducation\, Esplanade de la Paix\, Caen\, 14000\, France
CATEGORIES:Séminaire
ATTACH;FMTTYPE=image/jpeg:https://ufr-hss.unicaen.fr/wp-content/uploads/sites/32/2024/09/UNICAEN_UFR-HSS_Bandeau_Seminaire-La-fabrique-des-sources-2024-2025.jpg
END:VEVENT
BEGIN:VEVENT
DTSTART;TZID=Europe/Paris:20251114T140000
DTEND;TZID=Europe/Paris:20251114T180000
DTSTAMP:20260421T221533
CREATED:20250919T133015Z
LAST-MODIFIED:20250919T133016Z
UID:89260-1763128800-1763143200@ufr-hss.unicaen.fr
SUMMARY:Histoire culturelle · 25|26 · Séance 3
DESCRIPTION:Prochaine séance du séminaire d’Histoire culturelle\, année 2025-2026\, organisée par le laboratoire HisTeMé · UR 7455\, vendredi 14 novembre 2025\, de 14h à 18h\, à l’IMEC. \n\n\n\nLe séminaire\n\n\n\nResponsables scientifiques :  Jean-Baptiste Bonnard\, Florence Buttay\, Typhaine Haziza\, Paola Palma\, Anna Trespeuch-Berthelot\, avec le soutien de l’IMEC \n\n\n\nLe séminaire d’histoire culturelle est un espace de savoir\, d’échanges et de débats autour des méthodes et des objets de l’histoire culturelle\, cette histoire sociale des représentations collectives. Les sujets présentés par nos invités portent sur les quatre périodes historiques. Le séminaire est ouvert au dialogue interdisciplinaire\, à l’image du lieu qui l’accueille : l’Institut Mémoires de l’édition contemporaine · IMEC. \n\n\n\nProgramme de la séance 3\n\n\n\nHistoire des sensibilités : la conjugalitéHistoire sensible des lendemains de guerre : un voyage de noces en 1919Clémentine Vidal-Naquet (université de Rouen Normandie)Conjugalité et pouvoir au Moyen Âge (duchés de Bourbon et de Bourgogne\, XIVe-XVIe siècles)Lucie Jardot (université Paris I) \n\n\n\nEn savoir plus\n\n\n\n\nConsultez le programme complet du Séminaire d’histoire culturelle 2025-2026Toutes les actualités du laboratoire HisTeMé : HisTeMé – Actualités
URL:https://ufr-hss.unicaen.fr/evenement/histoire-culturelle-2526-seance-3/
LOCATION:Saint-Germain-la-Blanche-Herbe · IMEC\, IMEC\, L'Abbaye D'Ardenne\, 3 Rue Youf du Marché\, Saint-Germain-la-Blanche-Herbe\, 14280\, France
CATEGORIES:Séminaire
ATTACH;FMTTYPE=image/png:https://ufr-hss.unicaen.fr/wp-content/uploads/sites/32/2025/09/UNICAEN_UFR-HSS_Bandeau_Seminaire-Histoire-culturelle_2025-2026.png
END:VEVENT
BEGIN:VEVENT
DTSTART;TZID=Europe/Paris:20251114T143000
DTEND;TZID=Europe/Paris:20251114T173000
DTSTAMP:20260421T221533
CREATED:20250919T085438Z
LAST-MODIFIED:20250919T085439Z
UID:89240-1763130600-1763141400@ufr-hss.unicaen.fr
SUMMARY:Le Temps de l'Empire ibérique (XVe -XVIIIe siècles) · 25|26 · Séance 3
DESCRIPTION:Prochaine séance du séminaire pluridisciplinaire « Le Temps de l’Empire ibérique (XVe – XVIIIe siècles) – Négociations\, médiations\, réseaux dans l’empire ibérique (II) »\, année 2025-2026\, vendredi 14 novembre 2025\, de 14h30 à 17h30\, dans l’amphithéâtre de la MRSH. \n\n\n\nResponsables scientifiques : Valeria Allaire\, Loann Berens\, Ariane Boltanski\, Marie-Lucie Copete\, Soïzic Croguennec\, Juan Carlos D’Amico\, Marion Duchesne\, Manuela Águeda García Garrido\, Alexandra Merle\, Alejandra Testino-Zafiropoulos \n\n\n\nLa participation est obligatoire pour toutes les étudiantes et tous les étudiants inscrits dans ce séminaire : 7SMRTEI (M1-S1)\, Y8SMRTEI (M1-S2)\, Y9SMRTEI (M2-S1)\, Y0SMRTEI (M2-S2) \n\n\n\nProgramme de la séance du 14 novembre\n\n\n\nÉliette Soulier (université Sorbonne Nouvelle\, LECEMO-CRES)Les premiers contacts sino-hispaniques : réflexions sur les raisons d’un échecEzequiel Borgognoni (universidad Rey Juan Carlos)La embajadora Marquesa de Villars: género\, diplomacia y tramas cortesanas en el Madrid de Carlos II y Maria Luisa de Orléans \n\n\n\nEn savoir plus\n\n\n\n\nConsultez le programme complet du Séminaire Le Temps de l’Empire ibérique 2025-2026Toutes les actualités du laboratoire HisTeMé : HisTeMé – Actualités
URL:https://ufr-hss.unicaen.fr/evenement/le-temps-de-lempire-iberique-xve-xviiie-siecles-2526-seance-3/
LOCATION:Caen · Campus 1 · Bâtiment F · Maison de la recherche en sciences humaines (MRSH) · Amphi\, Campus 1\, Maison de la recherche en sciences humaines (MRSH)\, 1 Esplanade de la Paix\, Caen\, 14000\, France
CATEGORIES:Séminaire
ATTACH;FMTTYPE=image/png:https://ufr-hss.unicaen.fr/wp-content/uploads/sites/32/2025/09/UNICAEN_UFR-HSS_Bandeau_Seminaire-Temps-Empire-iberique_2025-2026.png
END:VEVENT
BEGIN:VEVENT
DTSTART;TZID=Europe/Paris:20251117T140000
DTEND;TZID=Europe/Paris:20251117T140000
DTSTAMP:20260421T221533
CREATED:20251003T071414Z
LAST-MODIFIED:20251003T071415Z
UID:89452-1763388000-1763388000@ufr-hss.unicaen.fr
SUMMARY:Atelier du Pôle Document Numérique · Séance 3
DESCRIPTION:Prochaine séance des ateliers du Pôle Document Numérique de la MRSH\, année 2025-2026\, lundi 17 novembre 2025\, à 14h\, dans la salle SH 126 de la MRSH. \n\n\n\nLe Pôle Document numérique · PDN est un pôle pluridisciplinaire et une plateforme d’ingénierie de la Maison de la Recherche en Sciences Humaines (CNRS/université de Caen Normandie). \n\n\n\nLe PDN conçoit\, développe et met en œuvre des outils numériques et des méthodes de travail pour les programmes de recherche en humanités et sciences humaines et sociales (SHS) avec une approche centrée sur les données. Cette orientation permet de concentrer les efforts de veille et de recherche sur les modèles de données plutôt que sur les outils d’exploitation. L’expertise développée sur ces modèles facilite la production de solutions génériques pour la manipulation\, l’observation et la consultation des documents. Ces outils génériques sont ensuite adaptés à des problématiques scientifiques spécifiques. \n\n\n\nLes ateliers\n\n\n\nLes ateliers du Pôle Document Numérique proposent aux doctorant·es et aux jeunes chercheur·es d’appliquer les méthodes et outils qu’il développe à leurs propres données de recherche\, afin de répondre aux questions concrètes qu’ils ou elles peuvent se poser et de faciliter l’exploitation de ces mêmes données. \n\n\n\nInscriptionContacter julia.roger@unicaen.fr \n\n\n\nEn savoir plus\n\n\n\n\nMRSH – Pôle Document Numérique
URL:https://ufr-hss.unicaen.fr/evenement/atelier-du-pole-document-numerique-seance-3/
LOCATION:Caen · Campus 1 · Maison de la recherche en sciences humaines (MRSH) · Salle SH-126\, Campus 1\, Maison de la recherche en sciences humaines (MRSH)\, 1 Esplanade de la Paix\, Caen\, 14000\, France
CATEGORIES:Atelier
ATTACH;FMTTYPE=image/png:https://ufr-hss.unicaen.fr/wp-content/uploads/sites/32/2023/03/Bandeau_Ateliers-du-PDN_2022-2023.png
END:VEVENT
BEGIN:VEVENT
DTSTART;TZID=Europe/Paris:20251118T133000
DTEND;TZID=Europe/Paris:20251118T163000
DTSTAMP:20260421T221533
CREATED:20250718T082851Z
LAST-MODIFIED:20251003T075956Z
UID:56553-1763472600-1763483400@ufr-hss.unicaen.fr
SUMMARY:Nucléaire\, énergie et société · Séance 8
DESCRIPTION:Dernière séance du séminaire « Nucléaire\, énergie et société » organisé par le pôle Risques de la MRSH\, dans le cadre du master GREEN\, mardi 18 novembre 2025\, de 13h30 à 16h30\, dans la salle SH 126 de la MRSH. \n\n\n\nProgramme de la séance du 18 novembre 2025\n\n\n\nResponsable scientifique : Frédérick Lemarchand \n\n\n\nLeçons du Cinquième Plan national de gestion des matières et déchets radioactifs (PNGMDR) et de sa mise en débatpar Catherine Larrère\, professeur de philosophie émérite\, Paris 1 Sorbonne \n\n\n\nEn savoir plus\n\n\n\n\nProgramme complet 2025 du Séminaire Nucléaire\, énergie et sociétéToutes les actualités du laboratoire CERREV : CERREV – Agenda
URL:https://ufr-hss.unicaen.fr/evenement/nucleaire-energie-et-societe-seance-8/
LOCATION:Caen · Campus 1 · Maison de la recherche en sciences humaines (MRSH) · Salle SH-126\, Campus 1\, Maison de la recherche en sciences humaines (MRSH)\, 1 Esplanade de la Paix\, Caen\, 14000\, France
CATEGORIES:Séminaire
ATTACH;FMTTYPE=image/png:https://ufr-hss.unicaen.fr/wp-content/uploads/sites/32/2025/07/UNICAEN_UFR-HSS_Bandeau_Seminaire-Transition-technique-territoire_2025.png
END:VEVENT
END:VCALENDAR