BEGIN:VCALENDAR
VERSION:2.0
PRODID:-//UFR Humanités et sciences sociales (HSS) - Université de Caen Normandie - ECPv6.15.18//NONSGML v1.0//EN
CALSCALE:GREGORIAN
METHOD:PUBLISH
X-ORIGINAL-URL:https://ufr-hss.unicaen.fr
X-WR-CALDESC:Évènements pour UFR Humanités et sciences sociales (HSS) - Université de Caen Normandie
REFRESH-INTERVAL;VALUE=DURATION:PT1H
X-Robots-Tag:noindex
X-PUBLISHED-TTL:PT1H
BEGIN:VTIMEZONE
TZID:Europe/Paris
BEGIN:DAYLIGHT
TZOFFSETFROM:+0100
TZOFFSETTO:+0200
TZNAME:CEST
DTSTART:20250330T010000
END:DAYLIGHT
BEGIN:STANDARD
TZOFFSETFROM:+0200
TZOFFSETTO:+0100
TZNAME:CET
DTSTART:20251026T010000
END:STANDARD
BEGIN:DAYLIGHT
TZOFFSETFROM:+0100
TZOFFSETTO:+0200
TZNAME:CEST
DTSTART:20260329T010000
END:DAYLIGHT
BEGIN:STANDARD
TZOFFSETFROM:+0200
TZOFFSETTO:+0100
TZNAME:CET
DTSTART:20261025T010000
END:STANDARD
BEGIN:DAYLIGHT
TZOFFSETFROM:+0100
TZOFFSETTO:+0200
TZNAME:CEST
DTSTART:20270328T010000
END:DAYLIGHT
BEGIN:STANDARD
TZOFFSETFROM:+0200
TZOFFSETTO:+0100
TZNAME:CET
DTSTART:20271031T010000
END:STANDARD
END:VTIMEZONE
BEGIN:VEVENT
DTSTART;TZID=Europe/Paris:20260204T183000
DTEND;TZID=Europe/Paris:20260204T193000
DTSTAMP:20260421T220528
CREATED:20250829T074736Z
LAST-MODIFIED:20250829T074737Z
UID:56620-1770229800-1770233400@ufr-hss.unicaen.fr
SUMMARY:Nocturnes du plan de Rome · Auguste : premier empereur de Rome
DESCRIPTION:La prochaine séance du cycle de conférences des « Nocturnes du Plan de Rome » de l’année 2025-2026 aura lieu le mercredi 4 février 2026\, à 18h30\, dans l’amphi Pierre Daure et en direct sur www.youtube.com/cireve/live.Entrée gratuite et sans réservation. \n\n\n\nLe cycle de conférences des « Nocturnes du Plan de Rome » est proposé par l’Équipe de Recherche sur les Littératures\, les Imaginaires et les Sociétés · ERLIS · UR 4254 et réalisé avec l’appui du Centre Interdisciplinaire de Réalité Virtuelle · CIREVE. \n\n\n\nSéance du 4 février · Auguste : premier empereur de Rome\n\n\n\nL’histoire de la Rome Antique est conventionnellement divisée en trois périodes : la royauté\, la république et l’empire. Le visage de Rome a profondément changé au cours de cette histoire longue de presque treize siècles. La Rome que nous restituons au CIREVE est celle de la fin de la période impériale parce ce sont ses vestiges qui sont les plus visibles dans la Rome d’aujourd’hui et aussi parce que c’est la période choisie par un de nos grands prédécesseurs pour la représentation de la Rome antique en relief : Paul Bigot et sa maquette en plâtre conservée à l’Université de Caen. La confrontation de notre modèle virtuel avec la Rome d’aujourd’hui et avec la maquette de P. Bigot offre en effet de multiples intérêts. Mais il nous a semblé également intéressant pour cette Nocturne de revenir sur le tout début de la période impériale pour montrer comment le premier empereur\, Auguste\, est à l’origine d’un bouleversement de nature non seulement politique mais aussi urbain\, et comment ce changement va se répercuter sur les villes de province. \n\n\n\nEn savoir plus\n\n\n\n\nConsultez le programme complet des Nocturnes du Plan de Rome 2025-2026Visionnez les Nocturnes passées sur la chaîne YouTube du CIREVERetrouvez toutes les actualités des nocturnes du plan de Rome : \n\n\n\n\nsur le site du CIREVE\n\n\n\nsur Facebook
URL:https://ufr-hss.unicaen.fr/evenement/nocturnes-du-plan-de-rome-auguste-premier-empereur-de-rome/
LOCATION:Caen · Campus 1 · Bâtiment P · Amphi Pierre Daure\, Amphithéâtre Pierre Daure\, Esplanade de la Paix\, Caen\, 14000\, France
CATEGORIES:Conférence
ATTACH;FMTTYPE=image/jpeg:https://ufr-hss.unicaen.fr/wp-content/uploads/sites/32/2025/08/UNICAEN_CIREVE_Bandeau_Nocturnes_Plan-de-rome_2025-2026.jpg
END:VEVENT
BEGIN:VEVENT
DTSTART;TZID=Europe/Paris:20260205T100000
DTEND;TZID=Europe/Paris:20260205T130000
DTSTAMP:20260421T220528
CREATED:20251001T141046Z
LAST-MODIFIED:20251001T141047Z
UID:89396-1770285600-1770296400@ufr-hss.unicaen.fr
SUMMARY:Penser le maritime · 25|26 · Séance 6
DESCRIPTION:La prochaine séance du séminaire « Penser le maritime »\, année 2025-2026\, aura lieu le jeudi 5 février 2026\, de 10h à 13h\, à l’université du Havre. \n\n\n\nCe séminaire est co-organisé par le Pôle Espaces maritimes\, sociétés littorales\, interfaces portuaires · PEMAR de la MRSH de Caen\, HisTeMé · UR 7455 et l’UMR IDEES · UMR CNRS 6266. \n\n\n\nCoordination :  Carole Christen (UMR IDEES)\, Éric Saunier (HisTeMé)\, Thomas Vaisset (UMR IDEES) \n\n\n\nProgramme de la séance 6\n\n\n\nLa pêche\, l’exemple des AntillesLucas Marin (doctorant à l’université de Paris-Nanterre\, ESNA-Mondes Américains\, UMR 8168\, CNRS)« Pêches et pêcheurs dans les Petites Antilles françaises (XVIIe-XVIIIe siècle) »Marie-Pierre Labonne (docteure en histoire contemporaine\, HisTeMé\, UR 7455)« Histoire et mémoire des gens de mer de la Martinique ; inscrits et esclaves à la mer au XIXe siècle » \n\n\n\nEn savoir plus\n\n\n\n\nConsultez le programme complet du Séminaire Penser le maritime 2025-2026Toutes les actualités du laboratoire HisTeMé : HisTeMé – Actualités
URL:https://ufr-hss.unicaen.fr/evenement/penser-le-maritime-2526-seance-6/
LOCATION:Université Le Havre Normandie · PRSH · Salle Madeleine de Scudéry\, Pole de Recherche en Sciences Humaines\, Faculté des Affaires Internationales\, 25 Rue Philippe Lebon\, Le Havre\, 76600\, France
CATEGORIES:Séminaire
ATTACH;FMTTYPE=image/png:https://ufr-hss.unicaen.fr/wp-content/uploads/sites/32/2025/10/UNICAEN_UFR-HSS_Bandeau_Seminaire-Penser-le-maritime_2025-2026.png
END:VEVENT
BEGIN:VEVENT
DTSTART;TZID=Europe/Paris:20260206T100000
DTEND;TZID=Europe/Paris:20260206T123000
DTSTAMP:20260421T220528
CREATED:20260114T135730Z
LAST-MODIFIED:20260114T135830Z
UID:89673-1770372000-1770381000@ufr-hss.unicaen.fr
SUMMARY:Séminaire AGRELITA "usages et exploitations des mémoires de l'antiquité" - séance 2
DESCRIPTION:Alban GAUTIER (UMR Craham · UNICAEN)\, Tout l’univers étant enpaix… » : le règne d’Auguste dans l’histoire\, la pseudo-histoire et l’hagiographieinsulaires du haut Moyen ÂgeLoann BERENS (UR Erlis · UNICAEN)\, Les antiquités de Gonzalo Fernándezde Oviedo\, alcaide de la forteresse de Saint-Domingue (XVIe siècle)
URL:https://ufr-hss.unicaen.fr/evenement/seminaire-agrelita-usages-et-exploitations-des-memoires-de-lantiquite-2/
LOCATION:Caen · Campus 1 · Maison de la recherche en sciences humaines (MRSH) · Salle SH-027\, Campus 1\, Maison de la recherche en sciences humaines (MRSH)\, 1 Esplanade de la Paix\, Caen\, 14000\, France
CATEGORIES:Séminaire
ATTACH;FMTTYPE=image/jpeg:https://ufr-hss.unicaen.fr/wp-content/uploads/sites/32/2026/01/bandeau-actu-seminaire-Agrelita.jpg
END:VEVENT
BEGIN:VEVENT
DTSTART;TZID=Europe/Paris:20260206T140000
DTEND;TZID=Europe/Paris:20260206T170000
DTSTAMP:20260421T220528
CREATED:20251001T083223Z
LAST-MODIFIED:20251001T083225Z
UID:89353-1770386400-1770397200@ufr-hss.unicaen.fr
SUMMARY:La Fabrique des sources : textes\, objets\, sites de l’Antiquité à la Renaissance · 25|26 · Séance 10
DESCRIPTION:La prochaine séance du séminaire du CRAHAM\, « La Fabrique des sources : textes\, objets\, sites de l’Antiquité à la Renaissance »\, année 2025-2026\, aura lieu le vendredi 6 février 2026\, de 14h à 17h\, dans la salle SH 027 de la MRSH. \n\n\n\nCe séminaire couvre un champ chronologique allant de l’Antiquité grecque à la Renaissance en mettant en œuvre les sources historiques et littéraires comme les données archéologiques. Ces archives du passé seront considérées à travers des séances ponctuelles ou des cycles permettant d’aborder une question plus en détail. Dans tous les cas\, ces séances fourniront des éclairages sur la recherche en train de se faire\, d’où l’emploi du terme « fabrique » dans son titre. Certaines séances sont mutualisées avec le séminaire « Mondes nordiques et normands médiévaux » \n\n\n\nLe séminaire est ouvert aux étudiants de L3\, de Master et de Doctorat. Il est inscrit au programme des séminaires de l’ED HMPL (Histoire\, mémoire\, patrimoine\, langage). \n\n\n\nProgramme de la séance 10\n\n\n\nCoordination : Catherine Gaullier-Bougassas (UMR CRAHAM\, UNICAEN) \n\n\n\nÉcritures sur l’AntiquitéAlessia GRILLONE (UR Rome et ses renaissances\, Sorbonne université\, université de Turin)Traduire Aristote à la Renaissance : le cas de Jean ArgyropoulosAdrian FAURE (UR Rome et ses Renaissances\, Sorbonne université)Écrire l’Antiquité par l’image : l’iconographie des blessures de Scipion l’Africain au XVe s. \n\n\n\nEn savoir plus\n\n\n\n\nConsultez le programme complet du Séminaire La Fabrique des sources : textes\, objets\, sites de l’Antiquité à la Renaissance 2025-2026Toutes les actualités du Centre Michel de Boüard – CRAHAM : CRAHAM – Agenda
URL:https://ufr-hss.unicaen.fr/evenement/la-fabrique-des-sources-textes-objets-sites-de-lantiquite-a-la-renaissance-2526-seance-10/
LOCATION:Caen · Campus 1 · Maison de la recherche en sciences humaines (MRSH) · Salle SH-027\, Campus 1\, Maison de la recherche en sciences humaines (MRSH)\, 1 Esplanade de la Paix\, Caen\, 14000\, France
CATEGORIES:Séminaire
ATTACH;FMTTYPE=image/jpeg:https://ufr-hss.unicaen.fr/wp-content/uploads/sites/32/2024/09/UNICAEN_UFR-HSS_Bandeau_Seminaire-La-fabrique-des-sources-2024-2025.jpg
END:VEVENT
BEGIN:VEVENT
DTSTART;TZID=Europe/Paris:20260210T180000
DTEND;TZID=Europe/Paris:20260210T190000
DTSTAMP:20260421T220528
CREATED:20260203T093525Z
LAST-MODIFIED:20260205T090215Z
UID:89716-1770746400-1770750000@ufr-hss.unicaen.fr
SUMMARY:Webinaire Mon Master : master Métiers du livre et de l'édition
DESCRIPTION:Vous souhaitez vous spécialiser en sciences du texte et apprendre à maîtriser un document numérique structuré ? Découvrez le master Métiers du livre et de l’édition et ses deux parcours. \n\n\n\nMaîtresse de conférences habilitée à diriger des recherches en langue et littérature latines et responsable du master Métiers du livre et de l’édition à l’université de Caen Normandie\, Brigitte Gauvin répond à vos questions concernant la formation et les candidatures sur la plateforme nationale Mon Master. Découvrez les 2 parcours : \n\n\n\n\nÉdition (en contexte numérique)\n\n\n\nMétiers des bibliothèques
URL:https://ufr-hss.unicaen.fr/evenement/webinaire-mon-master-master-metiers-du-livre-et-de-ledition/
CATEGORIES:Conférence
ATTACH;FMTTYPE=image/jpeg:https://ufr-hss.unicaen.fr/wp-content/uploads/sites/32/2026/01/Poursuivre-ses-etudes.jpg
END:VEVENT
BEGIN:VEVENT
DTSTART;TZID=Europe/Paris:20260211T140000
DTEND;TZID=Europe/Paris:20260211T140000
DTSTAMP:20260421T220528
CREATED:20250912T134550Z
LAST-MODIFIED:20250912T140108Z
UID:89123-1770818400-1770818400@ufr-hss.unicaen.fr
SUMMARY:De l'affect au concept · Séance 5
DESCRIPTION:Prochaine séance de l’année 2025-2026 du séminaire De l’affect au concept\, organisée par l’unité de recherche Identité & Subjectivité (UR 2129)\, mercredi 11 février 2026\, à 14h\, dans la salle des actes\, MRSH. \n\n\n\nResponsable scientifique :  Anne Devarieux\, anne.devarieux@unicaen.fr \n\n\n\nProgramme de la séance du 11 février 2026\n\n\n\n« Kierkegaard et la preuve pathologique »Joséphine Jamet (Institut catholique de Paris)« Nietzsche : de l’affect au concept »Christophe Bouriau (Université de Lorraine) \n\n\n\nPossibilité de suivre la séance en visioconférence : lien de connexion \n\n\n\nEn savoir plus\n\n\n\n\nConsultez le programme complet du Séminaire De l’affect au concept 2025-2026Toutes les actualités du laboratoire « Identité & Subjectivité » : Identité & Subjectivité – Agenda
URL:https://ufr-hss.unicaen.fr/evenement/de-laffect-au-concept-seance-5/
LOCATION:Caen · Campus 1 · Maison de la recherche en sciences humaines (MRSH) · Salle des Actes\, Campus 1\, Maison de la recherche en sciences humaines (MRSH)\, 1 Esplanade de la Paix\, Caen\, 14000\, France
CATEGORIES:Séminaire
ATTACH;FMTTYPE=image/png:https://ufr-hss.unicaen.fr/wp-content/uploads/sites/32/2025/09/UNICAEN_UFR-HSS_Bandeau_Seminaire-Affect-au-concept_2025-2026.png
END:VEVENT
BEGIN:VEVENT
DTSTART;TZID=Europe/Paris:20260217T140000
DTEND;TZID=Europe/Paris:20260217T180000
DTSTAMP:20260421T220528
CREATED:20250917T144429Z
LAST-MODIFIED:20250917T144431Z
UID:89211-1771336800-1771351200@ufr-hss.unicaen.fr
SUMMARY:Pôle Rural "Sociétés\, environnement et espaces ruraux" · 25|26 · Séance 4
DESCRIPTION:Prochaine séance du séminaire pluridisciplinaire du Pôle Rural « Sociétés\, environnement et espaces ruraux »\, année 2025-2026\, mardi 17 février 2026\, de 14h à 18h\, dans l’amphithéâtre de la MRSH. \n\n\n\nResponsables scientifiques :  Anna Trespeuch-Berthelot (HisTeMé · UR 7455)\, Jan Synowiecki (HisTeMé · UR 7455)\, Élisabeth Ridel-Granger (CNRS-MRSH\, Pôle rural)\, Philippe Madeline (ESO-CAEN · UMR 6590) \n\n\n\nProgramme de la séance 4\n\n\n\nAtelier jeunes chercheurs 2 \n\n\n\nLéonie BOISSIERE\, doctorante en histoire contemporaine à l’université Côte d’AzurAcclimater l’exotisme dans les espaces ruraux français (1804–1815)Margaux BOISGONTIER\, doctorante en géographie\, UMR ESO\, université de Caen NormandieViolences conjugales en contexte rural : une lecture spatiale \n\n\n\nEn savoir plus\n\n\n\n\nConsultez le programme complet du Séminaire Pôle rural 2025-2026Toutes les actualités du laboratoire HisTeMé : HisTeMé – Actualités
URL:https://ufr-hss.unicaen.fr/evenement/pole-rural-societes-environnement-et-espaces-ruraux-2526-seance-4/
LOCATION:Caen · Campus 1 · Bâtiment F · Maison de la recherche en sciences humaines (MRSH) · Amphi\, Campus 1\, Maison de la recherche en sciences humaines (MRSH)\, 1 Esplanade de la Paix\, Caen\, 14000\, France
CATEGORIES:Séminaire
ATTACH;FMTTYPE=image/png:https://ufr-hss.unicaen.fr/wp-content/uploads/sites/32/2025/09/UNICAEN_UFR-HSS_Bandeau_Seminaire-Pole-rural_2025-2026.png
END:VEVENT
BEGIN:VEVENT
DTSTART;TZID=Europe/Paris:20260218T143000
DTEND;TZID=Europe/Paris:20260218T173000
DTSTAMP:20260421T220528
CREATED:20250926T142908Z
LAST-MODIFIED:20251001T143454Z
UID:89305-1771425000-1771435800@ufr-hss.unicaen.fr
SUMMARY:Traces de guerre · 25|26 · Séance 5
DESCRIPTION:Prochaine séance du séminaire « Seconde Guerre mondiale\, Traces de guerre »\, 2025-2026\, organisée par le laboratoire HisTeMé · UR 7455\, mercredi 18 février 2026\, de 14h30 à 17h30\, au Mémorial de Caen. \n\n\n\nLe séminaire\n\n\n\nResponsables scientifiques :  Gaël Eismann et François Rouquet \n\n\n\nLe séminaire se propose d’inscrire la dimension occidentale de l’événement « Seconde Guerre mondiale » dans une perspective géographique et chronologique très large\, en intégrant en amont les legs socio-politiques et les pratiques culturelles des acteurs et témoins du conflit et en aval les répercussions\, les représentations comme les mémoires de l’événement. Si les thématiques autour de la justice\, de la répression\, de l’épuration et du monde combattant font partie des principaux champs de recherche\, les traces de la guerre sont aussi analysées à travers des corpus de témoignages publiés et des vestiges de la guerre.A cet effet\, les invitations proposées ont trait à l’actualité de la Seconde Guerre mondiale ou à d’autres périodes si des enjeux méthodologiques peuvent être abordés. Les étudiantes et étudiants sont par ailleurs invités à assister aux manifestations organisées avec le Mémorial de Caen : les journées « jeunes chercheur·es »\, les colloques et journées d’études organisées dans le cadre de nos programmes de recherche. \n\n\n\nProgramme de la séance 5\n\n\n\n\nAmour\, mariage\, sexualité. Une histoire intime du nazisme (1930-1950) \n\n\n\nElissa Mailänder\, professeure associée\, Sciences-Po\, Paris \n\n\n\n\nEn savoir plus\n\n\n\n\nConsultez le programme complet du Séminaire Traces de guerre 2025-2026Retrouvez toutes les actualités  : \n\n\n\n\ndu laboratoire HisTeMé : HisTeMé – Actualités\n\n\n\ndu séminaire sur le blog Hypotheses – Autour de la Seconde Guerre mondiale
URL:https://ufr-hss.unicaen.fr/evenement/traces-de-guerre-2526-seance-5/
LOCATION:Caen · Mémorial de Caen\, Mémorial de Caen\, Esplanade Général Eisenhower\, Caen\, 14000\, France
CATEGORIES:Séminaire
ATTACH;FMTTYPE=image/png:https://ufr-hss.unicaen.fr/wp-content/uploads/sites/32/2025/09/UNICAEN_UFR-HSS_Bandeau_Seminaire-Traces-de-guerre_2025-2026.png
END:VEVENT
BEGIN:VEVENT
DTSTART;TZID=Europe/Paris:20260219T183000
DTEND;TZID=Europe/Paris:20260219T183000
DTSTAMP:20260421T220528
CREATED:20260122T135638Z
LAST-MODIFIED:20260204T140143Z
UID:89720-1771525800-1771525800@ufr-hss.unicaen.fr
SUMMARY:Danses mantiques
DESCRIPTION:Masterclass et conférence de Loïc Touzé et Mathieu Bouvier à la Maison de l’Étudiant de Caen (Campus 1). \n\n\n\nDans le cadre du programme de recherche « Les outils de l’actrice et de l’acteur » (LASLAR)\, nous invitons le danseur\, chorégraphe et pédagogue Loïc Touzé et l’artiste et chercheur en danse Mathieu Bouvier pour une masterclass et une conférence intitulées « Danses mantiques ». Ils partageront leur recherche sensible sur et à travers la danse\, mue par la « conviction que le geste dansé est une aventure\, une promesse de transformation et d’émancipation » (L. Touzé). \n\n\n\n‘‘Danses mantiques ?  Qu’est-ce que cela veut dire ? Des danses divinatoires ? \n\n\n\nCe sont avant tout des paris\, des gestes spéculatifs : « Et si on pouvait composer une danse par télépathie ?  Et si nos gestes en savaient plus long sur nous que nous-mêmes ? et sur l’avenir ? » \n\n\n\nConcrètement\, ce sont des jeux. Des jeux pour intriguer dans nos sensations\, dans la fabrique du geste et dans l’expérience du regard. Ce sont des « fictions sérieuses » pour nous faire faire des danses. Pour qu’une danse nous apparaisse\, il faut parfois lui tendre des pièges : pièges à voir\, pièges à danser. C’est de la magie\, si on veut. Mais c’est surtout très pragmatique\, car ça demande des techniques ; des techniques qu’on pourrait appeler fabuleuses. \n\n\n\n« Techniques fabuleuses »\, c’est aussi le titre d’un projet de recherche que nous élaborons avec d’autres artistes et chercheur.ses depuis deux ans : une enquête dans les workshops de l’art vivant\, à la recherche des gestes spéculatifs qui s’y inventent pour sentir\, agir et penser autrement\, ensemble. Nous en partagerons certains aspects théoriques et expérimentaux avec vous.’’ – Loïc Touzé et Mathieu Bouvier \n\n\n\nLoïc Touzé\n\n\n\n« Le geste du danseur participe d’une voyance.Le travail technique que je propose est issu de mon expérience de danseur et de pédagogue\, il est nourri par une approche des techniques dites somatiques. L’imaginaire y tient une place primordiale. Le corps est sollicité dans toutes ses dimensions relationnelles\, il est bougé plutôt que bougeant\, conquis plutôt que conquérant. Le geste y est expérience\, il participe d’une voyance. La technique enseignée est avant tout un apprentissage de l’effacement de la technique au profit d’une geste agissant. \n\n\n\nJe ne cherche pas à transmettre une esthétique ou une manière de composer mais je travaille à ce que tous types d’espaces physiques\, imaginaires\, psychiques\, perceptifs\, soient stimulés et dialoguent\, afin de favoriser et d’éclaircir les relations du danseur avec lui-même et son environnement. » L.T. \n\n\n\nLoïc Touzé crée des pièces depuis les années 1990\, tout en travaillant à faire apparaître la danse hors son périmètre spectaculaire. Il réalise des films\, invente avec d’autres artistes des objets protéiformes\, imagine des manifestations\, dans une attention aigue aux gestes et aux récits. Il participe également à de nombreux  projets en tant que chorégraphe ou dramaturge (nouveau cirque\, théâtre\, danse et musique). Il entreprend pendant plusieurs années avec Mathieu Bouvier une investigation autour de la notion de figure\, donnant lieu à une série d’ateliers et à la création du site pourunatlasdesfigures.net. Il est par ailleurs régulièrement invité à prendre part aux activités de recherche de la Manufacture de Lausanne. \n\n\n\nIl développe une activité pédagogique conséquente\, en France et dans le monde\, à destination de professionnels et d’amateurs. \n\n\n\nMathieu Bouvier\n\n\n\nMathieu Bouvier est docteur en philosophie de l’art\, réalisateur de films et collaborateur artistique pour la danse contemporaine. Ses recherches portent sur une approche figurale du geste (chorégraphique\, performatif\, plastique)\, dans ses fabriques artistiques et ses réceptions esthétiques. Il pratique la théorie des arts dans divers contextes éditoriaux\, pédagogiques et artistiques. Depuis 2018\, il éditorialise le site Pour un atlas des Figures\, plateforme contributive pour la recherche en art. Il développe actuellement un projet de recherche intitulé « Techniques fabuleuses\, pratiques spéculatives en art vivant et dans le champ social »\, soutenu par la Manufacture\, Haute école des arts de la scène\, Hes.so – IRMAS\, à Lausanne\, et par le Centre national de la danse à Pantin.
URL:https://ufr-hss.unicaen.fr/evenement/danses-mantiques/
LOCATION:Caen · Campus 1 · Maison de l’étudiant (MDE)\, Maison de l'étudiant Université de Caen\, Rue Colonel Usher\, Caen\, 14000\, France
CATEGORIES:Rencontre,Vie de campus
ATTACH;FMTTYPE=image/jpeg:https://ufr-hss.unicaen.fr/wp-content/uploads/sites/32/2026/02/danses_mantiques.jpg
END:VEVENT
BEGIN:VEVENT
DTSTART;TZID=Europe/Paris:20260220T140000
DTEND;TZID=Europe/Paris:20260220T170000
DTSTAMP:20260421T220528
CREATED:20251001T085218Z
LAST-MODIFIED:20251001T085220Z
UID:89355-1771596000-1771606800@ufr-hss.unicaen.fr
SUMMARY:La Fabrique des sources : textes\, objets\, sites de l’Antiquité à la Renaissance · 25|26 · Séance 11
DESCRIPTION:La prochaine séance du séminaire du CRAHAM\, « La Fabrique des sources : textes\, objets\, sites de l’Antiquité à la Renaissance »\, année 2025-2026\, aura lieu le vendredi 20 février 2026\, de 14h à 17h\, dans l‘amphithéâtre de la MRSH. \n\n\n\nCe séminaire couvre un champ chronologique allant de l’Antiquité grecque à la Renaissance en mettant en œuvre les sources historiques et littéraires comme les données archéologiques. Ces archives du passé seront considérées à travers des séances ponctuelles ou des cycles permettant d’aborder une question plus en détail. Dans tous les cas\, ces séances fourniront des éclairages sur la recherche en train de se faire\, d’où l’emploi du terme « fabrique » dans son titre. Certaines séances sont mutualisées avec le séminaire « Mondes nordiques et normands médiévaux » \n\n\n\nLe séminaire est ouvert aux étudiants de L3\, de Master et de Doctorat. Il est inscrit au programme des séminaires de l’ED HMPL (Histoire\, mémoire\, patrimoine\, langage). \n\n\n\nProgramme de la séance 11\n\n\n\nCoordination : Cécile Lagane (UMR CRAHAM\, UNICAEN) \n\n\n\nRécupérations et remplois des épavesCécile SAUVAGE (UMR CReAAH\, DRASSM)Après le naufrage… Tour d’horizon des pratiques de récupération d’épaves et étude de cas à Saint-Pierre-et-MiquelonPauline DUPONT (UMR CReAAH\, LARA\, Nantes université)Le recyclage des pièces de bois d’épaves dans l’architecture des sociétés insulaires et littorales \n\n\n\nEn savoir plus\n\n\n\n\nConsultez le programme complet du Séminaire La Fabrique des sources : textes\, objets\, sites de l’Antiquité à la Renaissance 2025-2026Toutes les actualités du Centre Michel de Boüard – CRAHAM : CRAHAM – Agenda
URL:https://ufr-hss.unicaen.fr/evenement/la-fabrique-des-sources-textes-objets-sites-de-lantiquite-a-la-renaissance-2526-seance-11/
LOCATION:Caen · Campus 1 · Bâtiment F · Maison de la recherche en sciences humaines (MRSH) · Amphi\, Campus 1\, Maison de la recherche en sciences humaines (MRSH)\, 1 Esplanade de la Paix\, Caen\, 14000\, France
CATEGORIES:Séminaire
ATTACH;FMTTYPE=image/jpeg:https://ufr-hss.unicaen.fr/wp-content/uploads/sites/32/2024/09/UNICAEN_UFR-HSS_Bandeau_Seminaire-La-fabrique-des-sources-2024-2025.jpg
END:VEVENT
BEGIN:VEVENT
DTSTART;TZID=Europe/Paris:20260220T143000
DTEND;TZID=Europe/Paris:20260220T173000
DTSTAMP:20260421T220528
CREATED:20250919T100412Z
LAST-MODIFIED:20250919T100413Z
UID:89247-1771597800-1771608600@ufr-hss.unicaen.fr
SUMMARY:Le Temps de l'Empire ibérique (XVe -XVIIIe siècles) · 25|26 · Séance 6
DESCRIPTION:Prochaine séance du séminaire pluridisciplinaire « Le Temps de l’Empire ibérique (XVe – XVIIIe siècles) – Négociations\, médiations\, réseaux dans l’empire ibérique (II) »\, année 2025-2026\, vendredi 20 février 2026\, de 14h30 à 17h30\, dans la salle des actes de la MRSH. \n\n\n\nResponsables scientifiques : Valeria Allaire\, Loann Berens\, Ariane Boltanski\, Marie-Lucie Copete\, Soïzic Croguennec\, Juan Carlos D’Amico\, Marion Duchesne\, Manuela Águeda García Garrido\, Alexandra Merle\, Alejandra Testino-Zafiropoulos \n\n\n\nLa participation est obligatoire pour toutes les étudiantes et tous les étudiants inscrits dans ce séminaire : 7SMRTEI (M1-S1)\, Y8SMRTEI (M1-S2)\, Y9SMRTEI (M2-S1)\, Y0SMRTEI (M2-S2) \n\n\n\nProgramme de la séance du 20 février\n\n\n\nSeyni Alice Gueye (EHESS)Information et connaissance dans la « visite de la terre » hispano-américaine : l’observatoire de Popayán (années 1550-1630)Guillaume Alonge (università degli Studi di Torino)Le diplomate et le missionnaire. Alessandro Valignano\, ambassadeur du roi à la cour de Toyotomi Hideyoshi. \n\n\n\nEn savoir plus\n\n\n\n\nConsultez le programme complet du Séminaire Le Temps de l’Empire ibérique 2025-2026Toutes les actualités du laboratoire HisTeMé : HisTeMé – Actualités
URL:https://ufr-hss.unicaen.fr/evenement/le-temps-de-lempire-iberique-xve-xviiie-siecles-2526-seance-6/
LOCATION:Caen · Campus 1 · Maison de la recherche en sciences humaines (MRSH) · Salle des Actes\, Campus 1\, Maison de la recherche en sciences humaines (MRSH)\, 1 Esplanade de la Paix\, Caen\, 14000\, France
CATEGORIES:Séminaire
ATTACH;FMTTYPE=image/png:https://ufr-hss.unicaen.fr/wp-content/uploads/sites/32/2025/09/UNICAEN_UFR-HSS_Bandeau_Seminaire-Temps-Empire-iberique_2025-2026.png
END:VEVENT
END:VCALENDAR