BEGIN:VCALENDAR
VERSION:2.0
PRODID:-//UFR Humanités et sciences sociales (HSS) - Université de Caen Normandie - ECPv6.15.18//NONSGML v1.0//EN
CALSCALE:GREGORIAN
METHOD:PUBLISH
X-ORIGINAL-URL:https://ufr-hss.unicaen.fr
X-WR-CALDESC:Évènements pour UFR Humanités et sciences sociales (HSS) - Université de Caen Normandie
REFRESH-INTERVAL;VALUE=DURATION:PT1H
X-Robots-Tag:noindex
X-PUBLISHED-TTL:PT1H
BEGIN:VTIMEZONE
TZID:Europe/Paris
BEGIN:DAYLIGHT
TZOFFSETFROM:+0100
TZOFFSETTO:+0200
TZNAME:CEST
DTSTART:20250330T010000
END:DAYLIGHT
BEGIN:STANDARD
TZOFFSETFROM:+0200
TZOFFSETTO:+0100
TZNAME:CET
DTSTART:20251026T010000
END:STANDARD
BEGIN:DAYLIGHT
TZOFFSETFROM:+0100
TZOFFSETTO:+0200
TZNAME:CEST
DTSTART:20260329T010000
END:DAYLIGHT
BEGIN:STANDARD
TZOFFSETFROM:+0200
TZOFFSETTO:+0100
TZNAME:CET
DTSTART:20261025T010000
END:STANDARD
BEGIN:DAYLIGHT
TZOFFSETFROM:+0100
TZOFFSETTO:+0200
TZNAME:CEST
DTSTART:20270328T010000
END:DAYLIGHT
BEGIN:STANDARD
TZOFFSETFROM:+0200
TZOFFSETTO:+0100
TZNAME:CET
DTSTART:20271031T010000
END:STANDARD
END:VTIMEZONE
BEGIN:VEVENT
DTSTART;TZID=Europe/Paris:20260428T000000
DTEND;TZID=Europe/Paris:20260429T235959
DTSTAMP:20260421T030830
CREATED:20260415T071858Z
LAST-MODIFIED:20260417T124346Z
UID:89982-1777334400-1777507199@ufr-hss.unicaen.fr
SUMMARY:Présentation des Ateliers de pratique théâtrale des promotions Licence Arts du spectacle
DESCRIPTION:Évènement organisé par le département des Arts du spectacle et la Comédie de Caen\, les 28 et 29 avril 2026\, au Théâtre des Cordes. \n\n\n\nLes études théâtrales à l’université de Caen Normandie\n\n\n\nL’équipe « Théâtre » des Arts du spectacle organise\, sous la supervision de Virginie Vaillant\, enseignante-chercheure associée au LASLAR\, cet événement pour mettre en valeur les ateliers de pratique théâtrale de la licence Arts du spectacle. Les étudiantes et étudiants des promotions L1 et L3 présenteront ainsi leurs travaux au Théâtre des Cordes sous la forme d’un petit festival le mardi 28 et vendredi 29 avril. \n\n\n\nProgramme\n\n\n\nMardi 28 avril 2026\n\n\n\nPrésentation de l’atelier « Du projet à la réalisation »\, promotion L3 Théâtre \n\n\n\n10h30-13hPetit guide illustré pour illustre Grand guide\, Édouard Elvis Bvouma8 femmes\, Robert ThomasVariations amoureuses\, Carole ThibautLes illusions comiques\, Olivier Py \n\n\n\n14h30-16hCyrano matériaux\, d’après Edmond RostandCendrillon Partie 1\, Joël PommeratCendrillon Partie 2\, Joël Pommerat Vendredi 13\, Jean-Pierre MartinezEnseignement de Virginie Vaillant \n\n\n\nExposition des maquettes de l’atelier « Création théâtrale – Scénographie »\, promotion L2 Arts du spectacleEnseignement de Patrick Demière\, scénographe  \n\n\n\nMercredi 29 avril 2026\n\n\n\nPrésentation des Ateliers de dramaturgie\, promotion L1 Arts du spectacle \n\n\n\n10h-14h | Autour de Angels in America\, de Tony Kushner (présentation de scènes\, exposition des maquettes et des travaux dramaturgiques)Enseignement de Virginie Lacroix\, Maëly Lequertier\, Valentine Peschard et Floriane Toussaint
URL:https://ufr-hss.unicaen.fr/evenement/presentation-des-ateliers-de-pratique-theatrale-des-promotions-licence-arts-du-spectacle/
LOCATION:Caen · Théâtre des Cordes · Comédie de Caen\, Théâtre des Cordes - Comédie de Caen\, 32 Rue des Cordes\, Caen\, 14000\, France
CATEGORIES:Formation,Théâtre
ATTACH;FMTTYPE=image/jpeg:https://ufr-hss.unicaen.fr/wp-content/uploads/sites/32/2026/04/Actu-festival-arts-spectacle.jpg
END:VEVENT
END:VCALENDAR